BEGIN:VCALENDAR
VERSION:2.0
PRODID:-//Rachel Cribbs-Hibler - ECPv6.15.20//NONSGML v1.0//EN
CALSCALE:GREGORIAN
METHOD:PUBLISH
X-WR-CALNAME:Rachel Cribbs-Hibler
X-ORIGINAL-URL:https://rachelcribbs.com
X-WR-CALDESC:Events for Rachel Cribbs-Hibler
REFRESH-INTERVAL;VALUE=DURATION:PT1H
X-Robots-Tag:noindex
X-PUBLISHED-TTL:PT1H
BEGIN:VTIMEZONE
TZID:America/Los_Angeles
BEGIN:DAYLIGHT
TZOFFSETFROM:-0800
TZOFFSETTO:-0700
TZNAME:PDT
DTSTART:20250309T100000
END:DAYLIGHT
BEGIN:STANDARD
TZOFFSETFROM:-0700
TZOFFSETTO:-0800
TZNAME:PST
DTSTART:20251102T090000
END:STANDARD
BEGIN:DAYLIGHT
TZOFFSETFROM:-0800
TZOFFSETTO:-0700
TZNAME:PDT
DTSTART:20260308T100000
END:DAYLIGHT
BEGIN:STANDARD
TZOFFSETFROM:-0700
TZOFFSETTO:-0800
TZNAME:PST
DTSTART:20261101T090000
END:STANDARD
BEGIN:DAYLIGHT
TZOFFSETFROM:-0800
TZOFFSETTO:-0700
TZNAME:PDT
DTSTART:20270314T100000
END:DAYLIGHT
BEGIN:STANDARD
TZOFFSETFROM:-0700
TZOFFSETTO:-0800
TZNAME:PST
DTSTART:20271107T090000
END:STANDARD
END:VTIMEZONE
BEGIN:VEVENT
DTSTART;TZID=America/Los_Angeles:20260309T000000
DTEND;TZID=America/Los_Angeles:20260313T235959
DTSTAMP:20260425T124527
CREATED:20260114T015812Z
LAST-MODIFIED:20260114T015813Z
UID:10002046-1773014400-1773446399@rachelcribbs.com
SUMMARY:RTC
DESCRIPTION:RTC\n\n\n\nDates and Second semester rehearsal schedule is available here and on the table in LT.\n\n\n\nCheck the landing page on the website for updated details.\n\n\n\nJoin RTC Remind for Company Updates: Text @7ekaf4h to 81010\n\n\n\nRTC instagram: @rhsplayers\n\n\n\n2025 2026 Rtc datesDownload \n\n\n\nS2 2025-2026 scheduleDownload \n\n\n\n\n\n\n\nPuffs directed by K. Kirby\n\n\n\nMonday- Tech\, Stage\, 4-9\n\n\n\nTuesday-Tech\, Stage\, 4-9\n\n\n\nWednesday- Tech\, Stage\, 4-9\n\n\n\nThursday- School Show/Rehearsal\, Stage\, 7 AM- 3 PM\n\n\n\nFriday- Opening\, Stage\, 5-10\n\n\n\nSaturday- Double Header\, Stage\, 12- 10 PM\n\n\n\nSunday- Matinee\, Stage\, 12-4\n\n\n\n \n\n\n\n \n\n\n\nJoin the Puffs Remind\n\n\n\nSend a text to 81010 write @cd9dbb\n\n\n\n \n\n\n\n \n\n\n\nSenior One Acts\n\n\n\nMemorize your lines\n\n\n\nMonday- DARK\n\n\n\nTuesday- DARK\n\n\n\nWednesday- DARK\n\n\n\nThursday- DARK\n\n\n\nFriday- DARK
URL:https://rachelcribbs.com/event/rtc-93/
CATEGORIES:RTC
END:VEVENT
BEGIN:VEVENT
DTSTART;TZID=America/Los_Angeles:20260309T000000
DTEND;TZID=America/Los_Angeles:20260313T235959
DTSTAMP:20260425T124527
CREATED:20260307T224917Z
LAST-MODIFIED:20260307T224927Z
UID:10002092-1773014400-1773446399@rachelcribbs.com
SUMMARY:Directors
DESCRIPTION:Schedule for the week\n\n\n\nMonday- Traditional\n\n\n\nTuesday- Traditional Meeting\n\n\n\nWednesday- Even\n\n\n\nThursday- Odd\n\n\n\nFriday-NO SCHOOL!\n\n\n\nTony Tuesday\n\n\n\nHow to Succeed in Business Without Really Trying\n\n\n\nResponse 2 DUE: May 27 by 11:59 PM\n\n\n\nTony Tuesday response Download \n\n\n\n\n\n\n\n\n\nDirectors\n\n\n\n1- Running Rehearsals\n\n\n\nStudents will learn how to run rehearsals including how to give notes and working with lots of different personalities\n\n\n\n2- OA rehearsal plan\n\n\n\nStudents will complete their rehearsal plans for prepping their show. Due block day
URL:https://rachelcribbs.com/event/directors-93/
CATEGORIES:Directors
END:VEVENT
BEGIN:VEVENT
DTSTART;TZID=America/Los_Angeles:20260309T000000
DTEND;TZID=America/Los_Angeles:20260313T235959
DTSTAMP:20260425T124527
CREATED:20260307T233702Z
LAST-MODIFIED:20260307T233724Z
UID:10002093-1773014400-1773446399@rachelcribbs.com
SUMMARY:Basics
DESCRIPTION:Schedule for the week\n\n\n\nMonday- Traditional\n\n\n\nTuesday- Traditional\n\n\n\nWednesday- Even\n\n\n\nThursday- Odd\n\n\n\nFriday-NO SCHOOL!\n\n\n\nTony Tuesday\n\n\n\nHow to Succeed in Business Without Really Trying\n\n\n\nResponse 2 DUE: May 27 by 11:59 PM\n\n\n\nTony Tuesday response Download \n\n\n\n\n\n\n\n\n\nBasics\n\n\n\n1- Italian Renaissance introduction\n\n\n\nStudents will learn about the Italian Renaissance Theatre and the Commedia dell Arte Characters\n\n\n\n2- Commedia Characters\n\n\n\nWe will discuss each character and take notes on each one’s characteristics\n\n\n\n \n\n\n\n\n\n\n\n\n\nCommedia-dell-stock-charactersDownload
URL:https://rachelcribbs.com/event/basics-96/
CATEGORIES:Basics
END:VEVENT
BEGIN:VEVENT
DTSTART;TZID=America/Los_Angeles:20260309T000000
DTEND;TZID=America/Los_Angeles:20260313T235959
DTSTAMP:20260425T124527
CREATED:20260308T001903Z
LAST-MODIFIED:20260308T001947Z
UID:10002094-1773014400-1773446399@rachelcribbs.com
SUMMARY:Theatre 1
DESCRIPTION:Schedule for the week\n\n\n\nMonday- Traditional\n\n\n\nTuesday- Traditional\n\n\n\nWednesday- Even\n\n\n\nThursday- Odd\n\n\n\nFriday-NO SCHOOL!\n\n\n\nTony Tuesday\n\n\n\nHow to Succeed in Business Without Really Trying\n\n\n\nResponse 2 DUE: May 27 by 11:59 PM\n\n\n\nTony Tuesday response Download \n\n\n\n\n\n\n\n\n\nTheatre 1\n\n\n\n1- Parts of a Theater\n\n\n\nWe will label the map of the Audra McDonald Theater\n\n\n\nParts of a theatre glossary Download \n\n\n\n2- You Can’t Take it With You\n\n\n\nWe will start working on the first act of You Can’t Take it With You. Script analysis and research doc
URL:https://rachelcribbs.com/event/theatre-1-99/
CATEGORIES:Theatre 1
END:VEVENT
BEGIN:VEVENT
DTSTART;TZID=America/Los_Angeles:20260309T000000
DTEND;TZID=America/Los_Angeles:20260313T235959
DTSTAMP:20260425T124527
CREATED:20260308T002406Z
LAST-MODIFIED:20260308T002445Z
UID:10002095-1773014400-1773446399@rachelcribbs.com
SUMMARY:Intro to Theatre
DESCRIPTION:Schedule for the week\n\n\n\nMonday- Traditional\n\n\n\nTuesday- Traditional\n\n\n\nWednesday- Even\n\n\n\nThursday- Odd\n\n\n\nFriday-NO SCHOOL!\n\n\n\nTony Tuesday\n\n\n\nHow to Succeed in Business Without Really Trying\n\n\n\nResponse 2 DUE: May 27 by 11:59 PM\n\n\n\nTony Tuesday response Download \n\n\n\n\n\n\n\n\n\nIntro to Theatre\n\n\n\n1- Parts of a Theater\n\n\n\nWe will label the map of the Audra McDonald Theater\n\n\n\nParts of a theatre glossary Download \n\n\n\n2- Stage Combat\n\n\n\nWe will continue hand to hand Stage Combat unit. Discuss consent and safety. Google doc\n\n\n\nStage-Combat-handout Download
URL:https://rachelcribbs.com/event/intro-to-theatre-100/
CATEGORIES:Intro to Theatre
END:VEVENT
BEGIN:VEVENT
DTSTART;TZID=America/Los_Angeles:20260309T000000
DTEND;TZID=America/Los_Angeles:20260313T235959
DTSTAMP:20260425T124528
CREATED:20260308T185747Z
LAST-MODIFIED:20260309T151253Z
UID:10002096-1773014400-1773446399@rachelcribbs.com
SUMMARY:Styles
DESCRIPTION:Schedule for the week\n\n\n\nMonday- Traditional\n\n\n\nTuesday- Traditional\n\n\n\nWednesday- Even\n\n\n\nThursday- Odd\n\n\n\nFriday-NO SCHOOL!\n\n\n\nTony Tuesday\n\n\n\nHow to Succeed in Business Without Really Trying\n\n\n\nResponse 2 DUE: May 27 by 11:59 PM\n\n\n\nTony Tuesday response Download \n\n\n\n\n\n\n\n\n\nStyles\n\n\n\n1- Shakespeare monologue\n\n\n\nStudents will memorize and scan their Shakespeare monologue\, research\, write what each line means\n\n\n\n2- Monologue performances\n\n\n\nStudents will start watching monologues from other Shakespeare shows. Henry V: Once More into the Breach and Crispin’s Day
URL:https://rachelcribbs.com/event/styles-97/
CATEGORIES:Styles
END:VEVENT
BEGIN:VEVENT
DTSTART;TZID=America/Los_Angeles:20260309T000000
DTEND;TZID=America/Los_Angeles:20260313T235959
DTSTAMP:20260425T124529
CREATED:20260308T190014Z
LAST-MODIFIED:20260308T190017Z
UID:10002097-1773014400-1773446399@rachelcribbs.com
SUMMARY:Costume
DESCRIPTION:Schedule for the week\n\n\n\nMonday- Traditional\n\n\n\nTuesday- Traditional Meeting\n\n\n\nWednesday- Even\n\n\n\nThursday- Odd\n\n\n\nFriday-NO SCHOOL!\n\n\n\nTony Tuesday\n\n\n\nHow to Succeed in Business Without Really Trying\n\n\n\nResponse 2 DUE: May 27 by 11:59 PM\n\n\n\nTony Tuesday response Download \n\n\n\n\n\n\n\n\n\nCostume\n\n\n\n1- Puffs\n\n\n\nAny changes/adjustments done. Create trackers for quick changes\n\n\n\n2- OA\n\n\n\nStudents will complete measurements and start pulling for their OA
URL:https://rachelcribbs.com/event/costume-94/
CATEGORIES:Costume
END:VEVENT
BEGIN:VEVENT
DTSTART;TZID=America/Los_Angeles:20260312T000000
DTEND;TZID=America/Los_Angeles:20260322T235959
DTSTAMP:20260425T124529
CREATED:20250512T171518Z
LAST-MODIFIED:20250826T002238Z
UID:10001888-1773273600-1774223999@rachelcribbs.com
SUMMARY:Puffs
DESCRIPTION:Week 1\n\n\n\nThursday- 9:30 school show\n\n\n\nFriday- 7 PM opening\n\n\n\nSaturday- 2 PM matinee\, 7 PM evening\n\n\n\nSunday- 2 PM matinee\n\n\n\n \n\n\n\nWeek 2\n\n\n\nWednesday- 9:30 school show\n\n\n\nFriday- 7 PM opening\n\n\n\nSaturday- 2 PM matinee\, 7 PM evening\n\n\n\nSunday- 2 PM matinee/ Senior Celebration
URL:https://rachelcribbs.com/event/puffs/
CATEGORIES:RTC
END:VEVENT
END:VCALENDAR