BEGIN:VCALENDAR
VERSION:2.0
PRODID:-//Rachel Cribbs-Hibler - ECPv6.15.20//NONSGML v1.0//EN
CALSCALE:GREGORIAN
METHOD:PUBLISH
X-WR-CALNAME:Rachel Cribbs-Hibler
X-ORIGINAL-URL:https://rachelcribbs.com
X-WR-CALDESC:Events for Rachel Cribbs-Hibler
REFRESH-INTERVAL;VALUE=DURATION:PT1H
X-Robots-Tag:noindex
X-PUBLISHED-TTL:PT1H
BEGIN:VTIMEZONE
TZID:America/Los_Angeles
BEGIN:DAYLIGHT
TZOFFSETFROM:-0800
TZOFFSETTO:-0700
TZNAME:PDT
DTSTART:20250309T100000
END:DAYLIGHT
BEGIN:STANDARD
TZOFFSETFROM:-0700
TZOFFSETTO:-0800
TZNAME:PST
DTSTART:20251102T090000
END:STANDARD
BEGIN:DAYLIGHT
TZOFFSETFROM:-0800
TZOFFSETTO:-0700
TZNAME:PDT
DTSTART:20260308T100000
END:DAYLIGHT
BEGIN:STANDARD
TZOFFSETFROM:-0700
TZOFFSETTO:-0800
TZNAME:PST
DTSTART:20261101T090000
END:STANDARD
BEGIN:DAYLIGHT
TZOFFSETFROM:-0800
TZOFFSETTO:-0700
TZNAME:PDT
DTSTART:20270314T100000
END:DAYLIGHT
BEGIN:STANDARD
TZOFFSETFROM:-0700
TZOFFSETTO:-0800
TZNAME:PST
DTSTART:20271107T090000
END:STANDARD
END:VTIMEZONE
BEGIN:VEVENT
DTSTART;TZID=America/Los_Angeles:20260126T000000
DTEND;TZID=America/Los_Angeles:20260130T235959
DTSTAMP:20260425T112754
CREATED:20260114T010404Z
LAST-MODIFIED:20260114T010407Z
UID:10002040-1769385600-1769817599@rachelcribbs.com
SUMMARY:RTC
DESCRIPTION:RTC \n\n\n\nDates and Second semester rehearsal schedule is available here and on the table in LT.\n\n\n\nCheck the landing page on the website for updated details.\n\n\n\nJoin RTC Remind for Company Updates: Text @7ekaf4h to 81010\n\n\n\nRTC instagram: @rhsplayers\n\n\n\n2025 2026 Rtc datesDownload \n\n\n\nS2 2025-2026 scheduleDownload \n\n\n\n\n\n\n\nPuffs directed by K. Kirby\n\n\n\nMonday- Rehearsal\, LT\, 4-7\n\n\n\nTuesday-Rehearsal\, LT\, 4-7\n\n\n\nWednesday- DARK- Festival\n\n\n\nThursday- Rehearsal\, LT\, 4:30-7\n\n\n\nFriday- DARK\n\n\n\n \n\n\n\n \n\n\n\nJoin the Puffs Remind\n\n\n\nSend a text to 81010 write @cd9dbb\n\n\n\n \n\n\n\n \n\n\n\nConflicts form\n\n\n\nplease complete a new conflicts form for the next few months\n\n\n\nhttps://forms.gle/rbwNJtasPrLvtEh78\n\n\n\n \n\n\n\n \n\n\n\nFUSD Theatre Festival\n\n\n\nWe are hosting the Festival on January 28. Call 8:30-5\, Crew/performers wear blacks. Competition students must provide their own lunch
URL:https://rachelcribbs.com/event/rtc-87/
CATEGORIES:RTC
END:VEVENT
BEGIN:VEVENT
DTSTART;TZID=America/Los_Angeles:20260126T000000
DTEND;TZID=America/Los_Angeles:20260130T235959
DTSTAMP:20260425T112754
CREATED:20260121T153204Z
LAST-MODIFIED:20260123T004825Z
UID:10002054-1769385600-1769817599@rachelcribbs.com
SUMMARY:Directors
DESCRIPTION:Schedule for the week\n\n\n\nMonday- Traditional\n\n\n\nTuesday- Traditional Meeting\n\n\n\nWednesday- Even\n\n\n\nThursday- Odd\n\n\n\nFriday-Traditional\n\n\n\nTony Tuesday\n\n\n\nFun Home\n\n\n\nResponse 2 DUE: May 27 by 11:59 PM\n\n\n\nTony Tuesday response Download \n\n\n\n\n\n\n\n\n\nDirectors\n\n\n\n1- Greek Theatre\n\n\n\nStudents will run rehearsals and give notes on Antigone.\n\n\n\n2- Blocking\n\n\n\nStudents will continue blocking The Rats and their OA. We will work with group blocking in class\n\n\n\n3- OA Auditions Prep\n\n\n\nStudents will learn how to prep for auditions \, choose sides and write a character list. Students will have an opportunity to discuss what they are looking for to the class\n\n\n\nDue Friday:\n\n\n\n1- Character list including names\, ages\, genders\, adjectives and a short explanation of the character. Must also include WOP and a summary of your show\n\n\n\n2- Sides for the characters you want to see read
URL:https://rachelcribbs.com/event/directors-87/
CATEGORIES:Directors
END:VEVENT
BEGIN:VEVENT
DTSTART;TZID=America/Los_Angeles:20260126T000000
DTEND;TZID=America/Los_Angeles:20260130T235959
DTSTAMP:20260425T112755
CREATED:20260121T153714Z
LAST-MODIFIED:20260121T154024Z
UID:10002055-1769385600-1769817599@rachelcribbs.com
SUMMARY:Styles
DESCRIPTION:Schedule for the week\n\n\n\nMonday- Traditional\n\n\n\nTuesday- Traditional Meeting\n\n\n\nWednesday- Even\n\n\n\nThursday- Odd\n\n\n\nFriday-Traditional\n\n\n\nTony Tuesday\n\n\n\nFun Home\n\n\n\nResponse 2 DUE: May 27 by 11:59 PM\n\n\n\nTony Tuesday response Download \n\n\n\n\n\n\n\n\n\nStyles\n\n\n\n1- Monologue\n\n\n\nStudents will memorize their monologue\n\n\n\n2- Renaissance Theatre Intro\n\n\n\nStudents will learn about the Renaissance movement in theatre. Read article and watch videos\n\n\n\n3- OA Auditions\n\n\n\nStudents will read and discuss the Director Statements from each show and decide which shows they want to be considered for
URL:https://rachelcribbs.com/event/styles-90/
CATEGORIES:Styles
END:VEVENT
BEGIN:VEVENT
DTSTART;TZID=America/Los_Angeles:20260126T000000
DTEND;TZID=America/Los_Angeles:20260130T235959
DTSTAMP:20260425T112755
CREATED:20260121T153905Z
LAST-MODIFIED:20260121T154045Z
UID:10002056-1769385600-1769817599@rachelcribbs.com
SUMMARY:Basics
DESCRIPTION:Schedule for the week\n\n\n\nMonday- Traditional\n\n\n\nTuesday- Traditional Meeting\n\n\n\nWednesday- Even\n\n\n\nThursday- Odd\n\n\n\nFriday-Traditional\n\n\n\nTony Tuesday\n\n\n\nFun Home\n\n\n\nResponse 2 DUE: May 27 by 11:59 PM\n\n\n\nTony Tuesday response Download \n\n\n\n\n\n\n\n\n\nBasics\n\n\n\n1- Everyman\n\n\n\nStudents will read and analyze the first ever written play: Everyman\n\n\n\neveryman Download \n\n\n\n2- Monologue\n\n\n\nStudents will memorize their monologue\n\n\n\n3- OA Auditions\n\n\n\nStudents will read and discuss the Director Statements from each show and decide which shows they want to be considered for
URL:https://rachelcribbs.com/event/basics-90/
CATEGORIES:Basics
END:VEVENT
BEGIN:VEVENT
DTSTART;TZID=America/Los_Angeles:20260126T000000
DTEND;TZID=America/Los_Angeles:20260130T235959
DTSTAMP:20260425T112755
CREATED:20260121T154309Z
LAST-MODIFIED:20260121T154313Z
UID:10002057-1769385600-1769817599@rachelcribbs.com
SUMMARY:Theatre 1
DESCRIPTION:Schedule for the week\n\n\n\nMonday- Traditional\n\n\n\nTuesday- Traditional Meeting\n\n\n\nWednesday- Even\n\n\n\nThursday- Odd\n\n\n\nFriday-Traditional\n\n\n\nTony Tuesday\n\n\n\nFun Home\n\n\n\nResponse 2 DUE: May 27 by 11:59 PM\n\n\n\nTony Tuesday response Download \n\n\n\n\n\n\n\n\n\nTheatre 1\n\n\n\n1- Vocab quiz 9 and 10\n\n\n\nStudents will take a quiz on weeks 9 and 10\n\n\n\nVocabulary Download \n\n\n\n2- Greek Theatre scene\n\n\n\nStudents will run rehearsal for Antigone \n\n\n\n3- Monologue\n\n\n\nStudents will memorize their monologue\n\n\n\n4- OA Auditions\n\n\n\nStudents will read and discuss the Director Statements from each show and decide which shows they want to be considered for
URL:https://rachelcribbs.com/event/theatre-1-93/
CATEGORIES:Theatre 1
END:VEVENT
BEGIN:VEVENT
DTSTART;TZID=America/Los_Angeles:20260126T000000
DTEND;TZID=America/Los_Angeles:20260130T235959
DTSTAMP:20260425T112755
CREATED:20260121T154509Z
LAST-MODIFIED:20260121T154922Z
UID:10002058-1769385600-1769817599@rachelcribbs.com
SUMMARY:Intro to Theatre
DESCRIPTION:Schedule for the week\n\n\n\nMonday- Traditional\n\n\n\nTuesday- Traditional Meeting\n\n\n\nWednesday- Even\n\n\n\nThursday- Odd\n\n\n\nFriday-Traditional\n\n\n\nTony Tuesday\n\n\n\nFun Home\n\n\n\nResponse 2 DUE: May 27 by 11:59 PM\n\n\n\nTony Tuesday response Download \n\n\n\n\n\n\n\n\n\nWednesday- FUSD festival. Class will go to Folklorico room for class\n\n\n\n \n\n\n\nIntro to Theatre\n\n\n\n1- Vocab quiz weeks 9 and 10\n\n\n\nStudents will take a quiz on weeks 9 and 10\n\n\n\nVocabulary Download \n\n\n\n2- Production\n\n\n\nStudents will finish research for their scenes\, pull props\, costumes and set pieces\n\n\n\n3- Blocking\n\n\n\nStudents will block their scenes
URL:https://rachelcribbs.com/event/intro-to-theatre-94/
CATEGORIES:Intro to Theatre
END:VEVENT
BEGIN:VEVENT
DTSTART;TZID=America/Los_Angeles:20260126T000000
DTEND;TZID=America/Los_Angeles:20260130T235959
DTSTAMP:20260425T112755
CREATED:20260121T154711Z
LAST-MODIFIED:20260121T154756Z
UID:10002059-1769385600-1769817599@rachelcribbs.com
SUMMARY:Costume
DESCRIPTION:Schedule for the week\n\n\n\nMonday- Traditional\n\n\n\nTuesday- Traditional Meeting\n\n\n\nWednesday- Even\n\n\n\nThursday- Odd\n\n\n\nFriday-Traditional\n\n\n\nTony Tuesday\n\n\n\nFun Home\n\n\n\nResponse 2 DUE: May 27 by 11:59 PM\n\n\n\nTony Tuesday response Download \n\n\n\n\n\n\n\n\n\nWednesday- FUSD festival. Students will go to room 302 for class\n\n\n\n \n\n\n\nCostume\n\n\n\n1- Puffs\n\n\n\nAny changes/adjustments done\n\n\n\n2- Sewing\n\n\n\nStudents will continue learning how to hand sew and have an opportunity to build a garment\n\n\n\n3- OA Director statements\n\n\n\nStudents will read and code the director statements for each OA and choose which shows they want to Design
URL:https://rachelcribbs.com/event/costume-88/
CATEGORIES:Costume
END:VEVENT
BEGIN:VEVENT
DTSTART;TZID=America/Los_Angeles:20260128T000000
DTEND;TZID=America/Los_Angeles:20260128T235959
DTSTAMP:20260425T112755
CREATED:20250513T163020Z
LAST-MODIFIED:20250513T163022Z
UID:10001899-1769558400-1769644799@rachelcribbs.com
SUMMARY:FUSD Theatre Festival
DESCRIPTION:
URL:https://rachelcribbs.com/event/fusd-theatre-festival-4/
CATEGORIES:RTC
END:VEVENT
END:VCALENDAR