BEGIN:VCALENDAR
VERSION:2.0
PRODID:-//Rachel Cribbs-Hibler - ECPv6.15.20//NONSGML v1.0//EN
CALSCALE:GREGORIAN
METHOD:PUBLISH
X-ORIGINAL-URL:https://rachelcribbs.com
X-WR-CALDESC:Events for Rachel Cribbs-Hibler
REFRESH-INTERVAL;VALUE=DURATION:PT1H
X-Robots-Tag:noindex
X-PUBLISHED-TTL:PT1H
BEGIN:VTIMEZONE
TZID:America/Los_Angeles
BEGIN:DAYLIGHT
TZOFFSETFROM:-0800
TZOFFSETTO:-0700
TZNAME:PDT
DTSTART:20240310T100000
END:DAYLIGHT
BEGIN:STANDARD
TZOFFSETFROM:-0700
TZOFFSETTO:-0800
TZNAME:PST
DTSTART:20241103T090000
END:STANDARD
BEGIN:DAYLIGHT
TZOFFSETFROM:-0800
TZOFFSETTO:-0700
TZNAME:PDT
DTSTART:20250309T100000
END:DAYLIGHT
BEGIN:STANDARD
TZOFFSETFROM:-0700
TZOFFSETTO:-0800
TZNAME:PST
DTSTART:20251102T090000
END:STANDARD
BEGIN:DAYLIGHT
TZOFFSETFROM:-0800
TZOFFSETTO:-0700
TZNAME:PDT
DTSTART:20260308T100000
END:DAYLIGHT
BEGIN:STANDARD
TZOFFSETFROM:-0700
TZOFFSETTO:-0800
TZNAME:PST
DTSTART:20261101T090000
END:STANDARD
END:VTIMEZONE
BEGIN:VEVENT
DTSTART;TZID=America/Los_Angeles:20250915T000000
DTEND;TZID=America/Los_Angeles:20250919T235959
DTSTAMP:20260425T085307
CREATED:20250812T204243Z
LAST-MODIFIED:20250917T141139Z
UID:10001925-1757894400-1758326399@rachelcribbs.com
SUMMARY:RTC
DESCRIPTION:RTC\n\n\n\nDates and First semester rehearsal schedule is available here and on the table in LT.\n\n\n\nCheck the landing page on the website for updated details.\n\n\n\nJoin RTC Remind for Company Updates: Text @7ekaf4h to 81010\n\n\n\nRTC instagram: @rhsplayers\n\n\n\n2025 2026 Rtc datesDownload \n\n\n\nS1 2025-2026 scheduleDownload\n\n\n\nS2 2025-2026 schedule Download \n\n\n\nFall Workshop\n\n\n\nTuesday- Scene Shop Organization Workshop with Crossman\, Scene Shop\, 4-6\n\n\n\nSkills Workshops Download \n\n\n\n\n\n\n\n \n\n\n\nPuffs directed by K. Kirby\n\n\n\nMonday- Rehearsal\, LT\, 4-7\n\n\n\nTuesday- DARK\n\n\n\nWednesday- Rehearsal\, LT\, 4-7\n\n\n\nThursday- DARK\n\n\n\nFriday- DARK\n\n\n\nJoin Puffs Remind: Text @cd9dbb to 81010\n\n\n\nConflicts\n\n\n\nAll student artists are expected to complete a conflicts list by the due date. If no conflicts list is completed\, we are not obligated to honor any conflicts.\n\n\n\nhttps://forms.gle/iMDHqpU6Hos1JG9K8\n\n\n\nContracts\n\n\n\nAll student artists and parents must read\, agree and sign prior to being allowed to work on the production\n\n\n\nPuffs contract\n\n\n\nPuffs student production team contract\n\n\n\n \n\n\n\n \n\n\n\nWant to work Puffs crew?\n\n\n\nUse the QR code in LT to get to the application. Or click the link\n\n\n\nhttps://docs.google.com/forms/d/e/1FAIpQLSeMcQQfdiVyGn9u_WNyeJz47gg24G0CilzOspjWAJPngE4VuQ/viewform\n\n\n\n \n\n\n\nBoise\, Idaho directed by Sayuri Soto\n\n\n\nMonday- Rehearsal\, Studio B\, 4-6\n\n\n\nTuesday-Rehearsal\, LT\, 4-6\n\n\n\nWednesday-DARK\n\n\n\nThursday-Rehearsal\, LT\, 4:30-7\n\n\n\nFriday- DARK\n\n\n\nJoin One Act Remind: Text @g4beek to 81010\n\n\n\nConflicts\n\n\n\nAll student artists are expected to complete a conflicts list by the due date. If no conflicts list is completed\, we are not obligated to honor any conflicts.\n\n\n\nhttps://forms.gle/xnB1sz3rmxsXk8ba9\n\n\n\nContracts\n\n\n\nAll student artists and parents must read\, agree and sign prior to being allowed to work on the production\n\n\n\nOA contract Download\n\n\n\nOA prod contract Download\n\n\n\n \n\n\n\nWant to work Boise\, Idaho crew?\n\n\n\nUse the QR code in LT to get to the application. Or click the link\n\n\n\nhttps://docs.google.com/forms/d/e/1FAIpQLSet2-U2POYMXwWJZiOVpLVblzkaX-44h56kZqxsg08hRcEHag/viewform\n\n\n\n \n\n\n\nCabaret\n\n\n\nOur first Cabaret of the year is Sept 26. Tech rehearsal is Sept 25\, mandatory for all performances. Sign up using the google form link.\n\n\n\nThis is the last week you can sign up for the Cabaret\n\n\n\nhttps://forms.gle/UtYN6dL41Hms6V6y6
URL:https://rachelcribbs.com/event/rtc-72/
CATEGORIES:RTC
END:VEVENT
BEGIN:VEVENT
DTSTART;TZID=America/Los_Angeles:20250915T000000
DTEND;TZID=America/Los_Angeles:20250919T235959
DTSTAMP:20260425T085307
CREATED:20250902T192930Z
LAST-MODIFIED:20250910T194329Z
UID:10001938-1757894400-1758326399@rachelcribbs.com
SUMMARY:Intro to Theatre
DESCRIPTION:Schedule for the week\n\n\n\nMonday- Traditional\n\n\n\nTuesday- Traditional Meeting\n\n\n\nWednesday- Even\n\n\n\nThursday- Odd\n\n\n\nFriday-Traditional\n\n\n\nTony Tuesday\n\n\n\nNewsies\n\n\n\nResponse 1 DUE: Dec 10 by 11:59 PM\n\n\n\nResponse 2 DUE: May 27 by 11:59 PM\n\n\n\nTony Tuesday response Download \n\n\n\n\n\n\n\n\n\nIntro to Theatre\n\n\n\n1- Vocab- stage planes quiz\n\n\n\nStudents will take a quiz on the 9 planes on a stage and the power of each.\n\n\n\nQuiz Friday\, Sept 19\n\n\n\nVocabulary Download \n\n\n\n2- Pantomime Unit\n\n\n\nStudents will begin working on our first Acting Unit: Pantomime. Students will participate in guided pantomime exercises. Students will create a 1 minute pantomime for an in class performance.\n\n\n\nPantomime AssignmentDownload\n\n\n\nWrite script\, block this week\n\n\n\n3- Favorite Actor Assignment- Due Block day\n\n\n\nStudents will present their Favorite Actor assignment in class on Block day. Turn in to rachel.hibler@therhsriders.com\n\n\n\nlabel: 2/your name/favorite actor\n\n\n\nwho’s your favorite actor Download
URL:https://rachelcribbs.com/event/intro-to-theatre-79/
CATEGORIES:Intro to Theatre
END:VEVENT
BEGIN:VEVENT
DTSTART;TZID=America/Los_Angeles:20250915T000000
DTEND;TZID=America/Los_Angeles:20250919T235959
DTSTAMP:20260425T085307
CREATED:20250902T193232Z
LAST-MODIFIED:20250909T145250Z
UID:10001939-1757894400-1758326399@rachelcribbs.com
SUMMARY:Theatre 1
DESCRIPTION:Schedule for the week\n\n\n\nMonday- Traditional\n\n\n\nTuesday- Traditional Meeting\n\n\n\nWednesday- Even\n\n\n\nThursday- Odd\n\n\n\nFriday-Traditional\n\n\n\nTony Tuesday\n\n\n\nNewsies\n\n\n\nResponse 1 DUE: Dec 10 by 11:59 PM\n\n\n\nResponse 2 DUE: May 27 by 11:59 PM\n\n\n\nTony Tuesday response Download \n\n\n\n\n\n\n\n\n\nTheatre 1\n\n\n\n1- Vocab- stage planes quiz\n\n\n\nStudents will take a quiz on the 9 planes on a stage and the power of each.\n\n\n\nQuiz Friday\, Sept 19\n\n\n\nVocabulary Download \n\n\n\n2- Warm ups/Improv games\n\n\n\nStudents will continue to learn warm ups and play improv games. Students will create a 5 minute personal warm up for their preshow prep\n\n\n\ngoogle doc: period/your name/warmup\n\n\n\n3- Enunciation Unit\n\n\n\nStudents will choose a tongue twister to memorize for our Enunciation Unit. Memorization done this week. \n\n\n\nWe will review the Enunciation packet and discuss how their voice works with their body\n\n\n\nTaking-Care-of-Your-VoiceDownload
URL:https://rachelcribbs.com/event/theatre-1-78/
CATEGORIES:Theatre 1
END:VEVENT
BEGIN:VEVENT
DTSTART;TZID=America/Los_Angeles:20250915T000000
DTEND;TZID=America/Los_Angeles:20250919T235959
DTSTAMP:20260425T085307
CREATED:20250903T183837Z
LAST-MODIFIED:20250911T215812Z
UID:10001940-1757894400-1758326399@rachelcribbs.com
SUMMARY:Basics
DESCRIPTION:Schedule for the week\n\n\n\nMonday- Traditional\n\n\n\nTuesday- Traditional Meeting\n\n\n\nWednesday- Even\n\n\n\nThursday- Odd\n\n\n\nFriday-Traditional\n\n\n\nTony Tuesday\n\n\n\nNewsies\n\n\n\nResponse 1 DUE: Dec 10 by 11:59 PM\n\n\n\nResponse 2 DUE: May 27 by 11:59 PM\n\n\n\nTony Tuesday response Download \n\n\n\n\n\n\n\n\n\nBasics\n\n\n\n1- Warm ups/Games\n\n\n\nStudents will learn/review verbal and physical warms ups. Students will create their own personal 5 minute warm up. Building on their warm up from last year.\n\n\n\n2- Uta Hagen Unit\n\n\n\nStudents will begin work on their Uta Hagen technique. Vocabulary week 2. Review her method and 9 questions.\n\n\n\nUta-Hagen-acting-method Download \n\n\n\nUta-Hagen-Method Download \n\n\n\nuta-hagen-vocab Download \n\n\n\n3- Uta Hagen Method Assignment- Due Monday\, presentations Monday\n\n\n\nStudents will work with a partner and choose a question from the 9 questions to discuss and explore in class. Present in an interesting way to the class\n\n\n\nhagen-directions Download \n\n\n\n4- Hagen exercises\n\n\n\nStudents will work through all the Uta Hagen acting exercises
URL:https://rachelcribbs.com/event/basics-75/
CATEGORIES:Basics
END:VEVENT
BEGIN:VEVENT
DTSTART;TZID=America/Los_Angeles:20250915T000000
DTEND;TZID=America/Los_Angeles:20250919T235959
DTSTAMP:20260425T085307
CREATED:20250903T184047Z
LAST-MODIFIED:20250911T215724Z
UID:10001941-1757894400-1758326399@rachelcribbs.com
SUMMARY:Styles
DESCRIPTION:Schedule for the week\n\n\n\nMonday- Traditional\n\n\n\nTuesday- Traditional Meeting\n\n\n\nWednesday- Even\n\n\n\nThursday- Odd\n\n\n\nFriday-Traditional\n\n\n\nTony Tuesday\n\n\n\nNewsies\n\n\n\nResponse 1 DUE: Dec 10 by 11:59 PM\n\n\n\nResponse 2 DUE: May 27 by 11:59 PM\n\n\n\nTony Tuesday response Download \n\n\n\n\n\n\n\n\n\nStyles\n\n\n\n1- Warm ups/Games\n\n\n\nStudents will learn/review verbal and physical warms ups. Students will create their own personal 5 minute warm up. Building on their warm up from last year.\n\n\n\n2- Meisner/Adler Unit\n\n\n\nStudents will begin learning about the Meisner/Adler acting techniques. Vocabulary week 2. Read and discuss the methods.\n\n\n\nMEISNER-TECHNIQUE-reacting-and-preparation-activityDownload \n\n\n\nMeisner-adler-vocabDownload \n\n\n\n3- Meisner/Adler Assignment- Due Block day\n\n\n\nStudents will research one technique and present it to the class in and interesting way. Presentations on Block day\n\n\n\nmeisner adler directions Download \n\n\n\n4- Meisner Exercises\n\n\n\nStudents will work on the Meisner exercises in class
URL:https://rachelcribbs.com/event/styles-75/
CATEGORIES:Styles
END:VEVENT
BEGIN:VEVENT
DTSTART;TZID=America/Los_Angeles:20250915T000000
DTEND;TZID=America/Los_Angeles:20250919T235959
DTSTAMP:20260425T085308
CREATED:20250903T184704Z
LAST-MODIFIED:20250903T184707Z
UID:10001942-1757894400-1758326399@rachelcribbs.com
SUMMARY:Directors
DESCRIPTION:Schedule for the week\n\n\n\nMonday- Traditional\n\n\n\nTuesday- Traditional Meeting\n\n\n\nWednesday- Even\n\n\n\nThursday- Odd\n\n\n\nFriday-Traditional\n\n\n\nTony Tuesday\n\n\n\nNewsies\n\n\n\nResponse 1 DUE: Dec 10 by 11:59 PM\n\n\n\nResponse 2 DUE: May 27 by 11:59 PM\n\n\n\nTony Tuesday response Download \n\n\n\n\n\n\n\n\n\nDirectors\n\n\n\n1- Warm ups/Games\n\n\n\nStudents will learn/review verbal and physical warms ups. Students will teach warm ups and improv games\n\n\n\n2- Production Team Vocab\n\n\n\nStudents will learn the words for Vocab week 1\n\n\n\nProduction-Team-VocabularyDownload\n\n\n\n3- Presentational VS Representational Theatre\n\n\n\nStudents will learn the two types of show style for design. \n\n\n\nPresentational-VS-Representational-Theatre-articleDownload\n\n\n\n4- Acting Methods Assignment\n\n\n\nStudents will divide into partners and choose one Acting Method to research and present in class. Must present in an interesting way\n\n\n\nPresentations next week on block day\n\n\n\nStanislavsky\, Hagen\, Meisner\, Adler\n\n\n\nMEISNER-TECHNIQUE-reacting-and-preparation-activity Download \n\n\n\nUta-Hagen-acting-methodDownload \n\n\n\nUta-Hagen-Method Download \n\n\n\nuta-hagen-vocab Download \n\n\n\nMeisner-adler-vocab Download \n\n\n\nthe-stanislavsky-system-the-processDownload\n\n\n\n5- One Act reading/coding\n\n\n\nStudents must read and choose their One Act to direct. Once approved\, they can begin coding the script and their research doc. Due by end of September.
URL:https://rachelcribbs.com/event/directors-72/
CATEGORIES:Directors
END:VEVENT
BEGIN:VEVENT
DTSTART;TZID=America/Los_Angeles:20250915T000000
DTEND;TZID=America/Los_Angeles:20250919T235959
DTSTAMP:20260425T085308
CREATED:20250903T184955Z
LAST-MODIFIED:20250910T193634Z
UID:10001943-1757894400-1758326399@rachelcribbs.com
SUMMARY:Costume
DESCRIPTION:Schedule for the week\n\n\n\nMonday- Traditional\n\n\n\nTuesday- Traditional Meeting\n\n\n\nWednesday- Even\n\n\n\nThursday- Odd\n\n\n\nFriday-Traditional\n\n\n\nTony Tuesday\n\n\n\nNewsies\n\n\n\nResponse 1 DUE: Dec 10 by 11:59 PM\n\n\n\nResponse 2 DUE: May 27 by 11:59 PM\n\n\n\nTony Tuesday response Download \n\n\n\n\n\n\n\n\n\nCostume\n\n\n\n1- Puffs research\n\n\n\nStudents will research design ideas for their costumes and actors.\n\n\n\n2- Boise\, Idaho research\n\n\n\nStudents will research design ideas for the RTC show Boise\, Idaho.\n\n\n\n3- Mock ups\n\n\n\nStudents will learn how to use body templates for drawing their costume designs.\n\n\n\n \n\n\n\nLighting/Sound\n\n\n\n1- Mood\n\n\n\nStudents will learn how to design color for lighting scenes using mood\n\n\n\n\n\n\n\n\n\n\n\n\n\n\n\n\n\n\n\n\n\n2- Create all light cue and sound cue sheets for Puffs and Boise\n\n\n\nLight-Cue-sheet Download \n\n\n\nSound-Cue-sheet Download
URL:https://rachelcribbs.com/event/costume-73/
CATEGORIES:Costume
END:VEVENT
BEGIN:VEVENT
DTSTART;TZID=America/Los_Angeles:20250919T000000
DTEND;TZID=America/Los_Angeles:20250919T235959
DTSTAMP:20260425T085308
CREATED:20250917T210254Z
LAST-MODIFIED:20250917T210256Z
UID:10001952-1758240000-1758326399@rachelcribbs.com
SUMMARY:Workshop Interest Form
DESCRIPTION:Please complete the Workshop Interest Form so we can get an idea of who will be attending each workshop so we can plan materials.\n\n\n\nAll are welcome\, including parents! Bring a friend\n\n\n\nhttps://forms.gle/AyGEiEWgqvwkCjEp8
URL:https://rachelcribbs.com/event/workshop-interest-form/
CATEGORIES:RTC
END:VEVENT
END:VCALENDAR