BEGIN:VCALENDAR
VERSION:2.0
PRODID:-//Rachel Cribbs-Hibler - ECPv6.15.20//NONSGML v1.0//EN
CALSCALE:GREGORIAN
METHOD:PUBLISH
X-WR-CALNAME:Rachel Cribbs-Hibler
X-ORIGINAL-URL:https://rachelcribbs.com
X-WR-CALDESC:Events for Rachel Cribbs-Hibler
REFRESH-INTERVAL;VALUE=DURATION:PT1H
X-Robots-Tag:noindex
X-PUBLISHED-TTL:PT1H
BEGIN:VTIMEZONE
TZID:America/Los_Angeles
BEGIN:DAYLIGHT
TZOFFSETFROM:-0800
TZOFFSETTO:-0700
TZNAME:PDT
DTSTART:20240310T100000
END:DAYLIGHT
BEGIN:STANDARD
TZOFFSETFROM:-0700
TZOFFSETTO:-0800
TZNAME:PST
DTSTART:20241103T090000
END:STANDARD
BEGIN:DAYLIGHT
TZOFFSETFROM:-0800
TZOFFSETTO:-0700
TZNAME:PDT
DTSTART:20250309T100000
END:DAYLIGHT
BEGIN:STANDARD
TZOFFSETFROM:-0700
TZOFFSETTO:-0800
TZNAME:PST
DTSTART:20251102T090000
END:STANDARD
BEGIN:DAYLIGHT
TZOFFSETFROM:-0800
TZOFFSETTO:-0700
TZNAME:PDT
DTSTART:20260308T100000
END:DAYLIGHT
BEGIN:STANDARD
TZOFFSETFROM:-0700
TZOFFSETTO:-0800
TZNAME:PST
DTSTART:20261101T090000
END:STANDARD
END:VTIMEZONE
BEGIN:VEVENT
DTSTART;TZID=America/Los_Angeles:20250825T000000
DTEND;TZID=America/Los_Angeles:20250829T235959
DTSTAMP:20260425T045550
CREATED:20250811T155358Z
LAST-MODIFIED:20250825T143759Z
UID:10001908-1756080000-1756511999@rachelcribbs.com
SUMMARY:Theatre 1
DESCRIPTION:Schedule for the week\n\n\n\nMonday- Traditional\n\n\n\nTuesday- Traditional Meeting\n\n\n\nWednesday- Even\n\n\n\nThursday- Odd\n\n\n\nFriday- Traditional\n\n\n\nTony Tuesday\n\n\n\nWicked\n\n\n\nResponse 1 DUE: Dec 10 by 11:59 PM\n\n\n\nResponse 2 DUE: May 27 by 11:59 PM\n\n\n\nTony Tuesday response Download \n\n\n\n\n\n\n\n\n\nTheatre 1\n\n\n\n1- 1- Website tour/RTC planning\n\n\n\nStudents will learn how to use the class website and plan their year for participation in RTC\n\n\n\n2025 2026 Rtc datesDownload\n\n\n\nS1 2025-2026 scheduleDownload\n\n\n\nS2 2025-2026 scheduleDownload\n\n\n\n2- Slate Assignment\n\n\n\nStudents will learn how to slate for auditions and performance assignments.\n\n\n\nStudents will rehearse their slate during class\n\n\n\nSlate performances on Friday\, Sept 5\n\n\n\nHow to Slate in an AuditionDownload\n\n\n\n3- Article response- read and writing\n\n\n\nWe will write a response to an article in class to prepare students to write their Tony Tuesday response. We will read together\, brainstorm and write a two paragraph\, one page response together. \n\n\n\nDue next week on Friday\, Sept 5 by 11:59\n\n\n\narticle 1 10 skills response directionsDownload\n\n\n\nWashinton_Post_2013_Top_10_Skills_Children_Learn_from_the_ArtsDownload
URL:https://rachelcribbs.com/event/theatre-1-75/
CATEGORIES:Theatre 1
END:VEVENT
BEGIN:VEVENT
DTSTART;TZID=America/Los_Angeles:20250825T000000
DTEND;TZID=America/Los_Angeles:20250829T235959
DTSTAMP:20260425T045551
CREATED:20250811T155552Z
LAST-MODIFIED:20250825T143847Z
UID:10001909-1756080000-1756511999@rachelcribbs.com
SUMMARY:Basics
DESCRIPTION:Schedule for the week\n\n\n\nMonday-Traditional\n\n\n\nTuesday-Traditional Meeting\n\n\n\nWednesday-Even\n\n\n\nThursday- Odd\n\n\n\nFriday-Traditional\n\n\n\nTony Tuesday\n\n\n\nWicked\n\n\n\nResponse 1 DUE: Dec 10 by 11:59 PM\n\n\n\nResponse 2 DUE: May 27 by 11:59 PM\n\n\n\nTony Tuesday response Download \n\n\n\n\n\n\n\n\n\nBasics\n\n\n\n1- Website tour/RTC planning\n\n\n\nStudents will learn how to use the class website and plan their year for participation in RTC\n\n\n\n2025 2026 Rtc dates Download \n\n\n\nS1 2025-2026 schedule Download \n\n\n\nS2 2025-2026 schedule Download \n\n\n\n2- Slate Assignment\n\n\n\nStudents will learn how to slate for auditions and performance assignments.\n\n\n\nStudents will rehearse their slate during class\n\n\n\nSlate performances on Friday\, Sept 5\n\n\n\nHow to Slate in an Audition Download \n\n\n\n3- Article response- read and writing\n\n\n\nWe will write a response to an article in class to prepare students to write their Tony Tuesday response. We will read together\, brainstorm and write a two paragraph\, one page response together.\n\n\n\nDue next week on Friday\, Sept 5 by 11:59\n\n\n\narticle 1 rehearsal habits response directionsDownload\n\n\n\nRehearsal Habits That Will Put You On A Director articleDownload
URL:https://rachelcribbs.com/event/basics-72/
CATEGORIES:Basics
END:VEVENT
BEGIN:VEVENT
DTSTART;TZID=America/Los_Angeles:20250825T000000
DTEND;TZID=America/Los_Angeles:20250829T235959
DTSTAMP:20260425T045551
CREATED:20250811T155800Z
LAST-MODIFIED:20250825T143932Z
UID:10001910-1756080000-1756511999@rachelcribbs.com
SUMMARY:Styles
DESCRIPTION:Schedule for the week\n\n\n\nMonday- Traditional\n\n\n\nTuesday- Traditional Meeting\n\n\n\nWednesday- Even\n\n\n\nThursday- Odd\n\n\n\nFriday- Traditional\n\n\n\nTony Tuesday\n\n\n\nWicked\n\n\n\nResponse 1 DUE: Dec 10 by 11:59 PM\n\n\n\nResponse 2 DUE: May 27 by 11:59 PM\n\n\n\nTony Tuesday response Download \n\n\n\n\n\n\n\n\n\nStyles\n\n\n\n1- Website tour/RTC planning\n\n\n\nStudents will learn how to use the class website and plan their year for participation in RTC\n\n\n\n2025 2026 Rtc dates Download \n\n\n\nS1 2025-2026 schedule Download \n\n\n\nS2 2025-2026 schedule Download \n\n\n\n2- Slate Assignment\n\n\n\nStudents will learn how to slate for auditions and performance assignments.\n\n\n\nStudents will rehearse their slate during class\n\n\n\nSlate performances on Friday\, Sept 5\n\n\n\nHow to Slate in an Audition Download \n\n\n\n3- Article response- read and writing\n\n\n\nWe will write a response to an article in class to prepare students to write their Tony Tuesday response. We will read together\, brainstorm and write a two paragraph\, one page response together.\n\n\n\nDue next week on Friday\, Sept 5 by 11:59\n\n\n\narticle 1 ways to work with response directionsDownload\n\n\n\nWays To Be The Actor Everyone Wants to Work WithDownload
URL:https://rachelcribbs.com/event/styles-72/
CATEGORIES:Styles
END:VEVENT
BEGIN:VEVENT
DTSTART;TZID=America/Los_Angeles:20250825T000000
DTEND;TZID=America/Los_Angeles:20250829T235959
DTSTAMP:20260425T045551
CREATED:20250811T155947Z
LAST-MODIFIED:20250825T144005Z
UID:10001911-1756080000-1756511999@rachelcribbs.com
SUMMARY:Intro to Theatre
DESCRIPTION:Schedule for the week\n\n\n\nMonday- Traditional\n\n\n\nTuesday- Traditional Meeting\n\n\n\nWednesday- Even\n\n\n\nThursday- Odd\n\n\n\nFriday- Traditional\n\n\n\nTony Tuesday\n\n\n\nWicked\n\n\n\nResponse 1 DUE: Dec 10 by 11:59 PM\n\n\n\nResponse 2 DUE: May 27 by 11:59 PM\n\n\n\nTony Tuesday response Download \n\n\n\n\n\n\n\n\n\nIntro to Theatre\n\n\n\n1- Website tour/RTC planning\n\n\n\nStudents will learn how to use the class website and plan their year for participation in RTC \n\n\n\n2025 2026 Rtc dates Download \n\n\n\nS1 2025-2026 schedule Download \n\n\n\nS2 2025-2026 schedule Download \n\n\n\n2- Slate Assignment\n\n\n\nStudents will learn how to slate for auditions and performance assignments.\n\n\n\nStudents will rehearse their slate during class\n\n\n\nSlate performances on Friday\, Sept 5\n\n\n\nHow to Slate in an Audition Download \n\n\n\n3- Article response- read and writing\n\n\n\nWe will write a response to an article in class to prepare students to write their Tony Tuesday response. We will read together\, brainstorm and write a two paragraph\, one page response together.\n\n\n\nDue next week on Friday\, Sept 5 by 11:59\n\n\n\narticle 1 10 skills response directionsDownload \n\n\n\nWashinton_Post_2013_Top_10_Skills_Children_Learn_from_the_ArtsDownload
URL:https://rachelcribbs.com/event/intro-to-theatre-76/
CATEGORIES:Intro to Theatre
END:VEVENT
BEGIN:VEVENT
DTSTART;TZID=America/Los_Angeles:20250825T000000
DTEND;TZID=America/Los_Angeles:20250829T235959
DTSTAMP:20260425T045551
CREATED:20250811T160235Z
LAST-MODIFIED:20250825T144042Z
UID:10001912-1756080000-1756511999@rachelcribbs.com
SUMMARY:Costume
DESCRIPTION:Schedule for the week\n\n\n\nMonday- Traditional\n\n\n\nTuesday- Traditional Meeting\n\n\n\nWednesday- Even\n\n\n\nThursday- Odd\n\n\n\nFriday- Traditional\n\n\n\nTony Tuesday\n\n\n\nWicked\n\n\n\nResponse 1 DUE: Dec 10 by 11:59 PM\n\n\n\nResponse 2 DUE: May 27 by 11:59 PM\n\n\n\nTony Tuesday response Download \n\n\n\n\n\n\n\n\n\nCostume\n\n\n\n1- Website tour/RTC planning\n\n\n\nStudents will learn how to use the class website and plan their year for participation in RTC \n\n\n\n2025 2026 Rtc dates Download \n\n\n\nS1 2025-2026 schedule Download \n\n\n\nS2 2025-2026 schedule Download \n\n\n\n2- Puffs coding\n\n\n\nStudents will begin reading and coding the RTC show Puffs for costume design elements\n\n\n\nStudents will create a google doc for their research\n\n\n\n3- Article response- read and writing\n\n\n\nWe will write a response to an article in class to prepare students to write their Tony Tuesday response. We will read together\, brainstorm and write a two paragraph\, one page response together.\n\n\n\nDue next week on Friday\, Sept 5 by 11:59\n\n\n\nstitch in time response directionsDownload\n\n\n\nstitch in timeDownload
URL:https://rachelcribbs.com/event/costume-70/
CATEGORIES:Costume
END:VEVENT
BEGIN:VEVENT
DTSTART;TZID=America/Los_Angeles:20250825T000000
DTEND;TZID=America/Los_Angeles:20250829T235959
DTSTAMP:20260425T045551
CREATED:20250811T160455Z
LAST-MODIFIED:20250825T144139Z
UID:10001913-1756080000-1756511999@rachelcribbs.com
SUMMARY:Directors
DESCRIPTION:Schedule for the week\n\n\n\nMonday- Traditional\n\n\n\nTuesday- Traditional Meeting\n\n\n\nWednesday- Even\n\n\n\nThursday- Odd\n\n\n\nFriday- Traditional\n\n\n\nTony Tuesday\n\n\n\nWicked\n\n\n\nResponse 1 DUE: Dec 10 by 11:59 PM\n\n\n\nResponse 2 DUE: May 27 by 11:59 PM\n\n\n\nTony Tuesday response Download \n\n\n\n\n\n\n\n\n\nDirectors\n\n\n\n1- Website tour/RTC planning\n\n\n\nStudents will learn how to use the class website and plan their year for participation in RTC\n\n\n\n2025 2026 Rtc dates Download \n\n\n\nS1 2025-2026 schedule Download \n\n\n\nS2 2025-2026 schedule Download \n\n\n\n2- Slate Assignment\n\n\n\nStudents will learn how to slate for auditions and performance assignments.\n\n\n\nStudents will rehearse their slate during class\n\n\n\nSlate performances on Friday\, Sept 5\n\n\n\nStudents will be expected to evaluate all slates on a rubric and give feedback on how to improve.\n\n\n\nHow to Slate in an Audition Download \n\n\n\n3- Article response- read and writing\n\n\n\nWe will write a response to an article in class to prepare students to write their Tony Tuesday response. We will read together\, brainstorm and write a two paragraph\, one page response together.\n\n\n\nDue next week on Friday\, Sept 5 by 11:59\n\n\n\narticle 1 takeover response directionsDownload\n\n\n\nstaging a takeoverDownload
URL:https://rachelcribbs.com/event/directors-69/
CATEGORIES:Directors
END:VEVENT
BEGIN:VEVENT
DTSTART;TZID=America/Los_Angeles:20250825T000000
DTEND;TZID=America/Los_Angeles:20250829T235959
DTSTAMP:20260425T045551
CREATED:20250812T202438Z
LAST-MODIFIED:20250825T224542Z
UID:10001921-1756080000-1756511999@rachelcribbs.com
SUMMARY:RTC
DESCRIPTION:RTC\n\n\n\nDates and First semester rehearsal schedule is available here and on the table in LT.\n\n\n\nCheck the landing page on the website for updated details.\n\n\n\n \n\n\n\n \n\n\n\n \n\n\n\nPuffs directed by K. Kirby\n\n\n\nMonday- DARK\n\n\n\nTuesday-Meeting\, LT\, 4-7\n\n\n\nWednesday- DARK\n\n\n\nThursday- DARK\n\n\n\nFriday- DARK\n\n\n\nJoin the Puffs Remind\n\n\n\nSend a text to 81010 write @cd9dbb\n\n\n\nContracts\n\n\n\nAll student artists and parents must read\, agree and sign prior to being allowed to work on the production\n\n\n\nPuffs contract\n\n\n\nPuffs student production team contract\n\n\n\n \n\n\n\nBoise\, Idaho directed by Sayuri Soto\n\n\n\nMonday-DARK\n\n\n\nTuesday-DARK\n\n\n\nWednesday-Auditions\, 4-7\, LT\n\n\n\nThursday-Callbacks\, 4:30-7\, LT\n\n\n\nFriday-cast and crew list posted on the website.\n\n\n\nWe reserve the right to post list on Saturday\n\n\n\nJoin One Act Remind: Text @g4beek to 81010\n\n\n\n \n\n\n\nAudition Sign up link\n\n\n\nhttps://docs.google.com/forms/d/e/1FAIpQLSccbs8kQbkNsIo0epZ7lFRcQ9pSYutrPcdAMOnjeeJzMoFYmQ/viewform?usp=sharing&ouid=100588660183985920612\n\n\n\n \n\n\n\nCabaret\n\n\n\nOur first Cabaret of the year is Sept 26. Tech rehearsal is Sept 25\, mandatory for all performances. Sign up using the google form link.\n\n\n\nhttps://forms.gle/UtYN6dL41Hms6V6y6
URL:https://rachelcribbs.com/event/rtc-69/
CATEGORIES:RTC
END:VEVENT
BEGIN:VEVENT
DTSTART;TZID=America/Los_Angeles:20250828T000000
DTEND;TZID=America/Los_Angeles:20250828T235959
DTSTAMP:20260425T045551
CREATED:20250828T003822Z
LAST-MODIFIED:20250828T003917Z
UID:10001936-1756339200-1756425599@rachelcribbs.com
SUMMARY:Boise Callbacks
DESCRIPTION:Please review Sayuri’s director notes and character descriptions. Come ready to make different choices and receive notes. \n\n\n\nChastity– side 3\n\n\n\nNoah\n\n\n\nBri\n\n\n\nSyd\n\n\n\nSasha\n\n\n\n \n\n\n\n \n\n\n\nOlston– side 3\n\n\n\nBennett\n\n\n\nMarcus\n\n\n\n \n\n\n\n \n\n\n\nNarrator– sides 1 and 3\n\n\n\nBri\n\n\n\nSyd\n\n\n\nNoah\n\n\n\nAylline \n\n\n\nJax\n\n\n\nMoriah
URL:https://rachelcribbs.com/event/boise-callbacks/
CATEGORIES:RTC
END:VEVENT
BEGIN:VEVENT
DTSTART;TZID=America/Los_Angeles:20250829T000000
DTEND;TZID=America/Los_Angeles:20250829T235959
DTSTAMP:20260425T045551
CREATED:20250829T223648Z
LAST-MODIFIED:20250829T223649Z
UID:10001937-1756425600-1756511999@rachelcribbs.com
SUMMARY:Boise Cast and Crew
DESCRIPTION:First call Monday\, Sept 8 in Studio B. Please get a script in LT and begin memorizing your lines.\n\n\n\nBoise cast and crewDownload
URL:https://rachelcribbs.com/event/boise-cast-and-crew/
CATEGORIES:RTC
END:VEVENT
END:VCALENDAR