BEGIN:VCALENDAR
VERSION:2.0
PRODID:-//Rachel Cribbs-Hibler - ECPv6.15.20//NONSGML v1.0//EN
CALSCALE:GREGORIAN
METHOD:PUBLISH
X-WR-CALNAME:Rachel Cribbs-Hibler
X-ORIGINAL-URL:https://rachelcribbs.com
X-WR-CALDESC:Events for Rachel Cribbs-Hibler
REFRESH-INTERVAL;VALUE=DURATION:PT1H
X-Robots-Tag:noindex
X-PUBLISHED-TTL:PT1H
BEGIN:VTIMEZONE
TZID:America/Los_Angeles
BEGIN:DAYLIGHT
TZOFFSETFROM:-0800
TZOFFSETTO:-0700
TZNAME:PDT
DTSTART:20240310T100000
END:DAYLIGHT
BEGIN:STANDARD
TZOFFSETFROM:-0700
TZOFFSETTO:-0800
TZNAME:PST
DTSTART:20241103T090000
END:STANDARD
BEGIN:DAYLIGHT
TZOFFSETFROM:-0800
TZOFFSETTO:-0700
TZNAME:PDT
DTSTART:20250309T100000
END:DAYLIGHT
BEGIN:STANDARD
TZOFFSETFROM:-0700
TZOFFSETTO:-0800
TZNAME:PST
DTSTART:20251102T090000
END:STANDARD
BEGIN:DAYLIGHT
TZOFFSETFROM:-0800
TZOFFSETTO:-0700
TZNAME:PDT
DTSTART:20260308T100000
END:DAYLIGHT
BEGIN:STANDARD
TZOFFSETFROM:-0700
TZOFFSETTO:-0800
TZNAME:PST
DTSTART:20261101T090000
END:STANDARD
END:VTIMEZONE
BEGIN:VTIMEZONE
TZID:America/Denver
BEGIN:DAYLIGHT
TZOFFSETFROM:-0700
TZOFFSETTO:-0600
TZNAME:MDT
DTSTART:20240310T090000
END:DAYLIGHT
BEGIN:STANDARD
TZOFFSETFROM:-0600
TZOFFSETTO:-0700
TZNAME:MST
DTSTART:20241103T080000
END:STANDARD
BEGIN:DAYLIGHT
TZOFFSETFROM:-0700
TZOFFSETTO:-0600
TZNAME:MDT
DTSTART:20250309T090000
END:DAYLIGHT
BEGIN:STANDARD
TZOFFSETFROM:-0600
TZOFFSETTO:-0700
TZNAME:MST
DTSTART:20251102T080000
END:STANDARD
BEGIN:DAYLIGHT
TZOFFSETFROM:-0700
TZOFFSETTO:-0600
TZNAME:MDT
DTSTART:20260308T090000
END:DAYLIGHT
BEGIN:STANDARD
TZOFFSETFROM:-0600
TZOFFSETTO:-0700
TZNAME:MST
DTSTART:20261101T080000
END:STANDARD
END:VTIMEZONE
BEGIN:VEVENT
DTSTART;TZID=America/Los_Angeles:20250609T000000
DTEND;TZID=America/Los_Angeles:20250612T235959
DTSTAMP:20260425T050935
CREATED:20250508T145254Z
LAST-MODIFIED:20250508T145256Z
UID:10001882-1749427200-1749772799@rachelcribbs.com
SUMMARY:All Classes
DESCRIPTION:Schedule for the week\n\n\n\nMonday- Minimum\n\n\n\nTuesday- Finals\n\n\n\nWednesday- Finals\n\n\n\nThursday- Minimum\n\n\n\nFriday- NO SCHOOL\n\n\n\nTony Tuesday\n\n\n\nJames Corden 2016 Opening of the Tonys\n\n\n\n\n\n\n\n\n\n1- Theatre superstitions\n\n\n\nTop Theater SuperstitionsDownload\n\n\n\n2- Life winning skills all trained Thespians have\n\n\n\n3- Noises Off!
URL:https://rachelcribbs.com/event/all-classes/
CATEGORIES:School
END:VEVENT
BEGIN:VEVENT
DTSTART;TZID=America/Denver:20250612T000000
DTEND;TZID=America/Denver:20250612T235959
DTSTAMP:20260425T050935
CREATED:20240315T212158Z
LAST-MODIFIED:20240315T212159Z
UID:10001597-1749686400-1749772799@rachelcribbs.com
SUMMARY:Last day of School!
DESCRIPTION:
URL:https://rachelcribbs.com/event/last-day-of-school-4/
CATEGORIES:School
END:VEVENT
END:VCALENDAR