BEGIN:VCALENDAR
VERSION:2.0
PRODID:-//Rachel Cribbs-Hibler - ECPv6.15.20//NONSGML v1.0//EN
CALSCALE:GREGORIAN
METHOD:PUBLISH
X-WR-CALNAME:Rachel Cribbs-Hibler
X-ORIGINAL-URL:https://rachelcribbs.com
X-WR-CALDESC:Events for Rachel Cribbs-Hibler
REFRESH-INTERVAL;VALUE=DURATION:PT1H
X-Robots-Tag:noindex
X-PUBLISHED-TTL:PT1H
BEGIN:VTIMEZONE
TZID:America/Los_Angeles
BEGIN:DAYLIGHT
TZOFFSETFROM:-0800
TZOFFSETTO:-0700
TZNAME:PDT
DTSTART:20240310T100000
END:DAYLIGHT
BEGIN:STANDARD
TZOFFSETFROM:-0700
TZOFFSETTO:-0800
TZNAME:PST
DTSTART:20241103T090000
END:STANDARD
BEGIN:DAYLIGHT
TZOFFSETFROM:-0800
TZOFFSETTO:-0700
TZNAME:PDT
DTSTART:20250309T100000
END:DAYLIGHT
BEGIN:STANDARD
TZOFFSETFROM:-0700
TZOFFSETTO:-0800
TZNAME:PST
DTSTART:20251102T090000
END:STANDARD
BEGIN:DAYLIGHT
TZOFFSETFROM:-0800
TZOFFSETTO:-0700
TZNAME:PDT
DTSTART:20260308T100000
END:DAYLIGHT
BEGIN:STANDARD
TZOFFSETFROM:-0700
TZOFFSETTO:-0800
TZNAME:PST
DTSTART:20261101T090000
END:STANDARD
END:VTIMEZONE
BEGIN:VEVENT
DTSTART;TZID=America/Los_Angeles:20250512T000000
DTEND;TZID=America/Los_Angeles:20250516T235959
DTSTAMP:20260425T033937
CREATED:20250207T221259Z
LAST-MODIFIED:20250407T163159Z
UID:10001795-1747008000-1747439999@rachelcribbs.com
SUMMARY:RTC
DESCRIPTION:Monday- Strike\, 4-7\, LT\n\n\n\nTuesday- DARK\n\n\n\nWednesday-DARK\n\n\n\nThursday-DARK\n\n\n\nFriday- Cast and Crew Party\, 4-6\, LT
URL:https://rachelcribbs.com/event/rtc-64/
CATEGORIES:RTC
END:VEVENT
BEGIN:VEVENT
DTSTART;TZID=America/Los_Angeles:20250512T000000
DTEND;TZID=America/Los_Angeles:20250516T235959
DTSTAMP:20260425T033937
CREATED:20250408T195501Z
LAST-MODIFIED:20250408T195503Z
UID:10001860-1747008000-1747439999@rachelcribbs.com
SUMMARY:Directors
DESCRIPTION:Schedule for the week\n\n\n\nMonday- Traditional\n\n\n\nTuesday- Traditional Meeting\n\n\n\nWednesday- Even\n\n\n\nThursday- Odd\n\n\n\nFriday- Traditional\n\n\n\nTony Tuesday\n\n\n\nThe King and I\n\n\n\nResponse 2 DUE: May 28 by 11:59 PM\n\n\n\nTony Tuesday response Download \n\n\n\n\n\n\n\n\n\nDirectors\n\n\n\n1- Acting Technique\n\n\n\nStudents will work on a scene using the Alexander acting technique\n\n\n\nThe Alexander Technique Download \n\n\n\n2- Sword combat\n\n\n\nStudents will work with a partner to create a scene using sword combat.
URL:https://rachelcribbs.com/event/directors-65/
CATEGORIES:Directors
END:VEVENT
BEGIN:VEVENT
DTSTART;TZID=America/Los_Angeles:20250512T000000
DTEND;TZID=America/Los_Angeles:20250516T235959
DTSTAMP:20260425T033937
CREATED:20250408T195822Z
LAST-MODIFIED:20250505T170822Z
UID:10001861-1747008000-1747439999@rachelcribbs.com
SUMMARY:Styles
DESCRIPTION:Schedule for the week\n\n\n\nMonday- Traditional\n\n\n\nTuesday- Traditional Meeting\n\n\n\nWednesday- Even\n\n\n\nThursday- Odd\n\n\n\nFriday- Traditional\n\n\n\nTony Tuesday\n\n\n\nThe King and I\n\n\n\nResponse 2 DUE: May 28 by 11:59 PM\n\n\n\nTony Tuesday response Download \n\n\n\n\n\n\n\n\n\nStyles\n\n\n\n1- One Acts- Director statement\n\n\n\nStudents will write their Director’s statement for their One Act. Rough draft.\n\n\n\nDescedants-directors-statement Download \n\n\n\nMermaid directors statement Download \n\n\n\n2- Research\n\n\n\nStudents will research all the elements of their show.\n\n\n\n3- Next season musical\n\n\n\nWe will discuss what musical we would like to produce for next season. No guarantee on a spring schedule of shows due to availability of the Audra McDonald.
URL:https://rachelcribbs.com/event/styles-67/
CATEGORIES:Styles
END:VEVENT
BEGIN:VEVENT
DTSTART;TZID=America/Los_Angeles:20250512T000000
DTEND;TZID=America/Los_Angeles:20250516T235959
DTSTAMP:20260425T033937
CREATED:20250408T200016Z
LAST-MODIFIED:20250408T200019Z
UID:10001862-1747008000-1747439999@rachelcribbs.com
SUMMARY:Costume
DESCRIPTION:Schedule for the week\n\n\n\nMonday- Traditional\n\n\n\nTuesday- Traditional Meeting\n\n\n\nWednesday- Even\n\n\n\nThursday- Odd\n\n\n\nFriday- Traditional\n\n\n\nTony Tuesday\n\n\n\nThe King and I\n\n\n\nResponse 2 DUE: May 28 by 11:59 PM\n\n\n\nTony Tuesday response Download \n\n\n\n\n\n\n\n\n\nCostume\n\n\n\n1- Stock\n\n\n\nStudents will work on stock in C-train\n\n\n\n2- Makeup- blood\n\n\n\nStudents will learn how to design and apply blood makeup
URL:https://rachelcribbs.com/event/costume-65/
CATEGORIES:Costume
END:VEVENT
BEGIN:VEVENT
DTSTART;TZID=America/Los_Angeles:20250512T000000
DTEND;TZID=America/Los_Angeles:20250516T235959
DTSTAMP:20260425T033937
CREATED:20250408T200308Z
LAST-MODIFIED:20250408T200311Z
UID:10001863-1747008000-1747439999@rachelcribbs.com
SUMMARY:Theatre 1
DESCRIPTION:Schedule for the week\n\n\n\nMonday- Traditional\n\n\n\nTuesday- Traditional Meeting\n\n\n\nWednesday- Even\n\n\n\nThursday- Odd\n\n\n\nFriday- Traditional\n\n\n\nTony Tuesday\n\n\n\nThe King and I\n\n\n\nResponse 2 DUE: May 28 by 11:59 PM\n\n\n\nTony Tuesday response Download \n\n\n\n\n\n\n\n\n\nTheatre 1\n\n\n\n1- Musical Theatre rehearsal\n\n\n\nStudents will rehearse their song as a monologue\n\n\n\n2- Musical performance\n\n\n\nStudents will perform their “I Want” song in class. No singing required\, can perform as a monologue. Performance Friday\n\n\n\n3- Choose own song\n\n\n\nStudents will choose their own “I Want” song from any musical. Due Friday
URL:https://rachelcribbs.com/event/theatre-1-70/
CATEGORIES:Theatre 1
END:VEVENT
BEGIN:VEVENT
DTSTART;TZID=America/Los_Angeles:20250512T000000
DTEND;TZID=America/Los_Angeles:20250516T235959
DTSTAMP:20260425T033937
CREATED:20250408T200446Z
LAST-MODIFIED:20250507T161357Z
UID:10001864-1747008000-1747439999@rachelcribbs.com
SUMMARY:Basics
DESCRIPTION:Schedule for the week\n\n\n\nMonday- Traditional\n\n\n\nTuesday- Traditional Meeting\n\n\n\nWednesday- Even\n\n\n\nThursday- Odd\n\n\n\nFriday- Traditional\n\n\n\nTony Tuesday\n\n\n\nThe King and I\n\n\n\nResponse 2 DUE: May 28 by 11:59 PM\n\n\n\nTony Tuesday response Download \n\n\n\n\n\n\n\n\n\nBasics\n\n\n\n1- Commedia scene work\n\n\n\nStudents will work on a scene in class from A Haunted House. Students will improv through the script.
URL:https://rachelcribbs.com/event/basics-67/
CATEGORIES:Basics
END:VEVENT
BEGIN:VEVENT
DTSTART;TZID=America/Los_Angeles:20250512T000000
DTEND;TZID=America/Los_Angeles:20250516T235959
DTSTAMP:20260425T033937
CREATED:20250408T200619Z
LAST-MODIFIED:20250408T200629Z
UID:10001865-1747008000-1747439999@rachelcribbs.com
SUMMARY:Intro to Theatre
DESCRIPTION:Schedule for the week\n\n\n\nMonday- Traditional\n\n\n\nTuesday- Traditional Meeting\n\n\n\nWednesday- Even\n\n\n\nThursday- Odd\n\n\n\nFriday- Traditional\n\n\n\nTony Tuesday\n\n\n\nThe King and I\n\n\n\nResponse 2 DUE: May 28 by 11:59 PM\n\n\n\nTony Tuesday response Download \n\n\n\n\n\n\n\n\n\nIntro to Theatre
URL:https://rachelcribbs.com/event/intro-to-theatre-71/
CATEGORIES:Intro to Theatre
END:VEVENT
END:VCALENDAR