BEGIN:VCALENDAR
VERSION:2.0
PRODID:-//Rachel Cribbs-Hibler - ECPv6.15.20//NONSGML v1.0//EN
CALSCALE:GREGORIAN
METHOD:PUBLISH
X-ORIGINAL-URL:https://rachelcribbs.com
X-WR-CALDESC:Events for Rachel Cribbs-Hibler
REFRESH-INTERVAL;VALUE=DURATION:PT1H
X-Robots-Tag:noindex
X-PUBLISHED-TTL:PT1H
BEGIN:VTIMEZONE
TZID:America/Los_Angeles
BEGIN:DAYLIGHT
TZOFFSETFROM:-0800
TZOFFSETTO:-0700
TZNAME:PDT
DTSTART:20240310T100000
END:DAYLIGHT
BEGIN:STANDARD
TZOFFSETFROM:-0700
TZOFFSETTO:-0800
TZNAME:PST
DTSTART:20241103T090000
END:STANDARD
BEGIN:DAYLIGHT
TZOFFSETFROM:-0800
TZOFFSETTO:-0700
TZNAME:PDT
DTSTART:20250309T100000
END:DAYLIGHT
BEGIN:STANDARD
TZOFFSETFROM:-0700
TZOFFSETTO:-0800
TZNAME:PST
DTSTART:20251102T090000
END:STANDARD
BEGIN:DAYLIGHT
TZOFFSETFROM:-0800
TZOFFSETTO:-0700
TZNAME:PDT
DTSTART:20260308T100000
END:DAYLIGHT
BEGIN:STANDARD
TZOFFSETFROM:-0700
TZOFFSETTO:-0800
TZNAME:PST
DTSTART:20261101T090000
END:STANDARD
END:VTIMEZONE
BEGIN:VEVENT
DTSTART;TZID=America/Los_Angeles:20250324T000000
DTEND;TZID=America/Los_Angeles:20250328T235959
DTSTAMP:20260425T194437
CREATED:20250207T220451Z
LAST-MODIFIED:20250328T142714Z
UID:10001789-1742774400-1743206399@rachelcribbs.com
SUMMARY:RTC
DESCRIPTION:Monday- One Act Auditions- 4-7 in LT\n\n\n\nTuesday- One Act Callbacks- 3:30-7 in Studio B and LT\n\n\n\nWednesday- cast and crew lists posted\n\n\n\nThursday- Rehearsal- MMF\n\n\n\nFriday- Rehearsal- GG/7D\n\n\n\n \n\n\n\nJoin One Act Remind:\n\n\n\nSend a text to 81010 message @8d97fc7\n\n\n\n \n\n\n\nTurn in your contract. Parents required to sign\n\n\n\n \n\n\n\nConflicts form: https://forms.gle/ScDfRN8XTGEGQ4yW9\n\n\n\nBlank trackers\n\n\n\nscene-trackerDownload\n\n\n\nProps-trackerDownload\n\n\n\nSet-trackerDownload
URL:https://rachelcribbs.com/event/rtc-58/
CATEGORIES:RTC
END:VEVENT
BEGIN:VEVENT
DTSTART;TZID=America/Los_Angeles:20250324T000000
DTEND;TZID=America/Los_Angeles:20250328T235959
DTSTAMP:20260425T194437
CREATED:20250220T213516Z
LAST-MODIFIED:20250321T183336Z
UID:10001819-1742774400-1743206399@rachelcribbs.com
SUMMARY:Directors
DESCRIPTION:Schedule for the week \n\n\n\nMonday- Traditional\n\n\n\nTuesday- Traditional Meeting\n\n\n\nWednesday- Even\n\n\n\nThursday- Odd\n\n\n\nFriday- Rally\n\n\n\n\n\n\n\nTony Tuesday\n\n\n\nHadestown\n\n\n\nResponse 2 DUE: May 28 by 11:59 PM\n\n\n\nTony Tuesday response Download \n\n\n\n\n\n\n\n\n\nDirectors\n\n\n\n1- Auditions\n\n\n\nStudents will run their auditions and review their notes\n\n\n\n2- Cast shows\n\n\n\nStudents will cast their shows during RST on Wednesday. On Tuesday write out your cast lists with possible second choices.\n\n\n\nStudents are called during RST on Wednesday to compare cast lists. Have your cast list ready to go for that meeting. Hibler will take all notes and casting preferences into consideration. Final casting done/approved by Hibler\n\n\n\nCast list posted online Wednesday evening by 7 PM\n\n\n\n3- Run YCTIWY rehearsal\n\n\n\nStudents will work on their rehearsal skills by working on the in class scenes
URL:https://rachelcribbs.com/event/directors-59/
CATEGORIES:Directors
END:VEVENT
BEGIN:VEVENT
DTSTART;TZID=America/Los_Angeles:20250324T000000
DTEND;TZID=America/Los_Angeles:20250328T235959
DTSTAMP:20260425T194438
CREATED:20250220T213721Z
LAST-MODIFIED:20250319T143334Z
UID:10001820-1742774400-1743206399@rachelcribbs.com
SUMMARY:Basics
DESCRIPTION:Schedule for the week\n\n\n\nMonday- Traditional\n\n\n\nTuesday- Traditional Meeting\n\n\n\nWednesday- Even\n\n\n\nThursday- Odd\n\n\n\nFriday- Traditional\n\n\n\nTony Tuesday\n\n\n\nHadestown\n\n\n\nResponse 2 DUE: May 28 by 11:59 PM\n\n\n\nTony Tuesday response Download \n\n\n\n\n\n\n\n\n\nBasics\n\n\n\n1- Monologue\n\n\n\nStudents will rehearse their monologue. Check in this week\n\n\n\n2- Commedia scene work\n\n\n\nStudents will work on a scene in class from The Two Harlequins. All Commedia character performance requirements. All notes in google doc
URL:https://rachelcribbs.com/event/basics-61/
CATEGORIES:Basics
END:VEVENT
BEGIN:VEVENT
DTSTART;TZID=America/Los_Angeles:20250324T000000
DTEND;TZID=America/Los_Angeles:20250328T235959
DTSTAMP:20260425T194438
CREATED:20250220T213856Z
LAST-MODIFIED:20250321T183241Z
UID:10001821-1742774400-1743206399@rachelcribbs.com
SUMMARY:Theatre 1
DESCRIPTION:Schedule for the week\n\n\n\nMonday- Traditional\n\n\n\nTuesday- Traditional Meeting\n\n\n\nWednesday- Even\n\n\n\nThursday- Odd\n\n\n\nFriday- Rally\n\n\n\n\n\n\n\nTony Tuesday\n\n\n\nHadestown\n\n\n\nResponse 2 DUE: May 28 by 11:59 PM\n\n\n\nTony Tuesday response Download \n\n\n\n\n\n\n\n\n\nTheatre 1\n\n\n\n1- Rehearsal\n\n\n\nStudents will run rehearsal for YCTIWY. All blocking and notes in script and google doc.\n\n\n\n2- Monologue rehearsal\n\n\n\nStudents will rehearse their monologue. Check in this week
URL:https://rachelcribbs.com/event/theatre-1-64/
CATEGORIES:Theatre 1
END:VEVENT
BEGIN:VEVENT
DTSTART;TZID=America/Los_Angeles:20250324T000000
DTEND;TZID=America/Los_Angeles:20250328T235959
DTSTAMP:20260425T194438
CREATED:20250220T214051Z
LAST-MODIFIED:20250321T183147Z
UID:10001822-1742774400-1743206399@rachelcribbs.com
SUMMARY:Intro to Theatre
DESCRIPTION:Schedule for the week\n\n\n\nMonday- Traditional\n\n\n\nTuesday- Traditional Meeting\n\n\n\nWednesday- Even\n\n\n\nThursday- Odd\n\n\n\nFriday- Rally\n\n\n\n\n\n\n\nTony Tuesday\n\n\n\nHadestown\n\n\n\nResponse 2 DUE: May 28 by 11:59 PM\n\n\n\nTony Tuesday response Download \n\n\n\n\n\n\n\n\n\nIntro to Theatre\n\n\n\n1- Monologue Rehearsal\n\n\n\nStudents will run their Vanda monologue\n\n\n\n2- Monologue search\n\n\n\nStudents will find their own monologue to memorize and work. Monologue choice DUE Friday
URL:https://rachelcribbs.com/event/intro-to-theatre-65/
CATEGORIES:Intro to Theatre
END:VEVENT
BEGIN:VEVENT
DTSTART;TZID=America/Los_Angeles:20250324T000000
DTEND;TZID=America/Los_Angeles:20250328T235959
DTSTAMP:20260425T194438
CREATED:20250220T214231Z
LAST-MODIFIED:20250321T183533Z
UID:10001823-1742774400-1743206399@rachelcribbs.com
SUMMARY:Costume
DESCRIPTION:Schedule for the week\n\n\n\nMonday- Traditional\n\n\n\nTuesday- Traditional Meeting\n\n\n\nWednesday- Even\n\n\n\nThursday- Odd\n\n\n\nFriday- Rally\n\n\n\n\n\n\n\nTony Tuesday\n\n\n\nHadestown\n\n\n\nResponse 2 DUE: May 28 by 11:59 PM\n\n\n\nTony Tuesday response Download \n\n\n\n\n\n\n\n\n\nCostume\n\n\n\n1- OA pulls/fittings\n\n\n\nStudents will pull costumes for their One Act designs. Students need to get measurements from their casts. Students will complete fittings for their OA\n\n\n\n2- Stock\n\n\n\nStudents will put away SLM and work on stock
URL:https://rachelcribbs.com/event/costume-59/
CATEGORIES:Costume
END:VEVENT
BEGIN:VEVENT
DTSTART;TZID=America/Los_Angeles:20250324T000000
DTEND;TZID=America/Los_Angeles:20250328T235959
DTSTAMP:20260425T194439
CREATED:20250220T214427Z
LAST-MODIFIED:20250321T183438Z
UID:10001824-1742774400-1743206399@rachelcribbs.com
SUMMARY:Styles
DESCRIPTION:Schedule for the week\n\n\n\nMonday- Traditional\n\n\n\nTuesday- Traditional Meeting\n\n\n\nWednesday- Even\n\n\n\nThursday- Odd\n\n\n\nFriday- Rally\n\n\n\n\n\n\n\nTony Tuesday\n\n\n\nHadestown\n\n\n\nResponse 2 DUE: May 28 by 11:59 PM\n\n\n\nTony Tuesday response Download \n\n\n\n\n\n\n\n\n\nStyles\n\n\n\n1- Shakespeare monologue\n\n\n\nStudents will work on their monologue. Rehearsal\n\n\n\n2- Scene rehearsal\n\n\n\nStudents will rehearse their Shakespeare scene\n\n\n\n3- Romeo and Juliet scenes\n\n\n\nWe will watch scenes from the tragedy
URL:https://rachelcribbs.com/event/styles-61/
CATEGORIES:Styles
END:VEVENT
BEGIN:VEVENT
DTSTART;TZID=America/Los_Angeles:20250325T000000
DTEND;TZID=America/Los_Angeles:20250325T235959
DTSTAMP:20260425T194441
CREATED:20250325T005448Z
LAST-MODIFIED:20250325T005451Z
UID:10001838-1742860800-1742947199@rachelcribbs.com
SUMMARY:OA Callbacks
DESCRIPTION:The Golden Girls written and directed by Niko Ramos\n\n\n\nRose – Bri\, Syd\, Sophie\, Kamilla (Sides 1\, 3 & 4)\n\n\n\nDorothy – Syd\, Sophie\, Sayuri (Sides 3 & 4)\n\n\n\nBlanche – Bri\, Kamilla\, Sayuri\, Isela (Sides 1\, 3 & 4)\n\n\n\nSophia – Syd\, Sophie\, Sayuri\, Isela (Side 2)\n\n\n\nLeonard – Bennett\, Zack (Side 4)\n\n\n\nSponsors – Sophie\, Isela\, Kamilla\, Bri\, Zack\, Brayden (Side 5)\n\n\n\nLeonard and Sponsors sides will be available in LT in the morning.\n\n\n\n \n\n\n\nThe White Room written and directed by Milo Saldana\n\n\n\nGod- Salem\n\n\n\nCharlie-Elsie\, Jay\n\n\n\nHelix- Brayden\, Zack\, \n\n\n\nCyrus- Kamilah Sosa\n\n\n\nDamien- Jovi\n\n\n\nC1- Brayden\, Bennet\, Jovi\n\n\n\nC2- Vivian\n\n\n\nSide 1. C1\, C2\, God \n\n\n\n1. Bennett\, Vivian\, Salem\n\n\n\n2. Brayden\, Vivian\, Salem\n\n\n\nSide 2. C1\, C2\n\n\n\n1. Bennet\, Vivian\n\n\n\n2. Brayden\, Vivian\n\n\n\nSide 3. Cyrus\, Helix\n\n\n\n1. Kamilah\, Zack\n\n\n\n2. Kamilah\, Brayden\n\n\n\nSide 4. Damien\, Charli\n\n\n\n1. Elsie\, Jovi\n\n\n\n2. Sophie\, Jovi\n\n\n\n3. Jay\, Jovi\n\n\n\n \n\n\n\nCloudy directed by Izzy Valdez\n\n\n\nJovi -Dan\n\n\n\nMashia -Georgia    Side 1\n\n\n\nBri -Georgia\, Dan  Side 1\n\n\n\nZack -Dan\n\n\n\nJazlyn -Georgia      Side 1\n\n\n\nElsie -Georgia        Side 1\n\n\n\nIsela -Georgia        Side 1\n\n\n\nSalem -Georgia\, Dan   Side 1\n\n\n\nPairs-\n\n\n\nMashia and Zack- Side 2\n\n\n\nBri and Salem- Side 3\n\n\n\nElsie and Bri- Side 2\n\n\n\nSalem and Jovi- Side 2\n\n\n\nSalem and Jazlyn- Side 3\n\n\n\nIsela and Zack- Side 3\n\n\n\nIsela and Bri- Side 2\n\n\n\nMashia and Jovi- Side 3\n\n\n\n \n\n\n\nA Murder Most Fowl written and directed by Daniel Mejia\n\n\n\nJovi\, Mashia\, Giovanna\, Vivian\, Salem\, Brayden\n\n\n\nSIDE 1 (Everett): Vivian\, Brayden\, Jovi\n\n\n\nSIDE 2 (Raven): Mashia\, Salem\, Vivian\, Giovanna\n\n\n\nSIDE 3 (Crowley): Brayden\, Jovi\, Vivian\n\n\n\nSIDE 3 (Raven): Mashia\, Salem\, Vivian\, Giovanna\n\n\n\n \n\n\n\n \n\n\n\n7 Little Demons directed by Zoey Richart\n\n\n\nMashia\, Giovanna\, Toa\, Vivian\, Bennett\, Bri\, Zack\, Jazlyn\, Kamilah Sosa\, Mariah\, Elsie\, Vyni\, Isela\, Jay\, Salem\, Brayden\n\n\n\nWrath: Mashia\, Giovanna\, Vivian\, Bri\, Mariah\, Vyni\, Jay\, Salem\, Brayden\n\n\n\nLust: Mashia\, Bennett\, Isela\n\n\n\nTrixie: Jazlyn\, Kamilah Sosa\, Elsie\, Isela
URL:https://rachelcribbs.com/event/oa-callbacks/
CATEGORIES:RTC
END:VEVENT
BEGIN:VEVENT
DTSTART;TZID=America/Los_Angeles:20250326T000000
DTEND;TZID=America/Los_Angeles:20250326T235959
DTSTAMP:20260425T194441
CREATED:20250326T221755Z
LAST-MODIFIED:20250326T221757Z
UID:10001839-1742947200-1743033599@rachelcribbs.com
SUMMARY:OA casts and crew
DESCRIPTION:Rehearsals start tomorrow with Murder Most Fowl and 7 Little Demons\n\n\n\nOA casts and crewDownload
URL:https://rachelcribbs.com/event/oa-casts-and-crew/
CATEGORIES:RTC
END:VEVENT
END:VCALENDAR