BEGIN:VCALENDAR
VERSION:2.0
PRODID:-//Rachel Cribbs-Hibler - ECPv6.15.20//NONSGML v1.0//EN
CALSCALE:GREGORIAN
METHOD:PUBLISH
X-ORIGINAL-URL:https://rachelcribbs.com
X-WR-CALDESC:Events for Rachel Cribbs-Hibler
REFRESH-INTERVAL;VALUE=DURATION:PT1H
X-Robots-Tag:noindex
X-PUBLISHED-TTL:PT1H
BEGIN:VTIMEZONE
TZID:America/Los_Angeles
BEGIN:DAYLIGHT
TZOFFSETFROM:-0800
TZOFFSETTO:-0700
TZNAME:PDT
DTSTART:20250309T100000
END:DAYLIGHT
BEGIN:STANDARD
TZOFFSETFROM:-0700
TZOFFSETTO:-0800
TZNAME:PST
DTSTART:20251102T090000
END:STANDARD
BEGIN:DAYLIGHT
TZOFFSETFROM:-0800
TZOFFSETTO:-0700
TZNAME:PDT
DTSTART:20260308T100000
END:DAYLIGHT
BEGIN:STANDARD
TZOFFSETFROM:-0700
TZOFFSETTO:-0800
TZNAME:PST
DTSTART:20261101T090000
END:STANDARD
BEGIN:DAYLIGHT
TZOFFSETFROM:-0800
TZOFFSETTO:-0700
TZNAME:PDT
DTSTART:20270314T100000
END:DAYLIGHT
BEGIN:STANDARD
TZOFFSETFROM:-0700
TZOFFSETTO:-0800
TZNAME:PST
DTSTART:20271107T090000
END:STANDARD
END:VTIMEZONE
BEGIN:VEVENT
DTSTART;TZID=America/Los_Angeles:20260415T000000
DTEND;TZID=America/Los_Angeles:20260430T235959
DTSTAMP:20260423T090012
CREATED:20260415T145819Z
LAST-MODIFIED:20260415T145823Z
UID:10002156-1776211200-1777593599@rachelcribbs.com
SUMMARY:Teddy Awards Voting Form
DESCRIPTION:Please complete the voting for Teddy Awards by April 30. \n\n\n\nIf you don’t have an answer for one of the questions\, just write N/A\n\n\n\nFor most voting you will need to name a Company member. No requirement of enrollment in classes to be considered for the award. The Company member just needs to have been involved in the Company in some way this year.\n\n\n\nThere are TWO Senior only Superlatives\, otherwise any Company member can win any Superlative\n\n\n\nhttps://forms.gle/4T9NrrECmY2wqQNx5
URL:https://rachelcribbs.com/event/teddy-awards-voting-form/
CATEGORIES:RTC
END:VEVENT
BEGIN:VEVENT
DTSTART;TZID=America/Los_Angeles:20260420T000000
DTEND;TZID=America/Los_Angeles:20260424T235959
DTSTAMP:20260423T090012
CREATED:20260317T151508Z
LAST-MODIFIED:20260317T184238Z
UID:10002113-1776643200-1777075199@rachelcribbs.com
SUMMARY:RTC
DESCRIPTION:RTC\n\n\n\nDates and Second semester rehearsal schedule is available here and on the table in LT.\n\n\n\nCheck the landing page on the website for updated details.\n\n\n\nJoin RTC Remind for Company Updates: Text @7ekaf4h to 81010\n\n\n\nRTC instagram: @rhsplayers\n\n\n\n2025 2026 Rtc datesDownload \n\n\n\nS2 2025-2026 scheduleDownload \n\n\n\nSenior One Acts\n\n\n\nMonday- NC- LT\, BD- SB\, 4-7\n\n\n\nTuesday- Sonder- SB\, SWN- LT\, 4-7\n\n\n\nWednesday- NC-SB\, BD-LT\, 4-7\n\n\n\nThursday- Sonder- LT\, SWN- SB\, 4:30-7\n\n\n\nFriday- NC-LT\, BD-SB\, 4-7\n\n\n\nJoin One Acts Remind: text @g4beek to 81010\n\n\n\nConflict form: https://forms.gle/6E4hbtNTGrNr3hzF6\n\n\n\n \n\n\n\nSenior Cabaret\n\n\n\nSeniors please sign up to perform in our Senior Cabaret on May 23 after the One Acts performances. Only seniors can complete the google form. Seniors are welcome to invite underclassmen to perform with them\n\n\n\nhttps://forms.gle/n5LS4mqgLE29cEhe7
URL:https://rachelcribbs.com/event/rtc-97/
CATEGORIES:RTC
END:VEVENT
BEGIN:VEVENT
DTSTART;TZID=America/Los_Angeles:20260420T000000
DTEND;TZID=America/Los_Angeles:20260424T235959
DTSTAMP:20260423T090012
CREATED:20260408T193435Z
LAST-MODIFIED:20260410T190600Z
UID:10002136-1776643200-1777075199@rachelcribbs.com
SUMMARY:Directors
DESCRIPTION:Schedule for the week\n\n\n\nMonday- Traditional\n\n\n\nTuesday- Traditional Meeting\n\n\n\nWednesday- Even\n\n\n\nThursday- Odd\n\n\n\nFriday-Traditional\n\n\n\nTony Tuesday\n\n\n\nOn Your Feet!\n\n\n\nResponse 2 DUE: May 27 by 11:59 PM\n\n\n\nTony Tuesday response Download \n\n\n\n\n\n\n\n\n\nDirectors\n\n\n\n1- YCTIWY\n\n\n\nStudents will work with First Years on blocking their scenes and character work\n\n\n\n2- Intimacy Training\n\n\n\nStudents will learn the next two meetings for Intimacy Training
URL:https://rachelcribbs.com/event/directors-98/
CATEGORIES:Directors
END:VEVENT
BEGIN:VEVENT
DTSTART;TZID=America/Los_Angeles:20260420T000000
DTEND;TZID=America/Los_Angeles:20260424T235959
DTSTAMP:20260423T090012
CREATED:20260408T221216Z
LAST-MODIFIED:20260420T151041Z
UID:10002137-1776643200-1777075199@rachelcribbs.com
SUMMARY:Styles
DESCRIPTION:Schedule for the week\n\n\n\nMonday- Traditional\n\n\n\nTuesday- Traditional Meeting\n\n\n\nWednesday- Even\n\n\n\nThursday- Odd\n\n\n\nFriday-Traditional\n\n\n\nTony Tuesday\n\n\n\nOn Your Feet!\n\n\n\nResponse 2 DUE: May 27 by 11:59 PM\n\n\n\nTony Tuesday response Download \n\n\n\n\n\n\n\n\n\nStyles\n\n\n\n1- Shakespeare scenes\n\n\n\nStudents will work on the 3 person scene with Sayuri\, line interp\, scansion\, meaning\n\n\n\n2- Shakespeare Much Ado scene work\n\n\n\nStudents will work on scanning lines\, line interp and watch the scene for analysis\n\n\n\n3- Shakespeare Romeo and Juliet scene work\n\n\n\nStudents will work on scanning lines\, line interp and watch the scene for analysis
URL:https://rachelcribbs.com/event/styles-102/
CATEGORIES:Styles
END:VEVENT
BEGIN:VEVENT
DTSTART;TZID=America/Los_Angeles:20260420T000000
DTEND;TZID=America/Los_Angeles:20260424T235959
DTSTAMP:20260423T090012
CREATED:20260408T221359Z
LAST-MODIFIED:20260416T142038Z
UID:10002138-1776643200-1777075199@rachelcribbs.com
SUMMARY:Basics
DESCRIPTION:Schedule for the week\n\n\n\nMonday- Traditional\n\n\n\nTuesday- Traditional Meeting\n\n\n\nWednesday- Even\n\n\n\nThursday- Odd\n\n\n\nFriday-Traditional\n\n\n\nTony Tuesday\n\n\n\nOn Your Feet!\n\n\n\nResponse 2 DUE: May 27 by 11:59 PM\n\n\n\nTony Tuesday response Download \n\n\n\n\n\n\n\n\n\nBasics\n\n\n\n1- Commedia Characters acting\n\n\n\nStudents will choose parts from the play and work scenes from 2 Harlequins\n\n\n\nCharacterization\, act as the Commedia character\n\n\n\nTHE TWO HARLEQUINS commedia play Download \n\n\n\nZanni and Puchinella
URL:https://rachelcribbs.com/event/basics-101/
CATEGORIES:Basics
END:VEVENT
BEGIN:VEVENT
DTSTART;TZID=America/Los_Angeles:20260420T000000
DTEND;TZID=America/Los_Angeles:20260424T235959
DTSTAMP:20260423T090013
CREATED:20260408T221641Z
LAST-MODIFIED:20260408T221644Z
UID:10002139-1776643200-1777075199@rachelcribbs.com
SUMMARY:Theatre 1
DESCRIPTION:Schedule for the week\n\n\n\nMonday- Traditional\n\n\n\nTuesday- Traditional Meeting\n\n\n\nWednesday- Even\n\n\n\nThursday- Odd\n\n\n\nFriday-Traditional\n\n\n\nTony Tuesday\n\n\n\nOn Your Feet!\n\n\n\nResponse 2 DUE: May 27 by 11:59 PM\n\n\n\nTony Tuesday response Download \n\n\n\n\n\n\n\n\n\nTheatre 1\n\n\n\n1- Stanislavsky character work\n\n\n\nStudents will work on characterization using the Stanislavsky Method worksheet.\n\n\n\n2- Blocking/Rehearsal\n\n\n\nStudents will work their blocking and start running rehearsals
URL:https://rachelcribbs.com/event/theatre-1-104/
CATEGORIES:Theatre 1
END:VEVENT
BEGIN:VEVENT
DTSTART;TZID=America/Los_Angeles:20260420T000000
DTEND;TZID=America/Los_Angeles:20260424T235959
DTSTAMP:20260423T090013
CREATED:20260408T222033Z
LAST-MODIFIED:20260416T142319Z
UID:10002140-1776643200-1777075199@rachelcribbs.com
SUMMARY:Intro to Theatre
DESCRIPTION:Schedule for the week\n\n\n\nMonday- Traditional\n\n\n\nTuesday- Traditional Meeting\n\n\n\nWednesday- Even\n\n\n\nThursday- Odd\n\n\n\nFriday-Traditional\n\n\n\nTony Tuesday\n\n\n\nOn Your Feet!\n\n\n\nResponse 2 DUE: May 27 by 11:59 PM\n\n\n\nTony Tuesday response Download \n\n\n\n\n\n\n\n\n\nIntro to Theatre\n\n\n\n1- Monolgue\n\n\n\nStudents will learn what a monologue is and the importance of solo speeches. We will watch 2 monologues each day and analyze message and performance\n\n\n\n2- Monologue analysis: message/characterization\n\n\n\nWe will work on a monologue together in class and work on characterization\n\n\n\nvanda monologueDownload
URL:https://rachelcribbs.com/event/intro-to-theatre-105/
CATEGORIES:Intro to Theatre
END:VEVENT
BEGIN:VEVENT
DTSTART;TZID=America/Los_Angeles:20260420T000000
DTEND;TZID=America/Los_Angeles:20260424T235959
DTSTAMP:20260423T090014
CREATED:20260408T224927Z
LAST-MODIFIED:20260408T224930Z
UID:10002141-1776643200-1777075199@rachelcribbs.com
SUMMARY:Costume
DESCRIPTION:Schedule for the week\n\n\n\nMonday- Traditional\n\n\n\nTuesday- Traditional Meeting\n\n\n\nWednesday- Even\n\n\n\nThursday- Odd\n\n\n\nFriday-Traditional\n\n\n\nTony Tuesday\n\n\n\nOn Your Feet!\n\n\n\nResponse 2 DUE: May 27 by 11:59 PM\n\n\n\nTony Tuesday response Download \n\n\n\n\n\n\n\n\n\nCostume\n\n\n\n1- OA\n\n\n\nFittings and adjustments for SOA\, finish SOA
URL:https://rachelcribbs.com/event/costume-99/
CATEGORIES:Costume
END:VEVENT
END:VCALENDAR