BEGIN:VCALENDAR
VERSION:2.0
PRODID:-//Rachel Cribbs-Hibler - ECPv6.15.20//NONSGML v1.0//EN
CALSCALE:GREGORIAN
METHOD:PUBLISH
X-WR-CALNAME:Rachel Cribbs-Hibler
X-ORIGINAL-URL:https://rachelcribbs.com
X-WR-CALDESC:Events for Rachel Cribbs-Hibler
REFRESH-INTERVAL;VALUE=DURATION:PT1H
X-Robots-Tag:noindex
X-PUBLISHED-TTL:PT1H
BEGIN:VTIMEZONE
TZID:America/Los_Angeles
BEGIN:DAYLIGHT
TZOFFSETFROM:-0800
TZOFFSETTO:-0700
TZNAME:PDT
DTSTART:20250309T100000
END:DAYLIGHT
BEGIN:STANDARD
TZOFFSETFROM:-0700
TZOFFSETTO:-0800
TZNAME:PST
DTSTART:20251102T090000
END:STANDARD
BEGIN:DAYLIGHT
TZOFFSETFROM:-0800
TZOFFSETTO:-0700
TZNAME:PDT
DTSTART:20260308T100000
END:DAYLIGHT
BEGIN:STANDARD
TZOFFSETFROM:-0700
TZOFFSETTO:-0800
TZNAME:PST
DTSTART:20261101T090000
END:STANDARD
BEGIN:DAYLIGHT
TZOFFSETFROM:-0800
TZOFFSETTO:-0700
TZNAME:PDT
DTSTART:20270314T100000
END:DAYLIGHT
BEGIN:STANDARD
TZOFFSETFROM:-0700
TZOFFSETTO:-0800
TZNAME:PST
DTSTART:20271107T090000
END:STANDARD
END:VTIMEZONE
BEGIN:VEVENT
DTSTART;TZID=America/Los_Angeles:20260413T000000
DTEND;TZID=America/Los_Angeles:20260417T235959
DTSTAMP:20260424T042849
CREATED:20260408T143422Z
LAST-MODIFIED:20260408T143425Z
UID:10002131-1776038400-1776470399@rachelcribbs.com
SUMMARY:Costume
DESCRIPTION:Schedule for the week\n\n\n\nMonday- Traditional\n\n\n\nTuesday- Traditional Meeting\n\n\n\nWednesday- Even\n\n\n\nThursday- Odd\n\n\n\nFriday-Traditional\n\n\n\nTony Tuesday\n\n\n\nFrozen\n\n\n\nResponse 2 DUE: May 27 by 11:59 PM\n\n\n\nTony Tuesday response Download \n\n\n\n\n\n\n\n\n\nCostume\n\n\n\n1-  OA\n\n\n\nFittings and adjustments for SOA
URL:https://rachelcribbs.com/event/costume-98/
CATEGORIES:Costume
END:VEVENT
BEGIN:VEVENT
DTSTART;TZID=America/Los_Angeles:20260413T000000
DTEND;TZID=America/Los_Angeles:20260417T235959
DTSTAMP:20260424T042849
CREATED:20260408T143308Z
LAST-MODIFIED:20260408T143312Z
UID:10002130-1776038400-1776470399@rachelcribbs.com
SUMMARY:Intro to Theatre
DESCRIPTION:Schedule for the week\n\n\n\nMonday- Traditional\n\n\n\nTuesday- Traditional Meeting\n\n\n\nWednesday- Even\n\n\n\nThursday- Odd\n\n\n\nFriday-Traditional\n\n\n\nTony Tuesday\n\n\n\nFrozen\n\n\n\nResponse 2 DUE: May 27 by 11:59 PM\n\n\n\nTony Tuesday response Download \n\n\n\n\n\n\n\n\n\nIntro to Theatre\n\n\n\n1- Stage Combat\n\n\n\nStudents will work on their scenes for stage combat\, run rehearsals\, work lines\, memorize scene\n\n\n\nStage-Combat-handout Download \n\n\n\n2- Stage Combat performance\n\n\n\nStudents will perform stage combat scenes on Friday. Google doc due. Doc MUST include: notes on stage combat moves\, scene script\, research\, fight moves list\, notes from rehearsal
URL:https://rachelcribbs.com/event/intro-to-theatre-104/
CATEGORIES:Intro to Theatre
END:VEVENT
BEGIN:VEVENT
DTSTART;TZID=America/Los_Angeles:20260413T000000
DTEND;TZID=America/Los_Angeles:20260417T235959
DTSTAMP:20260424T042849
CREATED:20260408T143105Z
LAST-MODIFIED:20260410T190430Z
UID:10002129-1776038400-1776470399@rachelcribbs.com
SUMMARY:Theatre 1
DESCRIPTION:Schedule for the week\n\n\n\nMonday- Traditional\n\n\n\nTuesday- Traditional Meeting\n\n\n\nWednesday- Even\n\n\n\nThursday- Odd\n\n\n\nFriday-Traditional\n\n\n\nTony Tuesday\n\n\n\nFrozen\n\n\n\nResponse 2 DUE: May 27 by 11:59 PM\n\n\n\nTony Tuesday response Download \n\n\n\n\n\n\n\n\n\nTheatre 1\n\n\n\n1- Research\n\n\n\nStudents will continue character research\n\n\n\n2- Stanislavsky character work\n\n\n\nStudents will work on characterization using the Stanislavsky Method worksheet. Pages 2 and 3\n\n\n\n3- Leads\n\n\n\nStudents will learn about the different leads of the body\n\n\n\nCHARACTER_ANALYSIS_WORKSHEETDownload
URL:https://rachelcribbs.com/event/theatre-1-103/
CATEGORIES:Theatre 1
END:VEVENT
BEGIN:VEVENT
DTSTART;TZID=America/Los_Angeles:20260413T000000
DTEND;TZID=America/Los_Angeles:20260417T235959
DTSTAMP:20260424T042849
CREATED:20260408T142839Z
LAST-MODIFIED:20260408T142842Z
UID:10002128-1776038400-1776470399@rachelcribbs.com
SUMMARY:Basics
DESCRIPTION:Schedule for the week\n\n\n\nMonday- Traditional\n\n\n\nTuesday- Traditional Meeting\n\n\n\nWednesday- Even\n\n\n\nThursday- Odd\n\n\n\nFriday-Traditional\n\n\n\nTony Tuesday\n\n\n\nFrozen\n\n\n\nResponse 2 DUE: May 27 by 11:59 PM\n\n\n\nTony Tuesday response Download \n\n\n\n\n\n\n\n\n\nBasics\n\n\n\n1- Commedia Characters acting\n\n\n\nStudents will learn how to act for each Commedia character\n\n\n\n2- 2 Harlequins\n\n\n\nWe will read and analyze a Commedia play\n\n\n\nTHE TWO HARLEQUINS commedia play Download
URL:https://rachelcribbs.com/event/basics-100/
CATEGORIES:Basics
END:VEVENT
BEGIN:VEVENT
DTSTART;TZID=America/Los_Angeles:20260413T000000
DTEND;TZID=America/Los_Angeles:20260417T235959
DTSTAMP:20260424T042849
CREATED:20260408T142443Z
LAST-MODIFIED:20260408T142512Z
UID:10002127-1776038400-1776470399@rachelcribbs.com
SUMMARY:Styles
DESCRIPTION:Schedule for the week\n\n\n\nMonday- Traditional\n\n\n\nTuesday- Traditional Meeting\n\n\n\nWednesday- Even\n\n\n\nThursday- Odd\n\n\n\nFriday-Traditional\n\n\n\nTony Tuesday\n\n\n\nFrozen\n\n\n\nResponse 2 DUE: May 27 by 11:59 PM\n\n\n\nTony Tuesday response Download \n\n\n\n\n\n\n\n\n\nStyles\n\n\n\n1- Shakespeare scenes\n\n\n\nStudents will choose a 3 person scene and do character research\, scan lines\n\n\n\n2- Shakespeare scene\n\n\n\nStudents will read and analyze a scene together in class from Much Ado About Nothing\n\n\n\n3- Shakespeare performances\n\n\n\nStudents will start watching monologues and scenes from other Shakespeare shows. Much Ado About Nothing
URL:https://rachelcribbs.com/event/styles-101/
CATEGORIES:Styles
END:VEVENT
BEGIN:VEVENT
DTSTART;TZID=America/Los_Angeles:20260413T000000
DTEND;TZID=America/Los_Angeles:20260417T235959
DTSTAMP:20260424T042850
CREATED:20260326T001608Z
LAST-MODIFIED:20260410T190237Z
UID:10002121-1776038400-1776470399@rachelcribbs.com
SUMMARY:Directors
DESCRIPTION:Schedule for the week\n\n\n\nMonday- Traditional\n\n\n\nTuesday- Traditional Meeting\n\n\n\nWednesday- Even\n\n\n\nThursday- Odd\n\n\n\nFriday-Traditional\n\n\n\nTony Tuesday\n\n\n\nFrozen\n\n\n\nResponse 2 DUE: May 27 by 11:59 PM\n\n\n\nTony Tuesday response Download \n\n\n\n\n\n\n\n\n\nDirectors\n\n\n\n1- YCTIWY\n\n\n\nStudents will work with First Years on character work. Use the ground plan to block their pages. Choose pages due Monday.\n\n\n\n2- SOA poster design\n\n\n\nStudents will design a poster for their show\, include the title and an image. Due Friday\n\n\n\n3- Intimacy Training\n\n\n\nStudents will learn the next two meetings for Intimacy Training
URL:https://rachelcribbs.com/event/directors-97/
CATEGORIES:Directors
END:VEVENT
BEGIN:VEVENT
DTSTART;TZID=America/Los_Angeles:20260413T000000
DTEND;TZID=America/Los_Angeles:20260417T235959
DTSTAMP:20260424T042850
CREATED:20260317T151331Z
LAST-MODIFIED:20260317T184203Z
UID:10002112-1776038400-1776470399@rachelcribbs.com
SUMMARY:RTC
DESCRIPTION:RTC\n\n\n\nDates and Second semester rehearsal schedule is available here and on the table in LT.\n\n\n\nCheck the landing page on the website for updated details.\n\n\n\nJoin RTC Remind for Company Updates: Text @7ekaf4h to 81010\n\n\n\nRTC instagram: @rhsplayers\n\n\n\n2025 2026 Rtc datesDownload \n\n\n\nS2 2025-2026 scheduleDownload \n\n\n\nSenior One Acts\n\n\n\nMonday- Sonder- LT\, SWN- Scene Shop\, NC- SB\, BD- Outside LT\, 4-7\n\n\n\nTuesday- Sonder- LT\, SWN- SB\, 4-7\n\n\n\nWednesday- NC-LT\, BD-SB\, 4-7\n\n\n\nThursday- DARK\n\n\n\nFriday- DARK\n\n\n\nJoin One Acts Remind: text @g4beek to 81010\n\n\n\nConflict form: https://forms.gle/6E4hbtNTGrNr3hzF6\n\n\n\n \n\n\n\nSenior Cabaret\n\n\n\nSeniors please sign up to perform in our Senior Cabaret on May 23 after the One Acts performances. Only seniors can complete the google form. Seniors are welcome to invite underclassmen to perform with them\n\n\n\nhttps://forms.gle/n5LS4mqgLE29cEhe7
URL:https://rachelcribbs.com/event/rtc-96/
CATEGORIES:RTC
END:VEVENT
BEGIN:VEVENT
DTSTART;TZID=America/Los_Angeles:20260407T000000
DTEND;TZID=America/Los_Angeles:20260410T235959
DTSTAMP:20260424T042850
CREATED:20260326T010711Z
LAST-MODIFIED:20260326T010715Z
UID:10002126-1775520000-1775865599@rachelcribbs.com
SUMMARY:Costume
DESCRIPTION:Schedule for the week\n\n\n\nMonday- NO SCHOOL\n\n\n\nTuesday- Traditional\n\n\n\nWednesday- Even\n\n\n\nThursday- Odd\n\n\n\nFriday-Traditional\n\n\n\nTony Tuesday\n\n\n\nTootsie\n\n\n\nResponse 2 DUE: May 27 by 11:59 PM\n\n\n\nTony Tuesday response Download \n\n\n\n\n\n\n\n\n\nCostume\n\n\n\n1- Puffs\n\n\n\nStrike all costumes\n\n\n\n2- OA\n\n\n\nStudents will complete measurements and start pulling for their OA. Fittings and adjustments
URL:https://rachelcribbs.com/event/costume-97/
CATEGORIES:Costume
END:VEVENT
BEGIN:VEVENT
DTSTART;TZID=America/Los_Angeles:20260407T000000
DTEND;TZID=America/Los_Angeles:20260410T235959
DTSTAMP:20260424T042850
CREATED:20260326T004705Z
LAST-MODIFIED:20260326T004712Z
UID:10002125-1775520000-1775865599@rachelcribbs.com
SUMMARY:Intro to Theatre
DESCRIPTION:Schedule for the week\n\n\n\nMonday- NO SCHOOL\n\n\n\nTuesday- Traditional\n\n\n\nWednesday- Even\n\n\n\nThursday- Odd\n\n\n\nFriday-Traditional\n\n\n\nTony Tuesday\n\n\n\nTootsie\n\n\n\nResponse 2 DUE: May 27 by 11:59 PM\n\n\n\nTony Tuesday response Download \n\n\n\n\n\n\n\n\n\n \n\n\n\nIntro to Theatre\n\n\n\n1- Stage Combat\n\n\n\nStudents will work on their scenes for stage combat\, run rehearsals\, work lines\, memorize scene\n\n\n\nStage-Combat-handout Download
URL:https://rachelcribbs.com/event/intro-to-theatre-103/
CATEGORIES:Intro to Theatre
END:VEVENT
BEGIN:VEVENT
DTSTART;TZID=America/Los_Angeles:20260407T000000
DTEND;TZID=America/Los_Angeles:20260410T235959
DTSTAMP:20260424T042850
CREATED:20260326T004506Z
LAST-MODIFIED:20260326T004511Z
UID:10002124-1775520000-1775865599@rachelcribbs.com
SUMMARY:Theatre 1
DESCRIPTION:Schedule for the week\n\n\n\nMonday- NO SCHOOL\n\n\n\nTuesday- Traditional\n\n\n\nWednesday- Even\n\n\n\nThursday- Odd\n\n\n\nFriday-Traditional\n\n\n\nTony Tuesday\n\n\n\nTootsie\n\n\n\nResponse 2 DUE: May 27 by 11:59 PM\n\n\n\nTony Tuesday response Download \n\n\n\n\n\n\n\n\n\nTheatre 1\n\n\n\n1- Research\n\n\n\nStudents will work with seniors on researching the play and determining the WOP and choose characters\n\n\n\n2- Stanislavsky character work\n\n\n\nStudents will learn how to create a character worksheet using Stanislavsky’s method\n\n\n\nCHARACTER_ANALYSIS_WORKSHEETDownload
URL:https://rachelcribbs.com/event/theatre-1-102/
CATEGORIES:Theatre 1
END:VEVENT
BEGIN:VEVENT
DTSTART;TZID=America/Los_Angeles:20260407T000000
DTEND;TZID=America/Los_Angeles:20260410T235959
DTSTAMP:20260424T042850
CREATED:20260326T003943Z
LAST-MODIFIED:20260326T003947Z
UID:10002123-1775520000-1775865599@rachelcribbs.com
SUMMARY:Basics
DESCRIPTION:Schedule for the week\n\n\n\nMonday- NO SCHOOL\n\n\n\nTuesday- Traditional \n\n\n\nWednesday- Even\n\n\n\nThursday- Odd\n\n\n\nFriday-Traditional\n\n\n\nTony Tuesday\n\n\n\nTootsie\n\n\n\nResponse 2 DUE: May 27 by 11:59 PM\n\n\n\nTony Tuesday response Download \n\n\n\n\n\n\n\n\n\n \n\n\n\nBasics\n\n\n\n1- Commedia Characters acting\n\n\n\nStudents will learn how to act for each Commedia character\n\n\n\n2- 2 Harlequins\n\n\n\nWe will read and analyze a Commedia play\n\n\n\nTHE TWO HARLEQUINS commedia play Download
URL:https://rachelcribbs.com/event/basics-99/
CATEGORIES:Basics
END:VEVENT
BEGIN:VEVENT
DTSTART;TZID=America/Los_Angeles:20260407T000000
DTEND;TZID=America/Los_Angeles:20260410T235959
DTSTAMP:20260424T042850
CREATED:20260326T003527Z
LAST-MODIFIED:20260326T003533Z
UID:10002122-1775520000-1775865599@rachelcribbs.com
SUMMARY:Styles
DESCRIPTION:Schedule for the week \n\n\n\nMonday- NO SCHOOL\n\n\n\nTuesday- Traditional\n\n\n\nWednesday- Even\n\n\n\nThursday- Odd\n\n\n\nFriday-Traditional\n\n\n\nTony Tuesday\n\n\n\nTootsie\n\n\n\nResponse 2 DUE: May 27 by 11:59 PM\n\n\n\nTony Tuesday response Download \n\n\n\n\n\n\n\n\n\nStyles\n\n\n\n1- Shakespeare monologue\n\n\n\nStudents will rehearse their monologue\, perform on Friday\n\n\n\n2- Shakespeare performances\n\n\n\nStudents will start watching monologues and scenes from other Shakespeare shows. Julius Caesar
URL:https://rachelcribbs.com/event/styles-100/
CATEGORIES:Styles
END:VEVENT
BEGIN:VEVENT
DTSTART;TZID=America/Los_Angeles:20260407T000000
DTEND;TZID=America/Los_Angeles:20260410T235959
DTSTAMP:20260424T042851
CREATED:20260326T001256Z
LAST-MODIFIED:20260326T001301Z
UID:10002120-1775520000-1775865599@rachelcribbs.com
SUMMARY:Directors
DESCRIPTION:Schedule for the week\n\n\n\nMonday- NO SCHOOL\n\n\n\nTuesday- Traditional \n\n\n\nWednesday- Even\n\n\n\nThursday- Odd\n\n\n\nFriday-Traditional\n\n\n\nTony Tuesday\n\n\n\nTootsie\n\n\n\nResponse 2 DUE: May 27 by 11:59 PM\n\n\n\nTony Tuesday response Download \n\n\n\n\n\n\n\n\n\nDirectors\n\n\n\n1- YCTIWY\n\n\n\nStudents will work with First Years on researching the show and their parts. Students will cast the show and decide which pages/scenes they want to work on in class\n\n\n\n2- Intimacy Training\n\n\n\nStudents will learn how to run Intimacy Training for actors\n\n\n\nIntimacy Training for PerformersDownload
URL:https://rachelcribbs.com/event/directors-96/
CATEGORIES:Directors
END:VEVENT
BEGIN:VEVENT
DTSTART;TZID=America/Los_Angeles:20260407T000000
DTEND;TZID=America/Los_Angeles:20260410T235959
DTSTAMP:20260424T042851
CREATED:20260317T151130Z
LAST-MODIFIED:20260317T184127Z
UID:10002111-1775520000-1775865599@rachelcribbs.com
SUMMARY:RTC
DESCRIPTION:RTC\n\n\n\nDates and Second semester rehearsal schedule is available here and on the table in LT.\n\n\n\nCheck the landing page on the website for updated details.\n\n\n\nJoin RTC Remind for Company Updates: Text @7ekaf4h to 81010\n\n\n\nRTC instagram: @rhsplayers\n\n\n\n2025 2026 Rtc datesDownload \n\n\n\nS2 2025-2026 scheduleDownload \n\n\n\nSenior One Acts\n\n\n\nMemorize your lines\n\n\n\nMonday- DARK\n\n\n\nTuesday- Sonder- LT\, SWN- SB\, 4-7\n\n\n\nWednesday- NC-LT\, BD-SB\, 4-7\n\n\n\nThursday- Sonder- SB\, SWN- LT\, 4:30-7\n\n\n\nFriday- NC-SB\, BD-LT\, 4-7\n\n\n\nJoin One Acts Remind: text @g4beek to 81010\n\n\n\nConflict form: https://forms.gle/6E4hbtNTGrNr3hzF6\n\n\n\n \n\n\n\nSenior Cabaret\n\n\n\nSeniors please sign up to perform in our Senior Cabaret on May 23 after the One Acts performances. Only seniors can complete the google form. Seniors are welcome to invite underclassmen to perform with them\n\n\n\nhttps://forms.gle/n5LS4mqgLE29cEhe7
URL:https://rachelcribbs.com/event/rtc-95/
CATEGORIES:RTC
END:VEVENT
BEGIN:VEVENT
DTSTART;TZID=America/Los_Angeles:20260330T000000
DTEND;TZID=America/Los_Angeles:20260406T235959
DTSTAMP:20260424T042851
CREATED:20260120T194658Z
LAST-MODIFIED:20260120T194701Z
UID:10002053-1774828800-1775519999@rachelcribbs.com
SUMMARY:Spring Break!
DESCRIPTION:No school!
URL:https://rachelcribbs.com/event/spring-break/
CATEGORIES:School
END:VEVENT
BEGIN:VEVENT
DTSTART;TZID=America/Los_Angeles:20260328T000000
DTEND;TZID=America/Los_Angeles:20260328T235959
DTSTAMP:20260424T042851
CREATED:20250812T203758Z
LAST-MODIFIED:20260120T201444Z
UID:10001924-1774656000-1774742399@rachelcribbs.com
SUMMARY:Disneyland Trip!
DESCRIPTION:Disney Trip! \n\n\n\nWe will be going to California Adventure Park\n\n\n\nEvery year our Company travels to Disneyland for a theatre or leadership based workshop. \n\n\n\nThis year we are going on March 28\, 2026.\n\n\n\nCost is $250\, paid to Ms. Cribbs-Hibler\n\n\n\nWorkshop: Teamwork the Disney way\n\n\n\ndisney info page\n\n\n\nhttps://www.disneycampus.com/programs/leadership-innovation/teamwork-the-disney-way/
URL:https://rachelcribbs.com/event/disneyland-trip-2/
CATEGORIES:RTC
END:VEVENT
BEGIN:VEVENT
DTSTART;TZID=America/Los_Angeles:20260323T000000
DTEND;TZID=America/Los_Angeles:20260327T235959
DTSTAMP:20260424T042851
CREATED:20260317T145156Z
LAST-MODIFIED:20260317T145201Z
UID:10002110-1774224000-1774655999@rachelcribbs.com
SUMMARY:Costume
DESCRIPTION:Schedule for the week\n\n\n\nMonday- Traditional\n\n\n\nTuesday- Traditional Meeting\n\n\n\nWednesday- Even\n\n\n\nThursday- Odd\n\n\n\nFriday-Traditional\n\n\n\nTony Tuesday\n\n\n\nSuffs\n\n\n\nResponse 2 DUE: May 27 by 11:59 PM\n\n\n\nTony Tuesday response Download \n\n\n\n\n\n\n\n\n\nCostume\n\n\n\n1- Puffs\n\n\n\nStrike and put away all costumes\n\n\n\n2- OA\n\n\n\nStudents will complete measurements and start pulling for their OA
URL:https://rachelcribbs.com/event/costume-96/
CATEGORIES:Costume
END:VEVENT
BEGIN:VEVENT
DTSTART;TZID=America/Los_Angeles:20260323T000000
DTEND;TZID=America/Los_Angeles:20260327T235959
DTSTAMP:20260424T042851
CREATED:20260317T145018Z
LAST-MODIFIED:20260317T145027Z
UID:10002109-1774224000-1774655999@rachelcribbs.com
SUMMARY:Intro to Theatre
DESCRIPTION:Schedule for the week\n\n\n\nMonday- Traditional\n\n\n\nTuesday- Traditional Meeting\n\n\n\nWednesday- Even\n\n\n\nThursday- Odd\n\n\n\nFriday-Traditional\n\n\n\nTony Tuesday\n\n\n\nSuffs\n\n\n\nResponse 2 DUE: May 27 by 11:59 PM\n\n\n\nTony Tuesday response Download \n\n\n\n\n\n\n\n\n\nIntro to Theatre\n\n\n\n1- Parts of a Theater\n\n\n\nWe will play Find the Hibler in the Audra Theater\n\n\n\nParts of a theatre glossary Download \n\n\n\n2- Stage Combat\n\n\n\nWe will continue hand to hand Stage Combat unit. Students will start planning their own scenes and writing a fight scene\n\n\n\nStage-Combat-handout Download
URL:https://rachelcribbs.com/event/intro-to-theatre-102/
CATEGORIES:Intro to Theatre
END:VEVENT
BEGIN:VEVENT
DTSTART;TZID=America/Los_Angeles:20260323T000000
DTEND;TZID=America/Los_Angeles:20260327T235959
DTSTAMP:20260424T042851
CREATED:20260317T144836Z
LAST-MODIFIED:20260317T144840Z
UID:10002108-1774224000-1774655999@rachelcribbs.com
SUMMARY:Theatre 1
DESCRIPTION:Schedule for the week\n\n\n\nMonday- Traditional\n\n\n\nTuesday- Traditional Meeting\n\n\n\nWednesday- Even\n\n\n\nThursday- Odd\n\n\n\nFriday-Traditional\n\n\n\nTony Tuesday\n\n\n\nSuffs\n\n\n\nResponse 2 DUE: May 27 by 11:59 PM\n\n\n\nTony Tuesday response Download \n\n\n\n\n\n\n\n\n\nTheatre 1\n\n\n\n1- You Can’t Take it With You\n\n\n\nWe will start working on the first act of You Can’t Take it With You. Script analysis and research doc\n\n\n\n2- Research\n\n\n\nStudents will work with seniors on researching the play and determining the WOP and choose characters
URL:https://rachelcribbs.com/event/theatre-1-101/
CATEGORIES:Theatre 1
END:VEVENT
BEGIN:VEVENT
DTSTART;TZID=America/Los_Angeles:20260323T000000
DTEND;TZID=America/Los_Angeles:20260327T235959
DTSTAMP:20260424T042851
CREATED:20260317T144619Z
LAST-MODIFIED:20260320T183116Z
UID:10002107-1774224000-1774655999@rachelcribbs.com
SUMMARY:RTC
DESCRIPTION:RTC\n\n\n\nDates and Second semester rehearsal schedule is available here and on the table in LT.\n\n\n\nCheck the landing page on the website for updated details.\n\n\n\nJoin RTC Remind for Company Updates: Text @7ekaf4h to 81010\n\n\n\nRTC instagram: @rhsplayers\n\n\n\n2025 2026 Rtc datesDownload \n\n\n\nS2 2025-2026 scheduleDownload\n\n\n\n\n\n\n\nPuffs directed by K. Kirby\n\n\n\nMonday- Strike\, ALL CALLED 4-7\n\n\n\nTuesday- DARK\n\n\n\nWednesday- DARK\n\n\n\nThursday- DARK\n\n\n\nFriday- Cast and Crew party! LT\, 4-6\n\n\n\n\n\n\n\n \n\n\n\nSenior One Acts\n\n\n\nMemorize your lines\n\n\n\nMonday- DARK\n\n\n\nTuesday- Sonder- LT\, SWN- SB\, 4-7\n\n\n\nWednesday- NC-LT\, BD-SB\, 4-7\n\n\n\nThursday- Sonder- SB\, SWN- LT\, 4-7\n\n\n\nFriday- DARK\n\n\n\nJoin One Acts Remind: text @g4beek to 81010\n\n\n\nConflict form: https://forms.gle/6E4hbtNTGrNr3hzF6
URL:https://rachelcribbs.com/event/rtc-94/
CATEGORIES:RTC
END:VEVENT
BEGIN:VEVENT
DTSTART;TZID=America/Los_Angeles:20260323T000000
DTEND;TZID=America/Los_Angeles:20260327T235959
DTSTAMP:20260424T042851
CREATED:20260317T142735Z
LAST-MODIFIED:20260317T142738Z
UID:10002106-1774224000-1774655999@rachelcribbs.com
SUMMARY:Basics
DESCRIPTION:Schedule for the week\n\n\n\nMonday- Traditional\n\n\n\nTuesday- Traditional Meeting\n\n\n\nWednesday- Even\n\n\n\nThursday- Odd\n\n\n\nFriday-Traditional\n\n\n\nTony Tuesday\n\n\n\nSuffs\n\n\n\nResponse 2 DUE: May 27 by 11:59 PM\n\n\n\nTony Tuesday response Download \n\n\n\n\n\n\n\n\n\nBasics\n\n\n\n1- Commedia Characters project\n\n\n\nEach student will choose 2 Commedia characters to deep dive and share all the characteristics and how to act like the character in class. Be sure to include the animals and the movement for each character\n\n\n\n2- 2 Harlequins\n\n\n\nWe will read and analyze a Commedia play\n\n\n\nTHE TWO HARLEQUINS commedia playDownload
URL:https://rachelcribbs.com/event/basics-98/
CATEGORIES:Basics
END:VEVENT
BEGIN:VEVENT
DTSTART;TZID=America/Los_Angeles:20260323T000000
DTEND;TZID=America/Los_Angeles:20260327T235959
DTSTAMP:20260424T042851
CREATED:20260317T142555Z
LAST-MODIFIED:20260317T142601Z
UID:10002105-1774224000-1774655999@rachelcribbs.com
SUMMARY:Styles
DESCRIPTION:Schedule for the week\n\n\n\nMonday- Traditional\n\n\n\nTuesday- Traditional Meeting\n\n\n\nWednesday- Even\n\n\n\nThursday- Odd\n\n\n\nFriday-Traditional\n\n\n\nTony Tuesday\n\n\n\nSuffs\n\n\n\nResponse 2 DUE: May 27 by 11:59 PM\n\n\n\nTony Tuesday response Download \n\n\n\n\n\n\n\n\n\nStyles\n\n\n\n1- Shakespeare monologue\n\n\n\nStudents will rehearse their monologue\n\n\n\n2- Shakespeare performances\n\n\n\nStudents will start watching monologues and scenes from other Shakespeare shows. A Midsummer Night’s Dream
URL:https://rachelcribbs.com/event/styles-99/
CATEGORIES:Styles
END:VEVENT
BEGIN:VEVENT
DTSTART;TZID=America/Los_Angeles:20260323T000000
DTEND;TZID=America/Los_Angeles:20260327T235959
DTSTAMP:20260424T042852
CREATED:20260317T142052Z
LAST-MODIFIED:20260325T225539Z
UID:10002104-1774224000-1774655999@rachelcribbs.com
SUMMARY:Directors
DESCRIPTION:Schedule for the week\n\n\n\nMonday- Traditional\n\n\n\nTuesday- Traditional Meeting\n\n\n\nWednesday- Even\n\n\n\nThursday- Odd\n\n\n\nFriday-Traditional\n\n\n\nTony Tuesday\n\n\n\nSuffs\n\n\n\nResponse 2 DUE: May 27 by 11:59 PM\n\n\n\nTony Tuesday response Download \n\n\n\n \n\n\n\n\n\n\n\n\n\nDirectors\n\n\n\n1- Stage Management\n\n\n\nStudents will learn how to write Rehearsal Reports and discuss with their Stage Managers to write up reports every rehearsal\n\n\n\nhttps://docs.google.com/document/d/1CvZN8Re_YbmUI8_hIgkDdfE6WSRokVmM/edit?usp=sharing&ouid=102836942571321421501&rtpof=true&sd=true \n\n\n\nhttps://docs.google.com/document/d/13NfvFF1OTKgbvaV7rqg-ukSOSXv0Bu2a/edit \n\n\n\nStage managersDownload\n\n\n\nDaily Call templateDownload\n\n\n\nrehearsal report templateDownload\n\n\n\n2- Find the Senior\n\n\n\nOn block day we will play hide and seek in the Theater for the first year’s test
URL:https://rachelcribbs.com/event/directors-95/
CATEGORIES:Directors
END:VEVENT
BEGIN:VEVENT
DTSTART;TZID=America/Los_Angeles:20260316T000000
DTEND;TZID=America/Los_Angeles:20260320T235959
DTSTAMP:20260424T042852
CREATED:20260308T223857Z
LAST-MODIFIED:20260308T223900Z
UID:10002103-1773619200-1774051199@rachelcribbs.com
SUMMARY:Costume
DESCRIPTION:Schedule for the week\n\n\n\nMonday- Traditional\n\n\n\nTuesday- Traditional Meeting\n\n\n\nWednesday- Even\n\n\n\nThursday- Odd\n\n\n\nFriday-Traditional\n\n\n\nTony Tuesday\n\n\n\nRock of Ages\n\n\n\nResponse 2 DUE: May 27 by 11:59 PM\n\n\n\nTony Tuesday response Download \n\n\n\n\n\n\n\n\n\nCostume\n\n\n\n1- Puffs\n\n\n\nAny changes/adjustments done\n\n\n\n2- OA Designs- Design meetings\n\n\n\nStudents will meet with their director to pitch their ideas for costume design\n\n\n\n3- OA\n\n\n\nStudents will complete measurements and start pulling for their OA
URL:https://rachelcribbs.com/event/costume-95/
CATEGORIES:Costume
END:VEVENT
BEGIN:VEVENT
DTSTART;TZID=America/Los_Angeles:20260316T000000
DTEND;TZID=America/Los_Angeles:20260320T235959
DTSTAMP:20260424T042852
CREATED:20260308T223740Z
LAST-MODIFIED:20260308T223744Z
UID:10002102-1773619200-1774051199@rachelcribbs.com
SUMMARY:Intro to Theatre
DESCRIPTION:Schedule for the week\n\n\n\nMonday- Traditional\n\n\n\nTuesday- Traditional Meeting\n\n\n\nWednesday- Even\n\n\n\nThursday- Odd\n\n\n\nFriday-Traditional\n\n\n\nTony Tuesday\n\n\n\nRock of Ages\n\n\n\nResponse 2 DUE: May 27 by 11:59 PM\n\n\n\nTony Tuesday response Download \n\n\n\n\n\n\n\n\n\nIntro to Theatre\n\n\n\n1- Parts of a Theater\n\n\n\nWe will play Find the Hibler in the Audra Theater\n\n\n\nParts of a theatre glossary Download \n\n\n\n2- Stage Combat\n\n\n\nWe will continue hand to hand Stage Combat unit. Students will start planning their own scenes and writing a fight scene\n\n\n\nStage-Combat-handout Download
URL:https://rachelcribbs.com/event/intro-to-theatre-101/
CATEGORIES:Intro to Theatre
END:VEVENT
BEGIN:VEVENT
DTSTART;TZID=America/Los_Angeles:20260316T000000
DTEND;TZID=America/Los_Angeles:20260320T235959
DTSTAMP:20260424T042852
CREATED:20260308T213957Z
LAST-MODIFIED:20260308T214031Z
UID:10002101-1773619200-1774051199@rachelcribbs.com
SUMMARY:Theatre 1
DESCRIPTION:Schedule for the week\n\n\n\nMonday- Traditional\n\n\n\nTuesday- Traditional Meeting\n\n\n\nWednesday- Even\n\n\n\nThursday- Odd\n\n\n\nFriday-Traditional\n\n\n\nTony Tuesday\n\n\n\nRock of Ages\n\n\n\nResponse 2 DUE: May 27 by 11:59 PM\n\n\n\nTony Tuesday response Download \n\n\n\n\n\n\n\n\n\nTheatre 1\n\n\n\n1- Parts of a Theater\n\n\n\nWe will play Find the Senior in the Audra\n\n\n\nParts of a theatre glossary Download \n\n\n\n2- You Can’t Take it With You\n\n\n\nWe will start working on the first act of You Can’t Take it With You. Script analysis and research doc
URL:https://rachelcribbs.com/event/theatre-1-100/
CATEGORIES:Theatre 1
END:VEVENT
BEGIN:VEVENT
DTSTART;TZID=America/Los_Angeles:20260316T000000
DTEND;TZID=America/Los_Angeles:20260320T235959
DTSTAMP:20260424T042852
CREATED:20260308T213813Z
LAST-MODIFIED:20260308T213820Z
UID:10002100-1773619200-1774051199@rachelcribbs.com
SUMMARY:Basics
DESCRIPTION:Schedule for the week\n\n\n\nMonday- Traditional\n\n\n\nTuesday- Traditional Meeting\n\n\n\nWednesday- Even\n\n\n\nThursday- Odd\n\n\n\nFriday-Traditional\n\n\n\nTony Tuesday\n\n\n\nRock of Ages\n\n\n\nResponse 2 DUE: May 27 by 11:59 PM\n\n\n\nTony Tuesday response Download \n\n\n\n\n\n\n\n\n\nBasics\n\n\n\n1- Commedia Characters project\n\n\n\nEach student will choose 2 Commedia characters to deep dive and share all the characteristics and how to act like the character in class. Be sure to include the animals and the movement for each character\n\n\n\n2- 2 Harlequins\n\n\n\nWe will read and analyze a Commedia play\n\n\n\nTHE TWO HARLEQUINS commedia playDownload
URL:https://rachelcribbs.com/event/basics-97/
CATEGORIES:Basics
END:VEVENT
BEGIN:VEVENT
DTSTART;TZID=America/Los_Angeles:20260316T000000
DTEND;TZID=America/Los_Angeles:20260320T235959
DTSTAMP:20260424T042853
CREATED:20260308T213541Z
LAST-MODIFIED:20260308T213547Z
UID:10002099-1773619200-1774051199@rachelcribbs.com
SUMMARY:Styles
DESCRIPTION:Schedule for the week\n\n\n\nMonday- Traditional\n\n\n\nTuesday- Traditional Meeting\n\n\n\nWednesday- Even\n\n\n\nThursday- Odd\n\n\n\nFriday-Traditional\n\n\n\nTony Tuesday\n\n\n\nRock of Ages\n\n\n\nResponse 2 DUE: May 27 by 11:59 PM\n\n\n\nTony Tuesday response Download \n\n\n\n\n\n\n\n\n\nStyles\n\n\n\n1- Shakespeare monologue\n\n\n\nStudents will memorize and work on characterization\n\n\n\n2- Shakespeare performances\n\n\n\nStudents will start watching monologues and scenes from other Shakespeare shows. Romeo and Juliet
URL:https://rachelcribbs.com/event/styles-98/
CATEGORIES:Styles
END:VEVENT
BEGIN:VEVENT
DTSTART;TZID=America/Los_Angeles:20260316T000000
DTEND;TZID=America/Los_Angeles:20260320T235959
DTSTAMP:20260424T042853
CREATED:20260308T213031Z
LAST-MODIFIED:20260317T141442Z
UID:10002098-1773619200-1774051199@rachelcribbs.com
SUMMARY:Directors
DESCRIPTION:Schedule for the week\n\n\n\nMonday- Traditional\n\n\n\nTuesday- Traditional Meeting\n\n\n\nWednesday- Even\n\n\n\nThursday- Odd\n\n\n\nFriday-Traditional\n\n\n\nTony Tuesday\n\n\n\nRock of Ages\n\n\n\nResponse 2 DUE: May 27 by 11:59 PM\n\n\n\nTony Tuesday response Download \n\n\n\n\n\n\n\n\n\nDirectors\n\n\n\n1- Running Rehearsals\n\n\n\nStudents will learn how to run rehearsals including how to give notes and working with lots of different personalities\n\n\n\n2- Rehearsal schedule by show DUE\n\n\n\nWrite out what you plan to do on each day of rehearsal including who is called for that rehearsal\, include times. Due Friday
URL:https://rachelcribbs.com/event/directors-94/
CATEGORIES:Directors
END:VEVENT
BEGIN:VEVENT
DTSTART;TZID=America/Los_Angeles:20260312T000000
DTEND;TZID=America/Los_Angeles:20260322T235959
DTSTAMP:20260424T042853
CREATED:20250512T171518Z
LAST-MODIFIED:20250826T002238Z
UID:10001888-1773273600-1774223999@rachelcribbs.com
SUMMARY:Puffs
DESCRIPTION:Week 1\n\n\n\nThursday- 9:30 school show\n\n\n\nFriday- 7 PM opening\n\n\n\nSaturday- 2 PM matinee\, 7 PM evening\n\n\n\nSunday- 2 PM matinee\n\n\n\n \n\n\n\nWeek 2\n\n\n\nWednesday- 9:30 school show\n\n\n\nFriday- 7 PM opening\n\n\n\nSaturday- 2 PM matinee\, 7 PM evening\n\n\n\nSunday- 2 PM matinee/ Senior Celebration
URL:https://rachelcribbs.com/event/puffs/
CATEGORIES:RTC
END:VEVENT
END:VCALENDAR