BEGIN:VCALENDAR
VERSION:2.0
PRODID:-//Rachel Cribbs-Hibler - ECPv6.15.20//NONSGML v1.0//EN
CALSCALE:GREGORIAN
METHOD:PUBLISH
X-WR-CALNAME:Rachel Cribbs-Hibler
X-ORIGINAL-URL:https://rachelcribbs.com
X-WR-CALDESC:Events for Rachel Cribbs-Hibler
REFRESH-INTERVAL;VALUE=DURATION:PT1H
X-Robots-Tag:noindex
X-PUBLISHED-TTL:PT1H
BEGIN:VTIMEZONE
TZID:America/Los_Angeles
BEGIN:DAYLIGHT
TZOFFSETFROM:-0800
TZOFFSETTO:-0700
TZNAME:PDT
DTSTART:20250309T100000
END:DAYLIGHT
BEGIN:STANDARD
TZOFFSETFROM:-0700
TZOFFSETTO:-0800
TZNAME:PST
DTSTART:20251102T090000
END:STANDARD
BEGIN:DAYLIGHT
TZOFFSETFROM:-0800
TZOFFSETTO:-0700
TZNAME:PDT
DTSTART:20260308T100000
END:DAYLIGHT
BEGIN:STANDARD
TZOFFSETFROM:-0700
TZOFFSETTO:-0800
TZNAME:PST
DTSTART:20261101T090000
END:STANDARD
BEGIN:DAYLIGHT
TZOFFSETFROM:-0800
TZOFFSETTO:-0700
TZNAME:PDT
DTSTART:20270314T100000
END:DAYLIGHT
BEGIN:STANDARD
TZOFFSETFROM:-0700
TZOFFSETTO:-0800
TZNAME:PST
DTSTART:20271107T090000
END:STANDARD
END:VTIMEZONE
BEGIN:VEVENT
DTSTART;TZID=America/Los_Angeles:20260413T000000
DTEND;TZID=America/Los_Angeles:20260417T235959
DTSTAMP:20260423T124915
CREATED:20260408T143105Z
LAST-MODIFIED:20260410T190430Z
UID:10002129-1776038400-1776470399@rachelcribbs.com
SUMMARY:Theatre 1
DESCRIPTION:Schedule for the week\n\n\n\nMonday- Traditional\n\n\n\nTuesday- Traditional Meeting\n\n\n\nWednesday- Even\n\n\n\nThursday- Odd\n\n\n\nFriday-Traditional\n\n\n\nTony Tuesday\n\n\n\nFrozen\n\n\n\nResponse 2 DUE: May 27 by 11:59 PM\n\n\n\nTony Tuesday response Download \n\n\n\n\n\n\n\n\n\nTheatre 1\n\n\n\n1- Research\n\n\n\nStudents will continue character research\n\n\n\n2- Stanislavsky character work\n\n\n\nStudents will work on characterization using the Stanislavsky Method worksheet. Pages 2 and 3\n\n\n\n3- Leads\n\n\n\nStudents will learn about the different leads of the body\n\n\n\nCHARACTER_ANALYSIS_WORKSHEETDownload
URL:https://rachelcribbs.com/event/theatre-1-103/
CATEGORIES:Theatre 1
END:VEVENT
BEGIN:VEVENT
DTSTART;TZID=America/Los_Angeles:20260413T000000
DTEND;TZID=America/Los_Angeles:20260417T235959
DTSTAMP:20260423T124916
CREATED:20260408T143308Z
LAST-MODIFIED:20260408T143312Z
UID:10002130-1776038400-1776470399@rachelcribbs.com
SUMMARY:Intro to Theatre
DESCRIPTION:Schedule for the week\n\n\n\nMonday- Traditional\n\n\n\nTuesday- Traditional Meeting\n\n\n\nWednesday- Even\n\n\n\nThursday- Odd\n\n\n\nFriday-Traditional\n\n\n\nTony Tuesday\n\n\n\nFrozen\n\n\n\nResponse 2 DUE: May 27 by 11:59 PM\n\n\n\nTony Tuesday response Download \n\n\n\n\n\n\n\n\n\nIntro to Theatre\n\n\n\n1- Stage Combat\n\n\n\nStudents will work on their scenes for stage combat\, run rehearsals\, work lines\, memorize scene\n\n\n\nStage-Combat-handout Download \n\n\n\n2- Stage Combat performance\n\n\n\nStudents will perform stage combat scenes on Friday. Google doc due. Doc MUST include: notes on stage combat moves\, scene script\, research\, fight moves list\, notes from rehearsal
URL:https://rachelcribbs.com/event/intro-to-theatre-104/
CATEGORIES:Intro to Theatre
END:VEVENT
BEGIN:VEVENT
DTSTART;TZID=America/Los_Angeles:20260413T000000
DTEND;TZID=America/Los_Angeles:20260417T235959
DTSTAMP:20260423T124916
CREATED:20260408T143422Z
LAST-MODIFIED:20260408T143425Z
UID:10002131-1776038400-1776470399@rachelcribbs.com
SUMMARY:Costume
DESCRIPTION:Schedule for the week\n\n\n\nMonday- Traditional\n\n\n\nTuesday- Traditional Meeting\n\n\n\nWednesday- Even\n\n\n\nThursday- Odd\n\n\n\nFriday-Traditional\n\n\n\nTony Tuesday\n\n\n\nFrozen\n\n\n\nResponse 2 DUE: May 27 by 11:59 PM\n\n\n\nTony Tuesday response Download \n\n\n\n\n\n\n\n\n\nCostume\n\n\n\n1-  OA\n\n\n\nFittings and adjustments for SOA
URL:https://rachelcribbs.com/event/costume-98/
CATEGORIES:Costume
END:VEVENT
BEGIN:VEVENT
DTSTART;TZID=America/Los_Angeles:20260415T000000
DTEND;TZID=America/Los_Angeles:20260430T235959
DTSTAMP:20260423T124916
CREATED:20260415T145819Z
LAST-MODIFIED:20260415T145823Z
UID:10002156-1776211200-1777593599@rachelcribbs.com
SUMMARY:Teddy Awards Voting Form
DESCRIPTION:Please complete the voting for Teddy Awards by April 30. \n\n\n\nIf you don’t have an answer for one of the questions\, just write N/A\n\n\n\nFor most voting you will need to name a Company member. No requirement of enrollment in classes to be considered for the award. The Company member just needs to have been involved in the Company in some way this year.\n\n\n\nThere are TWO Senior only Superlatives\, otherwise any Company member can win any Superlative\n\n\n\nhttps://forms.gle/4T9NrrECmY2wqQNx5
URL:https://rachelcribbs.com/event/teddy-awards-voting-form/
CATEGORIES:RTC
END:VEVENT
BEGIN:VEVENT
DTSTART;TZID=America/Los_Angeles:20260420T000000
DTEND;TZID=America/Los_Angeles:20260424T235959
DTSTAMP:20260423T124916
CREATED:20260317T151508Z
LAST-MODIFIED:20260317T184238Z
UID:10002113-1776643200-1777075199@rachelcribbs.com
SUMMARY:RTC
DESCRIPTION:RTC\n\n\n\nDates and Second semester rehearsal schedule is available here and on the table in LT.\n\n\n\nCheck the landing page on the website for updated details.\n\n\n\nJoin RTC Remind for Company Updates: Text @7ekaf4h to 81010\n\n\n\nRTC instagram: @rhsplayers\n\n\n\n2025 2026 Rtc datesDownload \n\n\n\nS2 2025-2026 scheduleDownload \n\n\n\nSenior One Acts\n\n\n\nMonday- NC- LT\, BD- SB\, 4-7\n\n\n\nTuesday- Sonder- SB\, SWN- LT\, 4-7\n\n\n\nWednesday- NC-SB\, BD-LT\, 4-7\n\n\n\nThursday- Sonder- LT\, SWN- SB\, 4:30-7\n\n\n\nFriday- NC-LT\, BD-SB\, 4-7\n\n\n\nJoin One Acts Remind: text @g4beek to 81010\n\n\n\nConflict form: https://forms.gle/6E4hbtNTGrNr3hzF6\n\n\n\n \n\n\n\nSenior Cabaret\n\n\n\nSeniors please sign up to perform in our Senior Cabaret on May 23 after the One Acts performances. Only seniors can complete the google form. Seniors are welcome to invite underclassmen to perform with them\n\n\n\nhttps://forms.gle/n5LS4mqgLE29cEhe7
URL:https://rachelcribbs.com/event/rtc-97/
CATEGORIES:RTC
END:VEVENT
BEGIN:VEVENT
DTSTART;TZID=America/Los_Angeles:20260420T000000
DTEND;TZID=America/Los_Angeles:20260424T235959
DTSTAMP:20260423T124916
CREATED:20260408T193435Z
LAST-MODIFIED:20260410T190600Z
UID:10002136-1776643200-1777075199@rachelcribbs.com
SUMMARY:Directors
DESCRIPTION:Schedule for the week\n\n\n\nMonday- Traditional\n\n\n\nTuesday- Traditional Meeting\n\n\n\nWednesday- Even\n\n\n\nThursday- Odd\n\n\n\nFriday-Traditional\n\n\n\nTony Tuesday\n\n\n\nOn Your Feet!\n\n\n\nResponse 2 DUE: May 27 by 11:59 PM\n\n\n\nTony Tuesday response Download \n\n\n\n\n\n\n\n\n\nDirectors\n\n\n\n1- YCTIWY\n\n\n\nStudents will work with First Years on blocking their scenes and character work\n\n\n\n2- Intimacy Training\n\n\n\nStudents will learn the next two meetings for Intimacy Training
URL:https://rachelcribbs.com/event/directors-98/
CATEGORIES:Directors
END:VEVENT
BEGIN:VEVENT
DTSTART;TZID=America/Los_Angeles:20260420T000000
DTEND;TZID=America/Los_Angeles:20260424T235959
DTSTAMP:20260423T124916
CREATED:20260408T221216Z
LAST-MODIFIED:20260420T151041Z
UID:10002137-1776643200-1777075199@rachelcribbs.com
SUMMARY:Styles
DESCRIPTION:Schedule for the week\n\n\n\nMonday- Traditional\n\n\n\nTuesday- Traditional Meeting\n\n\n\nWednesday- Even\n\n\n\nThursday- Odd\n\n\n\nFriday-Traditional\n\n\n\nTony Tuesday\n\n\n\nOn Your Feet!\n\n\n\nResponse 2 DUE: May 27 by 11:59 PM\n\n\n\nTony Tuesday response Download \n\n\n\n\n\n\n\n\n\nStyles\n\n\n\n1- Shakespeare scenes\n\n\n\nStudents will work on the 3 person scene with Sayuri\, line interp\, scansion\, meaning\n\n\n\n2- Shakespeare Much Ado scene work\n\n\n\nStudents will work on scanning lines\, line interp and watch the scene for analysis\n\n\n\n3- Shakespeare Romeo and Juliet scene work\n\n\n\nStudents will work on scanning lines\, line interp and watch the scene for analysis
URL:https://rachelcribbs.com/event/styles-102/
CATEGORIES:Styles
END:VEVENT
BEGIN:VEVENT
DTSTART;TZID=America/Los_Angeles:20260420T000000
DTEND;TZID=America/Los_Angeles:20260424T235959
DTSTAMP:20260423T124916
CREATED:20260408T221359Z
LAST-MODIFIED:20260416T142038Z
UID:10002138-1776643200-1777075199@rachelcribbs.com
SUMMARY:Basics
DESCRIPTION:Schedule for the week\n\n\n\nMonday- Traditional\n\n\n\nTuesday- Traditional Meeting\n\n\n\nWednesday- Even\n\n\n\nThursday- Odd\n\n\n\nFriday-Traditional\n\n\n\nTony Tuesday\n\n\n\nOn Your Feet!\n\n\n\nResponse 2 DUE: May 27 by 11:59 PM\n\n\n\nTony Tuesday response Download \n\n\n\n\n\n\n\n\n\nBasics\n\n\n\n1- Commedia Characters acting\n\n\n\nStudents will choose parts from the play and work scenes from 2 Harlequins\n\n\n\nCharacterization\, act as the Commedia character\n\n\n\nTHE TWO HARLEQUINS commedia play Download \n\n\n\nZanni and Puchinella
URL:https://rachelcribbs.com/event/basics-101/
CATEGORIES:Basics
END:VEVENT
BEGIN:VEVENT
DTSTART;TZID=America/Los_Angeles:20260420T000000
DTEND;TZID=America/Los_Angeles:20260424T235959
DTSTAMP:20260423T124917
CREATED:20260408T221641Z
LAST-MODIFIED:20260408T221644Z
UID:10002139-1776643200-1777075199@rachelcribbs.com
SUMMARY:Theatre 1
DESCRIPTION:Schedule for the week\n\n\n\nMonday- Traditional\n\n\n\nTuesday- Traditional Meeting\n\n\n\nWednesday- Even\n\n\n\nThursday- Odd\n\n\n\nFriday-Traditional\n\n\n\nTony Tuesday\n\n\n\nOn Your Feet!\n\n\n\nResponse 2 DUE: May 27 by 11:59 PM\n\n\n\nTony Tuesday response Download \n\n\n\n\n\n\n\n\n\nTheatre 1\n\n\n\n1- Stanislavsky character work\n\n\n\nStudents will work on characterization using the Stanislavsky Method worksheet.\n\n\n\n2- Blocking/Rehearsal\n\n\n\nStudents will work their blocking and start running rehearsals
URL:https://rachelcribbs.com/event/theatre-1-104/
CATEGORIES:Theatre 1
END:VEVENT
BEGIN:VEVENT
DTSTART;TZID=America/Los_Angeles:20260420T000000
DTEND;TZID=America/Los_Angeles:20260424T235959
DTSTAMP:20260423T124917
CREATED:20260408T222033Z
LAST-MODIFIED:20260416T142319Z
UID:10002140-1776643200-1777075199@rachelcribbs.com
SUMMARY:Intro to Theatre
DESCRIPTION:Schedule for the week\n\n\n\nMonday- Traditional\n\n\n\nTuesday- Traditional Meeting\n\n\n\nWednesday- Even\n\n\n\nThursday- Odd\n\n\n\nFriday-Traditional\n\n\n\nTony Tuesday\n\n\n\nOn Your Feet!\n\n\n\nResponse 2 DUE: May 27 by 11:59 PM\n\n\n\nTony Tuesday response Download \n\n\n\n\n\n\n\n\n\nIntro to Theatre\n\n\n\n1- Monolgue\n\n\n\nStudents will learn what a monologue is and the importance of solo speeches. We will watch 2 monologues each day and analyze message and performance\n\n\n\n2- Monologue analysis: message/characterization\n\n\n\nWe will work on a monologue together in class and work on characterization\n\n\n\nvanda monologueDownload
URL:https://rachelcribbs.com/event/intro-to-theatre-105/
CATEGORIES:Intro to Theatre
END:VEVENT
BEGIN:VEVENT
DTSTART;TZID=America/Los_Angeles:20260420T000000
DTEND;TZID=America/Los_Angeles:20260424T235959
DTSTAMP:20260423T124918
CREATED:20260408T224927Z
LAST-MODIFIED:20260408T224930Z
UID:10002141-1776643200-1777075199@rachelcribbs.com
SUMMARY:Costume
DESCRIPTION:Schedule for the week\n\n\n\nMonday- Traditional\n\n\n\nTuesday- Traditional Meeting\n\n\n\nWednesday- Even\n\n\n\nThursday- Odd\n\n\n\nFriday-Traditional\n\n\n\nTony Tuesday\n\n\n\nOn Your Feet!\n\n\n\nResponse 2 DUE: May 27 by 11:59 PM\n\n\n\nTony Tuesday response Download \n\n\n\n\n\n\n\n\n\nCostume\n\n\n\n1- OA\n\n\n\nFittings and adjustments for SOA\, finish SOA
URL:https://rachelcribbs.com/event/costume-99/
CATEGORIES:Costume
END:VEVENT
BEGIN:VEVENT
DTSTART;TZID=America/Los_Angeles:20260427T000000
DTEND;TZID=America/Los_Angeles:20260501T235959
DTSTAMP:20260423T124918
CREATED:20260317T184013Z
LAST-MODIFIED:20260317T184018Z
UID:10002114-1777248000-1777679999@rachelcribbs.com
SUMMARY:RTC
DESCRIPTION:RTC\n\n\n\nDates and Second semester rehearsal schedule is available here and on the table in LT.\n\n\n\nCheck the landing page on the website for updated details.\n\n\n\nJoin RTC Remind for Company Updates: Text @7ekaf4h to 81010\n\n\n\nRTC instagram: @rhsplayers\n\n\n\n2025 2026 Rtc datesDownload \n\n\n\nS2 2025-2026 scheduleDownload \n\n\n\n \n\n\n\nThursday: Tempest Field trip\, 8:30 AM-12: PM\n\n\n\nTempest info pageDownload\n\n\n\n \n\n\n\nSenior One Acts\n\n\n\nMonday- NC- LT\, BD- SB\, 4-7\n\n\n\nTuesday- Sonder- LT\, SWN- SB\, 4-7\n\n\n\nWednesday- NC-SB\, BD-LT\, 4-7\n\n\n\nThursday- Sonder- SB\, SWN- LT\, 4:30-7\n\n\n\nFriday- NC-LT\, BD-SB\, 4-7\n\n\n\nJoin One Acts Remind: text @g4beek to 81010\n\n\n\nConflict form: https://forms.gle/6E4hbtNTGrNr3hzF6\n\n\n\n \n\n\n\nSenior Cabaret\n\n\n\nSeniors please sign up to perform in our Senior Cabaret on May 23 after the One Acts performances. Only seniors can complete the google form. Seniors are welcome to invite underclassmen to perform with them\n\n\n\nhttps://forms.gle/n5LS4mqgLE29cEhe7
URL:https://rachelcribbs.com/event/rtc-98/
CATEGORIES:RTC
END:VEVENT
BEGIN:VEVENT
DTSTART;TZID=America/Los_Angeles:20260427T000000
DTEND;TZID=America/Los_Angeles:20260501T235959
DTSTAMP:20260423T124919
CREATED:20260422T143116Z
LAST-MODIFIED:20260422T143119Z
UID:10002157-1777248000-1777679999@rachelcribbs.com
SUMMARY:Directors
DESCRIPTION:Schedule for the week\n\n\n\nMonday- Traditional\n\n\n\nTuesday- Traditional Meeting\n\n\n\nWednesday- Even\n\n\n\nThursday- Odd\n\n\n\nFriday-Traditional\n\n\n\nTony Tuesday\n\n\n\nXanadu\n\n\n\nResponse 2 DUE: May 27 by 11:59 PM\n\n\n\nTony Tuesday response Download \n\n\n\n\n\n\n\n\n\n \n\n\n\nDirectors\n\n\n\n1- YCTIWY\n\n\n\nStudents will work with First Years on blocking their scenes and character work\n\n\n\n2- Intimacy Training\n\n\n\nStudents will learn the next two meetings for Intimacy Training\n\n\n\n3- Director’s program note\n\n\n\nStudents need to write a one paragraph note about their experience as a director for the program. Due next Friday
URL:https://rachelcribbs.com/event/directors-99/
CATEGORIES:Directors
END:VEVENT
BEGIN:VEVENT
DTSTART;TZID=America/Los_Angeles:20260427T000000
DTEND;TZID=America/Los_Angeles:20260501T235959
DTSTAMP:20260423T124919
CREATED:20260422T143517Z
LAST-MODIFIED:20260422T143521Z
UID:10002158-1777248000-1777679999@rachelcribbs.com
SUMMARY:Styles
DESCRIPTION:Schedule for the week\n\n\n\nMonday- Traditional\n\n\n\nTuesday- Traditional Meeting\n\n\n\nWednesday- Even\n\n\n\nThursday- Odd\n\n\n\nFriday-Traditional\n\n\n\nTony Tuesday\n\n\n\nXanadu\n\n\n\nResponse 2 DUE: May 27 by 11:59 PM\n\n\n\nTony Tuesday response Download \n\n\n\n\n\n\n\n\n\n \n\n\n\nStyles\n\n\n\n1- Shakespeare scene\n\n\n\nStudents will work on the 3 person scene with Sayuri\, line interp\, scansion\, meaning\n\n\n\n2- Shakespeare Much Ado scene work\n\n\n\nStudents will work on the scene\n\n\n\n3- Shakespeare Romeo and Juliet scene work\n\n\n\nStudents will work on scanning lines\, line interp and watch the scene for analysis
URL:https://rachelcribbs.com/event/styles-103/
CATEGORIES:Styles
END:VEVENT
BEGIN:VEVENT
DTSTART;TZID=America/Los_Angeles:20260427T000000
DTEND;TZID=America/Los_Angeles:20260501T235959
DTSTAMP:20260423T124919
CREATED:20260422T143957Z
LAST-MODIFIED:20260422T144001Z
UID:10002159-1777248000-1777679999@rachelcribbs.com
SUMMARY:Basics
DESCRIPTION:Schedule for the week\n\n\n\nMonday- Traditional\n\n\n\nTuesday- Traditional Meeting\n\n\n\nWednesday- Even\n\n\n\nThursday- Odd\n\n\n\nFriday-Traditional\n\n\n\nTony Tuesday\n\n\n\nXanadu\n\n\n\nResponse 2 DUE: May 27 by 11:59 PM\n\n\n\nTony Tuesday response Download \n\n\n\n\n\n\n\n\n\nBasics\n\n\n\n1- Commedia scene work\n\n\n\nStudents will block and work on scenes from The Two Harlequins in Commedia characters\n\n\n\nTHE TWO HARLEQUINS commedia play Download \n\n\n\n2- Watch a Commedia\n\n\n\nWe will watch Commedia play performances to help us get into character
URL:https://rachelcribbs.com/event/basics-102/
CATEGORIES:Basics
END:VEVENT
BEGIN:VEVENT
DTSTART;TZID=America/Los_Angeles:20260427T000000
DTEND;TZID=America/Los_Angeles:20260501T235959
DTSTAMP:20260423T124920
CREATED:20260422T144142Z
LAST-MODIFIED:20260422T144713Z
UID:10002160-1777248000-1777679999@rachelcribbs.com
SUMMARY:Theatre 1
DESCRIPTION:Schedule for the week\n\n\n\nMonday- Traditional\n\n\n\nTuesday- Traditional Meeting\n\n\n\nWednesday- Even\n\n\n\nThursday- Odd\n\n\n\nFriday-Traditional\n\n\n\nTony Tuesday\n\n\n\nXanadu\n\n\n\nResponse 2 DUE: May 27 by 11:59 PM\n\n\n\nTony Tuesday response Download \n\n\n\n\n\n\n\n\n\n \n\n\n\nTheatre 1\n\n\n\n1- Pace\n\n\n\nStudents will learn 0-8 pace and work on adding it to character\n\n\n\n2- Blocking/Rehearsal\n\n\n\nStudents will work their blocking and start running rehearsals
URL:https://rachelcribbs.com/event/theatre-1-105/
CATEGORIES:Theatre 1
END:VEVENT
BEGIN:VEVENT
DTSTART;TZID=America/Los_Angeles:20260427T000000
DTEND;TZID=America/Los_Angeles:20260501T235959
DTSTAMP:20260423T124920
CREATED:20260422T144408Z
LAST-MODIFIED:20260422T144414Z
UID:10002161-1777248000-1777679999@rachelcribbs.com
SUMMARY:Intro to Theatre
DESCRIPTION:Schedule for the week\n\n\n\nMonday- Traditional\n\n\n\nTuesday- Traditional Meeting\n\n\n\nWednesday- Even\n\n\n\nThursday- Odd\n\n\n\nFriday-Traditional\n\n\n\nTony Tuesday\n\n\n\nXanadu\n\n\n\nResponse 2 DUE: May 27 by 11:59 PM\n\n\n\nTony Tuesday response Download \n\n\n\n\n\n\n\n\n\n \n\n\n\nIntro to Theatre\n\n\n\n1- Monolgue\n\n\n\nStudents will learn what a monologue is and the importance of solo speeches. We will watch 2 monologues each day and analyze message and performance\n\n\n\n2- Monologue analysis: line interp\n\n\n\nWe will work on a monologue together in class and learn about line interp using beats and chunks\n\n\n\nvanda monologueDownload
URL:https://rachelcribbs.com/event/intro-to-theatre-106/
CATEGORIES:Intro to Theatre
END:VEVENT
BEGIN:VEVENT
DTSTART;TZID=America/Los_Angeles:20260427T000000
DTEND;TZID=America/Los_Angeles:20260501T235959
DTSTAMP:20260423T124920
CREATED:20260422T144642Z
LAST-MODIFIED:20260422T144645Z
UID:10002162-1777248000-1777679999@rachelcribbs.com
SUMMARY:Costume
DESCRIPTION:Schedule for the week\n\n\n\nMonday- Traditional\n\n\n\nTuesday- Traditional Meeting\n\n\n\nWednesday- Even\n\n\n\nThursday- Odd\n\n\n\nFriday-Traditional\n\n\n\nTony Tuesday\n\n\n\nXanadu\n\n\n\nResponse 2 DUE: May 27 by 11:59 PM\n\n\n\nTony Tuesday response Download \n\n\n\n\n\n\n\n\n\n \n\n\n\nCostume\n\n\n\n1- OA\n\n\n\nFittings and adjustments for SOA\n\n\n\n2- Hair\n\n\n\nStudents will learn how to straighten hair and continue to work on curling and setting hair
URL:https://rachelcribbs.com/event/costume-100/
CATEGORIES:Costume
END:VEVENT
BEGIN:VEVENT
DTSTART;TZID=America/Los_Angeles:20260430T000000
DTEND;TZID=America/Los_Angeles:20260430T235959
DTSTAMP:20260423T124920
CREATED:20260317T185649Z
LAST-MODIFIED:20260317T185653Z
UID:10002119-1777507200-1777593599@rachelcribbs.com
SUMMARY:Tempest Field Trip
DESCRIPTION:Our Company will take 30 RTC students to see Chanticleer’s production of The Tempest at the Warnor’s Theater.\n\n\n\nhttps://www.chanticleershakes.com\n\n\n\nTempest info pageDownload
URL:https://rachelcribbs.com/event/tempest-field-trip/
CATEGORIES:RTC
END:VEVENT
BEGIN:VEVENT
DTSTART;TZID=America/Los_Angeles:20260504T000000
DTEND;TZID=America/Los_Angeles:20260508T235959
DTSTAMP:20260423T124920
CREATED:20260317T184532Z
LAST-MODIFIED:20260317T184536Z
UID:10002115-1777852800-1778284799@rachelcribbs.com
SUMMARY:RTC
DESCRIPTION:RTC\n\n\n\nDates and Second semester rehearsal schedule is available here and on the table in LT.\n\n\n\nCheck the landing page on the website for updated details.\n\n\n\nJoin RTC Remind for Company Updates: Text @7ekaf4h to 81010\n\n\n\nRTC instagram: @rhsplayers\n\n\n\n2025 2026 Rtc datesDownload \n\n\n\nS2 2025-2026 scheduleDownload \n\n\n\n \n\n\n\nFriday and Saturday: FCOE Theatre Festival\, 8-5 \n\n\n\nFCOE info pageDownload\n\n\n\n \n\n\n\n \n\n\n\nSenior One Acts\n\n\n\nMonday- Sonder- LT\, SWN- SB\, 4-7\n\n\n\nTuesday- NC- SB\, BD- LT\, 4-7\n\n\n\nWednesday- Sonder- SB\, SWN- LT\, 4:30-7\n\n\n\nThursday- NC- LT\, BD- SB\, 4:30-7\n\n\n\nFriday- Sonder- LT\, SWN- SB\, 4-7\n\n\n\nJoin One Acts Remind: text @g4beek to 81010\n\n\n\nConflict form: https://forms.gle/6E4hbtNTGrNr3hzF6\n\n\n\n \n\n\n\n \n\n\n\nSenior Cabaret\n\n\n\nSeniors please sign up to perform in our Senior Cabaret on May 23 after the One Acts performances. Only seniors can complete the google form. Seniors are welcome to invite underclassmen to perform with them\n\n\n\nhttps://forms.gle/n5LS4mqgLE29cEhe7
URL:https://rachelcribbs.com/event/rtc-99/
CATEGORIES:RTC
END:VEVENT
BEGIN:VEVENT
DTSTART;TZID=America/Los_Angeles:20260511T000000
DTEND;TZID=America/Los_Angeles:20260515T235959
DTSTAMP:20260423T124920
CREATED:20260317T184822Z
LAST-MODIFIED:20260317T184826Z
UID:10002116-1778457600-1778889599@rachelcribbs.com
SUMMARY:RTC
DESCRIPTION:RTC\n\n\n\nDates and Second semester rehearsal schedule is available here and on the table in LT.\n\n\n\nCheck the landing page on the website for updated details.\n\n\n\nJoin RTC Remind for Company Updates: Text @7ekaf4h to 81010\n\n\n\nRTC instagram: @rhsplayers\n\n\n\n2025 2026 Rtc datesDownload \n\n\n\nS2 2025-2026 scheduleDownload \n\n\n\n \n\n\n\nSenior One Acts\n\n\n\nMonday- SWN- LT\, BD- SB\, 4-7\n\n\n\nTuesday- Sonder- SB\, NC- LT\, 4-7\n\n\n\nWednesday- NC-LT\, SWN-SB\, 4-7\n\n\n\nThursday- Sonder- LT\, 4:30-7\n\n\n\nFriday- DARK\n\n\n\nJoin One Acts Remind: text @g4beek to 81010\n\n\n\nConflict form: https://forms.gle/6E4hbtNTGrNr3hzF6\n\n\n\n \n\n\n\n \n\n\n\nSenior Cabaret\n\n\n\nSeniors please sign up to perform in our Senior Cabaret on May 23 after the One Acts performances. Only seniors can complete the google form. Seniors are welcome to invite underclassmen to perform with them\n\n\n\nhttps://forms.gle/n5LS4mqgLE29cEhe7
URL:https://rachelcribbs.com/event/rtc-100/
CATEGORIES:RTC
END:VEVENT
BEGIN:VEVENT
DTSTART;TZID=America/Los_Angeles:20260518T000000
DTEND;TZID=America/Los_Angeles:20260524T235959
DTSTAMP:20260423T124920
CREATED:20260317T185437Z
LAST-MODIFIED:20260317T185440Z
UID:10002117-1779062400-1779667199@rachelcribbs.com
SUMMARY:RTC
DESCRIPTION:RTC\n\n\n\nDates and Second semester rehearsal schedule is available here and on the table in LT.\n\n\n\nCheck the landing page on the website for updated details.\n\n\n\nJoin RTC Remind for Company Updates: Text @7ekaf4h to 81010\n\n\n\nRTC instagram: @rhsplayers\n\n\n\n2025 2026 Rtc datesDownload \n\n\n\nS2 2025-2026 scheduleDownload \n\n\n\n \n\n\n\nSenior One Acts\n\n\n\nMonday- Tech SWN\, LT\, 4-7\n\n\n\nTuesday- Tech BD/NC\, LT\, 4-7\n\n\n\nWednesday- Tech Sonder\, LT\, 4-7\n\n\n\nThursday- DARK\n\n\n\nFriday- Performances: S/BD\, call 5 PM\, curtain 7 PM\n\n\n\nSaturday- Performances: S/BD\, call 12\, curtain 2 PM\n\n\n\nPerformances: NC/SWN\, call 5 PM\, curtain 7 PM\n\n\n\nSenior Cabaret\n\n\n\nSunday- Performances: NC/SWN\, call 12\, curtain 2 PM\n\n\n\n \n\n\n\nJoin One Acts Remind: text @g4beek to 81010\n\n\n\nConflict form: https://forms.gle/6E4hbtNTGrNr3hzF6\n\n\n\n \n\n\n\n \n\n\n\nSenior Cabaret\n\n\n\nSeniors please sign up to perform in our Senior Cabaret on May 23 after the One Acts performances. Only seniors can complete the google form. Seniors are welcome to invite underclassmen to perform with them\n\n\n\nhttps://forms.gle/n5LS4mqgLE29cEhe7
URL:https://rachelcribbs.com/event/rtc-102/
CATEGORIES:RTC
END:VEVENT
BEGIN:VEVENT
DTSTART;TZID=America/Los_Angeles:20260525T000000
DTEND;TZID=America/Los_Angeles:20260525T235959
DTSTAMP:20260423T124920
CREATED:20260408T192309Z
LAST-MODIFIED:20260408T192312Z
UID:10002134-1779667200-1779753599@rachelcribbs.com
SUMMARY:NO SCHOOL!
DESCRIPTION:
URL:https://rachelcribbs.com/event/no-school-57/
CATEGORIES:School
END:VEVENT
BEGIN:VEVENT
DTSTART;TZID=America/Los_Angeles:20260525T000000
DTEND;TZID=America/Los_Angeles:20260529T235959
DTSTAMP:20260423T124920
CREATED:20260317T185243Z
LAST-MODIFIED:20260408T192133Z
UID:10002118-1779667200-1780099199@rachelcribbs.com
SUMMARY:RTC
DESCRIPTION:RTC\n\n\n\nDates and Second semester rehearsal schedule is available here and on the table in LT.\n\n\n\nCheck the landing page on the website for updated details.\n\n\n\nJoin RTC Remind for Company Updates: Text @7ekaf4h to 81010\n\n\n\nRTC instagram: @rhsplayers\n\n\n\n2025 2026 Rtc datesDownload \n\n\n\nS2 2025-2026 scheduleDownload \n\n\n\n \n\n\n\nSenior One Acts\n\n\n\nMonday- DARK\n\n\n\nTuesday- Strike\, 4-7\, LT\n\n\n\nWednesday- DARK\n\n\n\nThursday- DARK\n\n\n\nFriday- DARK\n\n\n\nJoin One Acts Remind: text @g4beek to 81010
URL:https://rachelcribbs.com/event/rtc-101/
CATEGORIES:RTC
END:VEVENT
BEGIN:VEVENT
DTSTART;TZID=America/Los_Angeles:20260601T000000
DTEND;TZID=America/Los_Angeles:20260605T235959
DTSTAMP:20260423T124920
CREATED:20260408T192225Z
LAST-MODIFIED:20260408T192230Z
UID:10002133-1780272000-1780703999@rachelcribbs.com
SUMMARY:RTC
DESCRIPTION:RTC\n\n\n\nDates and Second semester rehearsal schedule is available here and on the table in LT.\n\n\n\nCheck the landing page on the website for updated details.\n\n\n\nJoin RTC Remind for Company Updates: Text @7ekaf4h to 81010\n\n\n\nRTC instagram: @rhsplayers\n\n\n\n2025 2026 Rtc dates Download \n\n\n\nS2 2025-2026 scheduleDownload \n\n\n\n\n\n\n\nMonday- DARK\n\n\n\nTuesday- DARK\n\n\n\nWednesday- DARK\n\n\n\nThursday- Teddys Tech 4-7\n\n\n\nFriday- Teddys\, 7-9
URL:https://rachelcribbs.com/event/rtc-103/
CATEGORIES:RTC
END:VEVENT
BEGIN:VEVENT
DTSTART;TZID=America/Los_Angeles:20260605T000000
DTEND;TZID=America/Los_Angeles:20260605T235959
DTSTAMP:20260423T124920
CREATED:20260408T192047Z
LAST-MODIFIED:20260408T192050Z
UID:10002132-1780617600-1780703999@rachelcribbs.com
SUMMARY:Teddy Awards
DESCRIPTION:Teddy Awards presented by the RTC Junior Class. 7-9 PM in Little Theater\, evening attire encouraged
URL:https://rachelcribbs.com/event/teddy-awards-4/
CATEGORIES:RTC
END:VEVENT
BEGIN:VEVENT
DTSTART;TZID=America/Los_Angeles:20260611T000000
DTEND;TZID=America/Los_Angeles:20260611T235959
DTSTAMP:20260423T124920
CREATED:20260409T145458Z
LAST-MODIFIED:20260409T145501Z
UID:10002143-1781136000-1781222399@rachelcribbs.com
SUMMARY:Last day of school! 2025-2026
DESCRIPTION:
URL:https://rachelcribbs.com/event/last-day-of-school-2025-2026/
CATEGORIES:School
END:VEVENT
BEGIN:VEVENT
DTSTART;TZID=America/Los_Angeles:20260817T000000
DTEND;TZID=America/Los_Angeles:20260817T235959
DTSTAMP:20260423T124920
CREATED:20260409T145412Z
LAST-MODIFIED:20260409T145419Z
UID:10002142-1786924800-1787011199@rachelcribbs.com
SUMMARY:First day of school! 2026-2027
DESCRIPTION:
URL:https://rachelcribbs.com/event/first-day-of-school-2026-2027/
CATEGORIES:School
END:VEVENT
BEGIN:VEVENT
DTSTART;TZID=America/Los_Angeles:20260907T000000
DTEND;TZID=America/Los_Angeles:20260907T235959
DTSTAMP:20260423T124921
CREATED:20260409T145530Z
LAST-MODIFIED:20260409T145534Z
UID:10002144-1788739200-1788825599@rachelcribbs.com
SUMMARY:No SCHOOL!
DESCRIPTION:
URL:https://rachelcribbs.com/event/no-school-58/
CATEGORIES:School
END:VEVENT
BEGIN:VEVENT
DTSTART;TZID=America/Los_Angeles:20261012T000000
DTEND;TZID=America/Los_Angeles:20261012T235959
DTSTAMP:20260423T124921
CREATED:20260409T145605Z
LAST-MODIFIED:20260409T145609Z
UID:10002145-1791763200-1791849599@rachelcribbs.com
SUMMARY:No School!
DESCRIPTION:
URL:https://rachelcribbs.com/event/no-school-59/
CATEGORIES:School
END:VEVENT
END:VCALENDAR