BEGIN:VCALENDAR
VERSION:2.0
PRODID:-//Rachel Cribbs-Hibler - ECPv6.15.20//NONSGML v1.0//EN
CALSCALE:GREGORIAN
METHOD:PUBLISH
X-WR-CALNAME:Rachel Cribbs-Hibler
X-ORIGINAL-URL:https://rachelcribbs.com
X-WR-CALDESC:Events for Rachel Cribbs-Hibler
REFRESH-INTERVAL;VALUE=DURATION:PT1H
X-Robots-Tag:noindex
X-PUBLISHED-TTL:PT1H
BEGIN:VTIMEZONE
TZID:America/Los_Angeles
BEGIN:DAYLIGHT
TZOFFSETFROM:-0800
TZOFFSETTO:-0700
TZNAME:PDT
DTSTART:20240310T100000
END:DAYLIGHT
BEGIN:STANDARD
TZOFFSETFROM:-0700
TZOFFSETTO:-0800
TZNAME:PST
DTSTART:20241103T090000
END:STANDARD
BEGIN:DAYLIGHT
TZOFFSETFROM:-0800
TZOFFSETTO:-0700
TZNAME:PDT
DTSTART:20250309T100000
END:DAYLIGHT
BEGIN:STANDARD
TZOFFSETFROM:-0700
TZOFFSETTO:-0800
TZNAME:PST
DTSTART:20251102T090000
END:STANDARD
BEGIN:DAYLIGHT
TZOFFSETFROM:-0800
TZOFFSETTO:-0700
TZNAME:PDT
DTSTART:20260308T100000
END:DAYLIGHT
BEGIN:STANDARD
TZOFFSETFROM:-0700
TZOFFSETTO:-0800
TZNAME:PST
DTSTART:20261101T090000
END:STANDARD
END:VTIMEZONE
BEGIN:VTIMEZONE
TZID:America/Denver
BEGIN:DAYLIGHT
TZOFFSETFROM:-0700
TZOFFSETTO:-0600
TZNAME:MDT
DTSTART:20240310T090000
END:DAYLIGHT
BEGIN:STANDARD
TZOFFSETFROM:-0600
TZOFFSETTO:-0700
TZNAME:MST
DTSTART:20241103T080000
END:STANDARD
BEGIN:DAYLIGHT
TZOFFSETFROM:-0700
TZOFFSETTO:-0600
TZNAME:MDT
DTSTART:20250309T090000
END:DAYLIGHT
BEGIN:STANDARD
TZOFFSETFROM:-0600
TZOFFSETTO:-0700
TZNAME:MST
DTSTART:20251102T080000
END:STANDARD
BEGIN:DAYLIGHT
TZOFFSETFROM:-0700
TZOFFSETTO:-0600
TZNAME:MDT
DTSTART:20260308T090000
END:DAYLIGHT
BEGIN:STANDARD
TZOFFSETFROM:-0600
TZOFFSETTO:-0700
TZNAME:MST
DTSTART:20261101T080000
END:STANDARD
END:VTIMEZONE
BEGIN:VEVENT
DTSTART;TZID=America/Los_Angeles:20250428T000000
DTEND;TZID=America/Los_Angeles:20250502T235959
DTSTAMP:20260425T051207
CREATED:20250408T170046Z
LAST-MODIFIED:20250408T170048Z
UID:10001850-1745798400-1746230399@rachelcribbs.com
SUMMARY:Theatre 1
DESCRIPTION:Schedule for the week\n\n\n\nMonday- Traditional\n\n\n\nTuesday- Traditional Meeting\n\n\n\nWednesday- Even\n\n\n\nThursday- Odd\n\n\n\nFriday- Traditional\n\n\n\nTony Tuesday\n\n\n\nOklahoma!\n\n\n\nResponse 2 DUE: May 28 by 11:59 PM\n\n\n\nTony Tuesday response Download \n\n\n\n\n\n\n\n\n\nTheatre 1\n\n\n\n1- Musical Theatre acting\n\n\n\nStudents will work on a “I Want” song as a monologue and work on performing while singing.\n\n\n\n2- Musical Theatre script analysis\n\n\n\nStudents will analyze their song as a monologue: code\, research\, beat\, chunk
URL:https://rachelcribbs.com/event/theatre-1-68/
CATEGORIES:Theatre 1
END:VEVENT
BEGIN:VEVENT
DTSTART;TZID=America/Los_Angeles:20250428T000000
DTEND;TZID=America/Los_Angeles:20250502T235959
DTSTAMP:20260425T051207
CREATED:20250408T165444Z
LAST-MODIFIED:20250408T165446Z
UID:10001849-1745798400-1746230399@rachelcribbs.com
SUMMARY:Basics
DESCRIPTION:Schedule for the week\n\n\n\nMonday- Traditional\n\n\n\nTuesday- Traditional Meeting\n\n\n\nWednesday- Even\n\n\n\nThursday- Odd\n\n\n\nFriday- Traditional\n\n\n\nTony Tuesday\n\n\n\nOklahoma!\n\n\n\nResponse 2 DUE: May 28 by 11:59 PM\n\n\n\nTony Tuesday response Download \n\n\n\n\n\n\n\n\n\nBasics\n\n\n\n1- Commedia scene work\n\n\n\nStudents will work on a scene in class from A Haunted House. Students will improv through the script.
URL:https://rachelcribbs.com/event/basics-65/
CATEGORIES:Basics
END:VEVENT
BEGIN:VEVENT
DTSTART;TZID=America/Los_Angeles:20250428T000000
DTEND;TZID=America/Los_Angeles:20250502T235959
DTSTAMP:20260425T051207
CREATED:20250408T165249Z
LAST-MODIFIED:20250408T165251Z
UID:10001848-1745798400-1746230399@rachelcribbs.com
SUMMARY:Styles
DESCRIPTION:Schedule for the week \n\n\n\nMonday- Traditional\n\n\n\nTuesday- Traditional Meeting\n\n\n\nWednesday- Even\n\n\n\nThursday- Odd\n\n\n\nFriday- Traditional\n\n\n\nTony Tuesday\n\n\n\nOklahoma!\n\n\n\nResponse 2 DUE: May 28 by 11:59 PM\n\n\n\nTony Tuesday response Download \n\n\n\n\n\n\n\n\n\nStyles\n\n\n\n1- One Acts\n\n\n\nStudents will continue reading One Acts and planning their Senior Directing project. Choose One Act due Friday\n\n\n\n2- Teddys\n\n\n\nStudents will plan the Teddy awards
URL:https://rachelcribbs.com/event/styles-65/
CATEGORIES:Styles
END:VEVENT
BEGIN:VEVENT
DTSTART;TZID=America/Los_Angeles:20250428T000000
DTEND;TZID=America/Los_Angeles:20250502T235959
DTSTAMP:20260425T051208
CREATED:20250207T220935Z
LAST-MODIFIED:20250407T162631Z
UID:10001793-1745798400-1746230399@rachelcribbs.com
SUMMARY:RTC
DESCRIPTION:Monday- Rehearsal- MMF/7D\, 4-7\n\n\n\nTuesday- Rehearsal- MMF/GG\, 3:30-7\n\n\n\nWednesday- Rehearsal- MMF/7D\, 4-7\n\n\n\nThursday- Rehearsal- 7D\, 4:30-7 POSSIBLE DARK\n\n\n\nFriday- Rehearsal\, MMF/GG\, 4-7
URL:https://rachelcribbs.com/event/rtc-62/
CATEGORIES:RTC
END:VEVENT
BEGIN:VEVENT
DTSTART;TZID=America/Los_Angeles:20250422T000000
DTEND;TZID=America/Los_Angeles:20250425T235959
DTSTAMP:20260425T051208
CREATED:20250404T195255Z
LAST-MODIFIED:20250404T195256Z
UID:10001847-1745280000-1745625599@rachelcribbs.com
SUMMARY:Senior Cabaret Sign up
DESCRIPTION:Sign up to perform at the Senior Cabaret on May 10 after the closing of the Senior One Acts. To be considered for a spot your performance must include at least one Senior from our Company.\n\n\n\nhttps://forms.gle/EyupchkB1n1qQqWC6
URL:https://rachelcribbs.com/event/senior-cabaret-sign-up-2/
CATEGORIES:RTC
END:VEVENT
BEGIN:VEVENT
DTSTART;TZID=America/Los_Angeles:20250422T000000
DTEND;TZID=America/Los_Angeles:20250425T235959
DTSTAMP:20260425T051208
CREATED:20250403T194212Z
LAST-MODIFIED:20250403T194213Z
UID:10001845-1745280000-1745625599@rachelcribbs.com
SUMMARY:Costume
DESCRIPTION:Schedule for the week\n\n\n\nMonday- NO SCHOOL\n\n\n\nTuesday- Traditional\n\n\n\nWednesday- Even\n\n\n\nThursday- Odd\n\n\n\nFriday- Traditional\n\n\n\nTony Tuesday\n\n\n\nWaitress\n\n\n\nResponse 2 DUE: May 28 by 11:59 PM\n\n\n\nTony Tuesday response Download \n\n\n\n\n\n\n\n\n\nCostume\n\n\n\n1- OA fittings\n\n\n\nStudents will finish all OA costumes. Ready to use in rehearsal\n\n\n\n2- Stock\n\n\n\nStudents will work on stock in C-train
URL:https://rachelcribbs.com/event/costume-62/
CATEGORIES:Costume
END:VEVENT
BEGIN:VEVENT
DTSTART;TZID=America/Los_Angeles:20250422T000000
DTEND;TZID=America/Los_Angeles:20250425T235959
DTSTAMP:20260425T051208
CREATED:20250403T193726Z
LAST-MODIFIED:20250408T172333Z
UID:10001844-1745280000-1745625599@rachelcribbs.com
SUMMARY:Directors
DESCRIPTION:Schedule for the week\n\n\n\nMonday- NO SCHOOL\n\n\n\nTuesday- Traditional\n\n\n\nWednesday- Even\n\n\n\nThursday- Odd\n\n\n\nFriday- Traditional\n\n\n\nTony Tuesday\n\n\n\nWaitress\n\n\n\nResponse 2 DUE: May 28 by 11:59 PM\n\n\n\nTony Tuesday response Download \n\n\n\n\n\n\n\n\n\nDirectors\n\n\n\n1- Acting Technique\n\n\n\nStudents will learn an advanced acting technique: Alexander\n\n\n\nThe Alexander TechniqueDownload\n\n\n\n2- Sword combat\n\n\n\nStudents will learn the basics of stage combat using swords
URL:https://rachelcribbs.com/event/directors-62/
CATEGORIES:Directors
END:VEVENT
BEGIN:VEVENT
DTSTART;TZID=America/Los_Angeles:20250422T000000
DTEND;TZID=America/Los_Angeles:20250425T235959
DTSTAMP:20260425T051208
CREATED:20250403T193433Z
LAST-MODIFIED:20250403T194022Z
UID:10001843-1745280000-1745625599@rachelcribbs.com
SUMMARY:Intro to Theatre
DESCRIPTION:Schedule for the week\n\n\n\nMonday- NO SCHOOL\n\n\n\nTuesday- Traditional\n\n\n\nWednesday- Even\n\n\n\nThursday- Odd\n\n\n\nFriday- Traditional\n\n\n\nTony Tuesday\n\n\n\nWaitress\n\n\n\nResponse 2 DUE: May 28 by 11:59 PM\n\n\n\nTony Tuesday response Download \n\n\n\n\n\n\n\n\n\nIntro to Theatre\n\n\n\n1- Monologue memorization\n\n\n\nStudents will memorize their monologues\n\n\n\n2- Monologue character work\n\n\n\nStudents will work on walks\, talks\, faces\, all physicals of their character\n\n\n\n3- Monologue rehearsal\n\n\n\nStudents will work on their monologue performance\, all notes in google doc
URL:https://rachelcribbs.com/event/intro-to-theatre-68/
CATEGORIES:Intro to Theatre
END:VEVENT
BEGIN:VEVENT
DTSTART;TZID=America/Los_Angeles:20250422T000000
DTEND;TZID=America/Los_Angeles:20250425T235959
DTSTAMP:20260425T051208
CREATED:20250403T193131Z
LAST-MODIFIED:20250403T193132Z
UID:10001842-1745280000-1745625599@rachelcribbs.com
SUMMARY:Theatre 1
DESCRIPTION:Schedule for the week\n\n\n\nMonday- NO SCHOOL\n\n\n\nTuesday- Traditional\n\n\n\nWednesday- Even\n\n\n\nThursday- Odd\n\n\n\nFriday- Traditional\n\n\n\nTony Tuesday\n\n\n\nWaitress\n\n\n\nResponse 2 DUE: May 28 by 11:59 PM\n\n\n\nTony Tuesday response Download \n\n\n\n\n\n\n\n\n\nTheatre 1\n\n\n\n1- Musical Theatre Intro\n\n\n\nStudents will learn the history of Musical Theatre\n\n\n\n2- Musical Theatre acting\n\n\n\nStudents will work on a “I Want” song as a monologue and work on performing while singing.
URL:https://rachelcribbs.com/event/theatre-1-67/
CATEGORIES:Theatre 1
END:VEVENT
BEGIN:VEVENT
DTSTART;TZID=America/Los_Angeles:20250422T000000
DTEND;TZID=America/Los_Angeles:20250425T235959
DTSTAMP:20260425T051208
CREATED:20250403T192850Z
LAST-MODIFIED:20250408T165655Z
UID:10001841-1745280000-1745625599@rachelcribbs.com
SUMMARY:Basics
DESCRIPTION:Schedule for the week\n\n\n\nMonday- NO SCHOOL\n\n\n\nTuesday- Traditional\n\n\n\nWednesday- Even\n\n\n\nThursday- Odd\n\n\n\nFriday- Traditional\n\n\n\nTony Tuesday\n\n\n\nWaitress\n\n\n\nResponse 2 DUE: May 28 by 11:59 PM\n\n\n\nTony Tuesday response Download \n\n\n\n\n\n\n\n\n\nBasics\n\n\n\n1- Commedia script read\n\n\n\nStudents will read the play A Haunted House. Code\, research. Cast parts\n\n\n\n2- Commedia scene work\n\n\n\nStudents will work on a scene in class from A Haunted House. Students will improv their way through the script
URL:https://rachelcribbs.com/event/basics-64/
CATEGORIES:Basics
END:VEVENT
BEGIN:VEVENT
DTSTART;TZID=America/Los_Angeles:20250422T000000
DTEND;TZID=America/Los_Angeles:20250425T235959
DTSTAMP:20260425T051208
CREATED:20250403T192639Z
LAST-MODIFIED:20250403T192647Z
UID:10001840-1745280000-1745625599@rachelcribbs.com
SUMMARY:Styles
DESCRIPTION:Schedule for the week\n\n\n\nMonday- NO SCHOOL\n\n\n\nTuesday- Traditional\n\n\n\nWednesday- Even\n\n\n\nThursday- Odd\n\n\n\nFriday- Traditional\n\n\n\nTony Tuesday\n\n\n\nWaitress\n\n\n\nResponse 2 DUE: May 28 by 11:59 PM\n\n\n\nTony Tuesday response Download \n\n\n\n\n\n\n\n\n\nStyles\n\n\n\n1- One Acts\n\n\n\nStudents will begin reading One Acts and planning their Senior Directing project\n\n\n\n2- Teddys\n\n\n\nStudents will plan the Teddy awards
URL:https://rachelcribbs.com/event/styles-64/
CATEGORIES:Styles
END:VEVENT
BEGIN:VEVENT
DTSTART;TZID=America/Los_Angeles:20250422T000000
DTEND;TZID=America/Los_Angeles:20250425T235959
DTSTAMP:20260425T051208
CREATED:20250207T220826Z
LAST-MODIFIED:20250407T162519Z
UID:10001792-1745280000-1745625599@rachelcribbs.com
SUMMARY:RTC
DESCRIPTION:Monday- DARK\n\n\n\nTuesday- Rehearsal- MMF/7D\, 4-7\n\n\n\nWednesday- Rehearsal- MMF/GG\, 4-7\n\n\n\nThursday- Rehearsal- MMF/7D\, 4:30-7\n\n\n\nFriday- Rehearsal- MMF/GG\, 4-7
URL:https://rachelcribbs.com/event/rtc-61/
CATEGORIES:RTC
END:VEVENT
BEGIN:VEVENT
DTSTART;TZID=America/Denver:20250414T000000
DTEND;TZID=America/Denver:20250421T235959
DTSTAMP:20260425T051208
CREATED:20240315T212103Z
LAST-MODIFIED:20250117T161911Z
UID:10001595-1744588800-1745279999@rachelcribbs.com
SUMMARY:No School!
DESCRIPTION:
URL:https://rachelcribbs.com/event/no-school-47/
CATEGORIES:School
END:VEVENT
BEGIN:VEVENT
DTSTART;TZID=America/Los_Angeles:20250407T000000
DTEND;TZID=America/Los_Angeles:20250411T235959
DTSTAMP:20260425T051208
CREATED:20250404T195117Z
LAST-MODIFIED:20250404T195118Z
UID:10001846-1743984000-1744415999@rachelcribbs.com
SUMMARY:Senior Cabaret Sign up
DESCRIPTION:Sign up to perform at the Senior Cabaret on May 10 after the closing of the Senior One Acts. To be considered for a spot your performance must include at least one Senior from our Company.\n\n\n\nhttps://forms.gle/EyupchkB1n1qQqWC6
URL:https://rachelcribbs.com/event/senior-cabaret-sign-up/
CATEGORIES:RTC
END:VEVENT
BEGIN:VEVENT
DTSTART;TZID=America/Los_Angeles:20250407T000000
DTEND;TZID=America/Los_Angeles:20250411T235959
DTSTAMP:20260425T051208
CREATED:20250321T211150Z
LAST-MODIFIED:20250321T211151Z
UID:10001837-1743984000-1744415999@rachelcribbs.com
SUMMARY:Costume
DESCRIPTION:Schedule for the week\n\n\n\nMonday- Traditional\n\n\n\nTuesday- Traditional Meeting\n\n\n\nWednesday- Even\n\n\n\nThursday- Odd\n\n\n\nFriday- Traditional\n\n\n\nTony Tuesday\n\n\n\nAnything Goes\n\n\n\nResponse 2 DUE: May 28 by 11:59 PM\n\n\n\nTony Tuesday response Download \n\n\n\n\n\n\n\n\n\nCostume\n\n\n\n1- OA pulls/fittings\n\n\n\nStudents will pull costumes for their One Act designs. Students need to get measurements from their casts. Students will complete fittings for their OA\n\n\n\n2- Stock\n\n\n\nStudents will work on stock in C-train
URL:https://rachelcribbs.com/event/costume-61/
CATEGORIES:Costume
END:VEVENT
BEGIN:VEVENT
DTSTART;TZID=America/Los_Angeles:20250407T000000
DTEND;TZID=America/Los_Angeles:20250411T235959
DTSTAMP:20260425T051209
CREATED:20250321T210905Z
LAST-MODIFIED:20250328T192433Z
UID:10001836-1743984000-1744415999@rachelcribbs.com
SUMMARY:Directors
DESCRIPTION:Schedule for the week\n\n\n\nMonday- Traditional\n\n\n\nTuesday- Traditional Meeting\n\n\n\nWednesday- Even\n\n\n\nThursday- Odd\n\n\n\nFriday- Traditional\n\n\n\nTony Tuesday\n\n\n\nAnything Goes\n\n\n\nResponse 2 DUE: May 28 by 11:59 PM\n\n\n\nTony Tuesday response Download \n\n\n\n\n\n\n\n\n\nDirectors\n\n\n\n1- Review rehearsals\n\n\n\nWrite a reflection on how rehearsals this week went\n\n\n\n2- YCTIWY rehearsal\n\n\n\nStudents will help with YCTIWY rehearsals and practice giving notes and running rehearsals\n\n\n\n3- YCTIWY performance evaluation\n\n\n\nStudents will review the performance and asses it on the rubric
URL:https://rachelcribbs.com/event/directors-61/
CATEGORIES:Directors
END:VEVENT
BEGIN:VEVENT
DTSTART;TZID=America/Los_Angeles:20250407T000000
DTEND;TZID=America/Los_Angeles:20250411T235959
DTSTAMP:20260425T051209
CREATED:20250321T210708Z
LAST-MODIFIED:20250321T210709Z
UID:10001835-1743984000-1744415999@rachelcribbs.com
SUMMARY:Intro to Theatre
DESCRIPTION:Schedule for the week\n\n\n\nMonday- Traditional\n\n\n\nTuesday- Traditional Meeting\n\n\n\nWednesday- Even\n\n\n\nThursday- Odd\n\n\n\nFriday- Traditional\n\n\n\nTony Tuesday\n\n\n\nAnything Goes\n\n\n\nResponse 2 DUE: May 28 by 11:59 PM\n\n\n\nTony Tuesday response Download \n\n\n\n\n\n\n\n\n\nIntro to Theatre\n\n\n\n1- Monologue performance\n\n\n\nStudents will perform their Vanda monologue on Friday\n\n\n\n2- Monologue memorization\n\n\n\nStudents will memorize their monologues\n\n\n\n3- Monologue script work\n\n\n\nStudents will code\, research\, beat and chunk their monologue
URL:https://rachelcribbs.com/event/intro-to-theatre-67/
CATEGORIES:Intro to Theatre
END:VEVENT
BEGIN:VEVENT
DTSTART;TZID=America/Los_Angeles:20250407T000000
DTEND;TZID=America/Los_Angeles:20250411T235959
DTSTAMP:20260425T051209
CREATED:20250321T210455Z
LAST-MODIFIED:20250328T192217Z
UID:10001834-1743984000-1744415999@rachelcribbs.com
SUMMARY:Theatre 1
DESCRIPTION:Schedule for the week\n\n\n\nMonday- Traditional\n\n\n\nTuesday- Traditional Meeting\n\n\n\nWednesday- Even\n\n\n\nThursday- Odd\n\n\n\nFriday- Traditional\n\n\n\nTony Tuesday\n\n\n\nAnything Goes\n\n\n\nResponse 2 DUE: May 28 by 11:59 PM\n\n\n\nTony Tuesday response Download \n\n\n\n\n\n\n\n\n\nTheatre 1\n\n\n\n1- Rehearsal\n\n\n\nStudents will run rehearsal for YCTIWY. All blocking and notes in script and google doc.\n\n\n\n2- Perform\n\n\n\nStudents will perform YCTIWY in class\, script and google doc due
URL:https://rachelcribbs.com/event/theatre-1-66/
CATEGORIES:Theatre 1
END:VEVENT
BEGIN:VEVENT
DTSTART;TZID=America/Los_Angeles:20250407T000000
DTEND;TZID=America/Los_Angeles:20250411T235959
DTSTAMP:20260425T051209
CREATED:20250321T210309Z
LAST-MODIFIED:20250408T165826Z
UID:10001833-1743984000-1744415999@rachelcribbs.com
SUMMARY:Basics
DESCRIPTION:Schedule for the week\n\n\n\nMonday- Traditional\n\n\n\nTuesday- Traditional Meeting\n\n\n\nWednesday- Even\n\n\n\nThursday- Odd\n\n\n\nFriday- Traditional\n\n\n\nTony Tuesday\n\n\n\nAnything Goes\n\n\n\nResponse 2 DUE: May 28 by 11:59 PM\n\n\n\nTony Tuesday response Download \n\n\n\n\n\n\n\n\n\nBasics\n\n\n\n1- Commedia scene work\n\n\n\nStudents will work on a scene in class from The Two Harlequins. All Commedia character performance requirements. All notes in google doc\n\n\n\n2- Commedia performance\n\n\n\nStudents will perform scenes from The Two Harlequins on Friday in class
URL:https://rachelcribbs.com/event/basics-63/
CATEGORIES:Basics
END:VEVENT
BEGIN:VEVENT
DTSTART;TZID=America/Los_Angeles:20250407T000000
DTEND;TZID=America/Los_Angeles:20250411T235959
DTSTAMP:20260425T051209
CREATED:20250321T210014Z
LAST-MODIFIED:20250321T210123Z
UID:10001832-1743984000-1744415999@rachelcribbs.com
SUMMARY:Styles
DESCRIPTION:Schedule for the week\n\n\n\nMonday- Traditional\n\n\n\nTuesday- Traditional Meeting\n\n\n\nWednesday- Even\n\n\n\nThursday- Odd\n\n\n\nFriday- Traditional\n\n\n\nTony Tuesday\n\n\n\nAnything Goes\n\n\n\nResponse 2 DUE: May 28 by 11:59 PM\n\n\n\nTony Tuesday response Download \n\n\n\n\n\n\n\n\n\nStyles\n\n\n\n1- Shakespeare scene perform\n\n\n\nPerform scenes Friday\n\n\n\n2- One Acts\n\n\n\nStudents will begin reading One Acts and planning their Senior Directing project
URL:https://rachelcribbs.com/event/styles-63/
CATEGORIES:Styles
END:VEVENT
BEGIN:VEVENT
DTSTART;TZID=America/Los_Angeles:20250407T000000
DTEND;TZID=America/Los_Angeles:20250411T235959
DTSTAMP:20260425T051209
CREATED:20250207T220735Z
LAST-MODIFIED:20250407T220223Z
UID:10001791-1743984000-1744415999@rachelcribbs.com
SUMMARY:RTC
DESCRIPTION:Monday- Rehearsal- MMF/7D\, 4-7\n\n\n\nTuesday- Rehearsal- MMF\, 3:30-7\n\n\n\nWednesday- Rehearsal- MMF/7D\, 4-7\n\n\n\nThursday- Rehearsal- MMF/GG\, 4:30-7\n\n\n\nFriday- Rehearsal\, MMF/7D\, 4-7
URL:https://rachelcribbs.com/event/rtc-60/
CATEGORIES:RTC
END:VEVENT
BEGIN:VEVENT
DTSTART;TZID=America/Los_Angeles:20250331T000000
DTEND;TZID=America/Los_Angeles:20250404T235959
DTSTAMP:20260425T051209
CREATED:20250311T203237Z
LAST-MODIFIED:20250321T211250Z
UID:10001831-1743379200-1743811199@rachelcribbs.com
SUMMARY:Costume
DESCRIPTION:Schedule for the week\n\n\n\nMonday- Traditional\n\n\n\nTuesday- Traditional Meeting\n\n\n\nWednesday- Even- Field Trip\n\n\n\nThursday- Odd\n\n\n\nFriday- Traditional\n\n\n\nTony Tuesday\n\n\n\nMary Poppins\n\n\n\nResponse 2 DUE: May 28 by 11:59 PM\n\n\n\nTony Tuesday response Download \n\n\n\n\n\n\n\n\n\nCostume\n\n\n\n1- OA pulls/fittings\n\n\n\nStudents will pull costumes for their One Act designs. Students need to get measurements from their casts. Students will complete fittings for their OA\n\n\n\n2- Stock\n\n\n\nStudents will work on stock in the C-train
URL:https://rachelcribbs.com/event/costume-60/
CATEGORIES:Costume
END:VEVENT
BEGIN:VEVENT
DTSTART;TZID=America/Los_Angeles:20250331T000000
DTEND;TZID=America/Los_Angeles:20250404T235959
DTSTAMP:20260425T051209
CREATED:20250311T203104Z
LAST-MODIFIED:20250311T203105Z
UID:10001830-1743379200-1743811199@rachelcribbs.com
SUMMARY:Intro to Theatre
DESCRIPTION:Schedule for the week\n\n\n\nMonday- Traditional\n\n\n\nTuesday- Traditional Meeting\n\n\n\nWednesday- Even- Field Trip\n\n\n\nThursday- Odd\n\n\n\nFriday- Traditional\n\n\n\nTony Tuesday\n\n\n\nMary Poppins\n\n\n\nResponse 2 DUE: May 28 by 11:59 PM\n\n\n\nTony Tuesday response Download \n\n\n\n\n\n\n\n\n\nIntro to Theatre\n\n\n\n1- Monologue Rehearsal\n\n\n\nStudents will rehearse their Vanda monologue\n\n\n\n2- Monologue memorization\n\n\n\nStudents will have their monologues approved and begin memorizing.
URL:https://rachelcribbs.com/event/intro-to-theatre-66/
CATEGORIES:Intro to Theatre
END:VEVENT
BEGIN:VEVENT
DTSTART;TZID=America/Los_Angeles:20250331T000000
DTEND;TZID=America/Los_Angeles:20250404T235959
DTSTAMP:20260425T051209
CREATED:20250311T202904Z
LAST-MODIFIED:20250311T202906Z
UID:10001829-1743379200-1743811199@rachelcribbs.com
SUMMARY:Theatre 1
DESCRIPTION:Schedule for the week\n\n\n\nMonday- Traditional\n\n\n\nTuesday- Traditional Meeting\n\n\n\nWednesday- Even- Field Trip\n\n\n\nThursday- Odd\n\n\n\nFriday- Traditional\n\n\n\nTony Tuesday\n\n\n\nMary Poppins\n\n\n\nResponse 2 DUE: May 28 by 11:59 PM\n\n\n\nTony Tuesday response Download \n\n\n\n\n\n\n\n\n\nTheatre 1\n\n\n\n1- Rehearsal\n\n\n\nStudents will run rehearsal for YCTIWY. All blocking and notes in script and google doc.\n\n\n\n2- Monologue performance\n\n\n\nStudents will rehearse their monologue. Perform on Friday
URL:https://rachelcribbs.com/event/theatre-1-65/
CATEGORIES:Theatre 1
END:VEVENT
BEGIN:VEVENT
DTSTART;TZID=America/Los_Angeles:20250331T000000
DTEND;TZID=America/Los_Angeles:20250404T235959
DTSTAMP:20260425T051210
CREATED:20250311T202435Z
LAST-MODIFIED:20250311T202446Z
UID:10001828-1743379200-1743811199@rachelcribbs.com
SUMMARY:Basics
DESCRIPTION:Schedule for the week\n\n\n\nMonday- Traditional\n\n\n\nTuesday- Traditional Meeting\n\n\n\nWednesday- Even- Field Trip\n\n\n\nThursday- Odd\n\n\n\nFriday- Traditional\n\n\n\nTony Tuesday\n\n\n\nMary Poppins\n\n\n\nResponse 2 DUE: May 28 by 11:59 PM\n\n\n\nTony Tuesday response Download \n\n\n\n\n\n\n\n\n\nBasics\n\n\n\n1- Monologue\n\n\n\nStudents will rehearse their monologue. Check in this week\n\n\n\n2- Commedia scene work\n\n\n\nStudents will work on a scene in class from The Two Harlequins. All Commedia character performance requirements. All notes in google doc
URL:https://rachelcribbs.com/event/basics-62/
CATEGORIES:Basics
END:VEVENT
BEGIN:VEVENT
DTSTART;TZID=America/Los_Angeles:20250331T000000
DTEND;TZID=America/Los_Angeles:20250404T235959
DTSTAMP:20260425T051210
CREATED:20250311T165224Z
LAST-MODIFIED:20250321T205721Z
UID:10001827-1743379200-1743811199@rachelcribbs.com
SUMMARY:Styles
DESCRIPTION:Schedule for the week\n\n\n\nMonday- Traditional\n\n\n\nTuesday- Traditional Meeting\n\n\n\nWednesday- Even- Field Trip\n\n\n\nThursday- Odd\n\n\n\nFriday- Traditional\n\n\n\nTony Tuesday\n\n\n\nMary Poppins\n\n\n\nResponse 2 DUE: May 28 by 11:59 PM\n\n\n\nTony Tuesday response Download \n\n\n\n\n\n\n\n\n\nStyles\n\n\n\n1- Shakespeare monologue\n\n\n\nStudents will work on their monologue. Perform Friday\n\n\n\n2- Shakespeare scene work\n\n\n\nStudents will run rehearsal for their scenes
URL:https://rachelcribbs.com/event/styles-62/
CATEGORIES:Styles
END:VEVENT
BEGIN:VEVENT
DTSTART;TZID=America/Los_Angeles:20250331T000000
DTEND;TZID=America/Los_Angeles:20250404T235959
DTSTAMP:20260425T051210
CREATED:20250311T165023Z
LAST-MODIFIED:20250311T202710Z
UID:10001826-1743379200-1743811199@rachelcribbs.com
SUMMARY:Directors
DESCRIPTION:Schedule for the week\n\n\n\nMonday- Traditional\n\n\n\nTuesday- Traditional Meeting\n\n\n\nWednesday- Even- Field Trip\n\n\n\nThursday- Odd\n\n\n\nFriday- Traditional\n\n\n\nTony Tuesday\n\n\n\nMary Poppins\n\n\n\nResponse 2 DUE: May 28 by 11:59 PM\n\n\n\nTony Tuesday response Download \n\n\n\n\n\n\n\n\n\nDirectors\n\n\n\n1- Review first rehearsals\n\n\n\nWrite a reflection on how first rehearsals went\n\n\n\n2- Review plan for this week\n\n\n\nReview all rehearsal plans\, set up Remind for your show\n\n\n\n3- YCTIWY rehearsal\n\n\n\nStudents will help with YCTIWY rehearsals and practice giving notes and running rehearsals
URL:https://rachelcribbs.com/event/directors-60/
CATEGORIES:Directors
END:VEVENT
BEGIN:VEVENT
DTSTART;TZID=America/Los_Angeles:20250331T000000
DTEND;TZID=America/Los_Angeles:20250404T235959
DTSTAMP:20260425T051210
CREATED:20250207T220608Z
LAST-MODIFIED:20250327T224505Z
UID:10001790-1743379200-1743811199@rachelcribbs.com
SUMMARY:RTC
DESCRIPTION:Monday- Rehearsal- MMF/7D\n\n\n\nTuesday- Rehearsal- MMF/GG\n\n\n\nWednesday- Rehearsal- MMF/7D\n\n\n\nThursday- Rehearsal- MMF/GG\n\n\n\nFriday- Rehearsal- MMF/GG\n\n\n\n \n\n\n\nJoin One Act Remind:\n\n\n\nSend a text to 81010 message @8d97fc7\n\n\n\nTurn in your contract. Parents required to sign\n\n\n\n \n\n\n\nConflicts form:  https://forms.gle/ScDfRN8XTGEGQ4yW9
URL:https://rachelcribbs.com/event/rtc-59/
CATEGORIES:RTC
END:VEVENT
BEGIN:VEVENT
DTSTART;TZID=America/Los_Angeles:20250326T000000
DTEND;TZID=America/Los_Angeles:20250326T235959
DTSTAMP:20260425T051210
CREATED:20250326T221755Z
LAST-MODIFIED:20250326T221757Z
UID:10001839-1742947200-1743033599@rachelcribbs.com
SUMMARY:OA casts and crew
DESCRIPTION:Rehearsals start tomorrow with Murder Most Fowl and 7 Little Demons\n\n\n\nOA casts and crewDownload
URL:https://rachelcribbs.com/event/oa-casts-and-crew/
CATEGORIES:RTC
END:VEVENT
BEGIN:VEVENT
DTSTART;TZID=America/Los_Angeles:20250325T000000
DTEND;TZID=America/Los_Angeles:20250325T235959
DTSTAMP:20260425T051210
CREATED:20250325T005448Z
LAST-MODIFIED:20250325T005451Z
UID:10001838-1742860800-1742947199@rachelcribbs.com
SUMMARY:OA Callbacks
DESCRIPTION:The Golden Girls written and directed by Niko Ramos\n\n\n\nRose – Bri\, Syd\, Sophie\, Kamilla (Sides 1\, 3 & 4)\n\n\n\nDorothy – Syd\, Sophie\, Sayuri (Sides 3 & 4)\n\n\n\nBlanche – Bri\, Kamilla\, Sayuri\, Isela (Sides 1\, 3 & 4)\n\n\n\nSophia – Syd\, Sophie\, Sayuri\, Isela (Side 2)\n\n\n\nLeonard – Bennett\, Zack (Side 4)\n\n\n\nSponsors – Sophie\, Isela\, Kamilla\, Bri\, Zack\, Brayden (Side 5)\n\n\n\nLeonard and Sponsors sides will be available in LT in the morning.\n\n\n\n \n\n\n\nThe White Room written and directed by Milo Saldana\n\n\n\nGod- Salem\n\n\n\nCharlie-Elsie\, Jay\n\n\n\nHelix- Brayden\, Zack\, \n\n\n\nCyrus- Kamilah Sosa\n\n\n\nDamien- Jovi\n\n\n\nC1- Brayden\, Bennet\, Jovi\n\n\n\nC2- Vivian\n\n\n\nSide 1. C1\, C2\, God \n\n\n\n1. Bennett\, Vivian\, Salem\n\n\n\n2. Brayden\, Vivian\, Salem\n\n\n\nSide 2. C1\, C2\n\n\n\n1. Bennet\, Vivian\n\n\n\n2. Brayden\, Vivian\n\n\n\nSide 3. Cyrus\, Helix\n\n\n\n1. Kamilah\, Zack\n\n\n\n2. Kamilah\, Brayden\n\n\n\nSide 4. Damien\, Charli\n\n\n\n1. Elsie\, Jovi\n\n\n\n2. Sophie\, Jovi\n\n\n\n3. Jay\, Jovi\n\n\n\n \n\n\n\nCloudy directed by Izzy Valdez\n\n\n\nJovi -Dan\n\n\n\nMashia -Georgia    Side 1\n\n\n\nBri -Georgia\, Dan  Side 1\n\n\n\nZack -Dan\n\n\n\nJazlyn -Georgia      Side 1\n\n\n\nElsie -Georgia        Side 1\n\n\n\nIsela -Georgia        Side 1\n\n\n\nSalem -Georgia\, Dan   Side 1\n\n\n\nPairs-\n\n\n\nMashia and Zack- Side 2\n\n\n\nBri and Salem- Side 3\n\n\n\nElsie and Bri- Side 2\n\n\n\nSalem and Jovi- Side 2\n\n\n\nSalem and Jazlyn- Side 3\n\n\n\nIsela and Zack- Side 3\n\n\n\nIsela and Bri- Side 2\n\n\n\nMashia and Jovi- Side 3\n\n\n\n \n\n\n\nA Murder Most Fowl written and directed by Daniel Mejia\n\n\n\nJovi\, Mashia\, Giovanna\, Vivian\, Salem\, Brayden\n\n\n\nSIDE 1 (Everett): Vivian\, Brayden\, Jovi\n\n\n\nSIDE 2 (Raven): Mashia\, Salem\, Vivian\, Giovanna\n\n\n\nSIDE 3 (Crowley): Brayden\, Jovi\, Vivian\n\n\n\nSIDE 3 (Raven): Mashia\, Salem\, Vivian\, Giovanna\n\n\n\n \n\n\n\n \n\n\n\n7 Little Demons directed by Zoey Richart\n\n\n\nMashia\, Giovanna\, Toa\, Vivian\, Bennett\, Bri\, Zack\, Jazlyn\, Kamilah Sosa\, Mariah\, Elsie\, Vyni\, Isela\, Jay\, Salem\, Brayden\n\n\n\nWrath: Mashia\, Giovanna\, Vivian\, Bri\, Mariah\, Vyni\, Jay\, Salem\, Brayden\n\n\n\nLust: Mashia\, Bennett\, Isela\n\n\n\nTrixie: Jazlyn\, Kamilah Sosa\, Elsie\, Isela
URL:https://rachelcribbs.com/event/oa-callbacks/
CATEGORIES:RTC
END:VEVENT
END:VCALENDAR