BEGIN:VCALENDAR
VERSION:2.0
PRODID:-//Rachel Cribbs-Hibler - ECPv6.15.20//NONSGML v1.0//EN
CALSCALE:GREGORIAN
METHOD:PUBLISH
X-WR-CALNAME:Rachel Cribbs-Hibler
X-ORIGINAL-URL:https://rachelcribbs.com
X-WR-CALDESC:Events for Rachel Cribbs-Hibler
REFRESH-INTERVAL;VALUE=DURATION:PT1H
X-Robots-Tag:noindex
X-PUBLISHED-TTL:PT1H
BEGIN:VTIMEZONE
TZID:America/Los_Angeles
BEGIN:DAYLIGHT
TZOFFSETFROM:-0800
TZOFFSETTO:-0700
TZNAME:PDT
DTSTART:20240310T100000
END:DAYLIGHT
BEGIN:STANDARD
TZOFFSETFROM:-0700
TZOFFSETTO:-0800
TZNAME:PST
DTSTART:20241103T090000
END:STANDARD
BEGIN:DAYLIGHT
TZOFFSETFROM:-0800
TZOFFSETTO:-0700
TZNAME:PDT
DTSTART:20250309T100000
END:DAYLIGHT
BEGIN:STANDARD
TZOFFSETFROM:-0700
TZOFFSETTO:-0800
TZNAME:PST
DTSTART:20251102T090000
END:STANDARD
BEGIN:DAYLIGHT
TZOFFSETFROM:-0800
TZOFFSETTO:-0700
TZNAME:PDT
DTSTART:20260308T100000
END:DAYLIGHT
BEGIN:STANDARD
TZOFFSETFROM:-0700
TZOFFSETTO:-0800
TZNAME:PST
DTSTART:20261101T090000
END:STANDARD
END:VTIMEZONE
BEGIN:VEVENT
DTSTART;TZID=America/Los_Angeles:20250818T000000
DTEND;TZID=America/Los_Angeles:20250822T235959
DTSTAMP:20260425T085330
CREATED:20250811T152701Z
LAST-MODIFIED:20250814T213845Z
UID:10001904-1755475200-1755907199@rachelcribbs.com
SUMMARY:Styles
DESCRIPTION:Schedule for the week\n\n\n\nMonday- Traditional\n\n\n\nTuesday- Traditional Meeting\n\n\n\nWednesday- Even\n\n\n\nThursday- Odd\n\n\n\nFriday- Traditional\n\n\n\nTony Tuesday\n\n\n\nRent\n\n\n\nResponse 1 DUE: Dec 10 by 11:59 PM\n\n\n\nResponse 2 DUE: May 27 by 11:59 PM\n\n\n\nTony Tuesday response Download \n\n\n\n\n\n\n\n\n\nStyles\n\n\n\n1- Intro to the class\n\n\n\nSyllabus review\n\n\n\nContract agreement\n\n\n\nTour of our spaces: Classroom\, stock rooms\n\n\n\nHow to rehearse\n\n\n\nWebsite/Social Media reviews\n\n\n\n2- About Me\n\n\n\nStudents will learn about me as their teacher\n\n\n\n3- Tony Tuesday Semester Assignment\n\n\n\nStudents will receive the Tony Tuesday writing assignment for the semesters. Two responses are due for the year.\n\n\n\n\n\n\n\nStyles syllabusDownload\n\n\n\nTheatre agreement and contract Download \n\n\n\nHow to Rehearse drama Download \n\n\n\nRehearsal Expectations Download
URL:https://rachelcribbs.com/event/styles-71/
CATEGORIES:Styles
END:VEVENT
END:VCALENDAR