BEGIN:VCALENDAR
VERSION:2.0
PRODID:-//Rachel Cribbs-Hibler - ECPv6.15.20//NONSGML v1.0//EN
CALSCALE:GREGORIAN
METHOD:PUBLISH
X-ORIGINAL-URL:https://rachelcribbs.com
X-WR-CALDESC:Events for Rachel Cribbs-Hibler
REFRESH-INTERVAL;VALUE=DURATION:PT1H
X-Robots-Tag:noindex
X-PUBLISHED-TTL:PT1H
BEGIN:VTIMEZONE
TZID:America/Los_Angeles
BEGIN:DAYLIGHT
TZOFFSETFROM:-0800
TZOFFSETTO:-0700
TZNAME:PDT
DTSTART:20240310T100000
END:DAYLIGHT
BEGIN:STANDARD
TZOFFSETFROM:-0700
TZOFFSETTO:-0800
TZNAME:PST
DTSTART:20241103T090000
END:STANDARD
BEGIN:DAYLIGHT
TZOFFSETFROM:-0800
TZOFFSETTO:-0700
TZNAME:PDT
DTSTART:20250309T100000
END:DAYLIGHT
BEGIN:STANDARD
TZOFFSETFROM:-0700
TZOFFSETTO:-0800
TZNAME:PST
DTSTART:20251102T090000
END:STANDARD
BEGIN:DAYLIGHT
TZOFFSETFROM:-0800
TZOFFSETTO:-0700
TZNAME:PDT
DTSTART:20260308T100000
END:DAYLIGHT
BEGIN:STANDARD
TZOFFSETFROM:-0700
TZOFFSETTO:-0800
TZNAME:PST
DTSTART:20261101T090000
END:STANDARD
END:VTIMEZONE
BEGIN:VEVENT
DTSTART;TZID=America/Los_Angeles:20251201T000000
DTEND;TZID=America/Los_Angeles:20251205T235959
DTSTAMP:20260424T070324
CREATED:20251111T020059Z
LAST-MODIFIED:20251111T020101Z
UID:10002013-1764547200-1764979199@rachelcribbs.com
SUMMARY:Styles
DESCRIPTION:Schedule for the week\n\n\n\nMonday- Traditional\n\n\n\nTuesday- Traditional Meeting\n\n\n\nWednesday- Even\n\n\n\nThursday- Odd\n\n\n\nFriday-Traditional\n\n\n\nTony Tuesday\n\n\n\nAnything Goes\n\n\n\nResponse 1 DUE: Dec 10 by 11:59 PM\n\n\n\nResponse 2 DUE: May 27 by 11:59 PM\n\n\n\nTony Tuesday response Download \n\n\n\n\n\n\n\n\n\nStyles\n\n\n\n1- Cockney accent\n\n\n\nStudents will learn how to do a cockney accent\n\n\n\n2- Cockney tongue twister\n\n\n\nStudents will work on their tongue twister using the cockney accent. Phonetically write out the lines\, create a character
URL:https://rachelcribbs.com/event/styles-85/
CATEGORIES:Styles
END:VEVENT
BEGIN:VEVENT
DTSTART;TZID=America/Los_Angeles:20251208T000000
DTEND;TZID=America/Los_Angeles:20251212T235959
DTSTAMP:20260424T070325
CREATED:20251118T012142Z
LAST-MODIFIED:20251118T012143Z
UID:10002021-1765152000-1765583999@rachelcribbs.com
SUMMARY:Styles
DESCRIPTION:Schedule for the week\n\n\n\nMonday- Traditional\n\n\n\nTuesday- Traditional Meeting\n\n\n\nWednesday- Even\n\n\n\nThursday- Odd\n\n\n\nFriday-Traditional\n\n\n\nTony Tuesday\n\n\n\nIn the Heights\n\n\n\nResponse 1 DUE: Dec 10 by 11:59 PM\n\n\n\nResponse 2 DUE: May 27 by 11:59 PM\n\n\n\nTony Tuesday response Download \n\n\n\n\n\n\n\n\n\nStyles\n\n\n\n1- Cockney tongue twister- perform\n\n\n\nStudents will perform their tongue twister in the cockney accent\n\n\n\n2- Cockney scene work\n\n\n\nStudents will choose a scene to work on using the cockney accent. Table work\, research\, Meisner/Adler technique and blocking
URL:https://rachelcribbs.com/event/styles-86/
CATEGORIES:Styles
END:VEVENT
BEGIN:VEVENT
DTSTART;TZID=America/Los_Angeles:20251215T000000
DTEND;TZID=America/Los_Angeles:20251219T235959
DTSTAMP:20260424T070325
CREATED:20251118T012341Z
LAST-MODIFIED:20251215T152758Z
UID:10002022-1765756800-1766188799@rachelcribbs.com
SUMMARY:Styles
DESCRIPTION:Schedule for the week\n\n\n\nMonday- Traditional\n\n\n\nTuesday- Traditional Meeting\n\n\n\nWednesday- Even\n\n\n\nThursday- Odd\n\n\n\nFriday-Minimum Day\n\n\n\nTony Tuesday\n\n\n\nCinderella\n\n\n\nResponse 1 DUE: Dec 10 by 11:59 PM\n\n\n\nResponse 2 DUE: May 27 by 11:59 PM\n\n\n\nTony Tuesday response Download \n\n\n\n\n\n\n\n\n\nStyles\n\n\n\n1- Cockney scene rehearsal\n\n\n\nStudents will run rehearsal for their scene\, table work\n\n\n\n2- Greek scene rehearsal\n\n\n\nStudents will work Antigone scene
URL:https://rachelcribbs.com/event/styles-87/
CATEGORIES:Styles
END:VEVENT
END:VCALENDAR