BEGIN:VCALENDAR
VERSION:2.0
PRODID:-//Rachel Cribbs-Hibler - ECPv6.15.20//NONSGML v1.0//EN
CALSCALE:GREGORIAN
METHOD:PUBLISH
X-WR-CALNAME:Rachel Cribbs-Hibler
X-ORIGINAL-URL:https://rachelcribbs.com
X-WR-CALDESC:Events for Rachel Cribbs-Hibler
REFRESH-INTERVAL;VALUE=DURATION:PT1H
X-Robots-Tag:noindex
X-PUBLISHED-TTL:PT1H
BEGIN:VTIMEZONE
TZID:America/Los_Angeles
BEGIN:DAYLIGHT
TZOFFSETFROM:-0800
TZOFFSETTO:-0700
TZNAME:PDT
DTSTART:20250309T100000
END:DAYLIGHT
BEGIN:STANDARD
TZOFFSETFROM:-0700
TZOFFSETTO:-0800
TZNAME:PST
DTSTART:20251102T090000
END:STANDARD
BEGIN:DAYLIGHT
TZOFFSETFROM:-0800
TZOFFSETTO:-0700
TZNAME:PDT
DTSTART:20260308T100000
END:DAYLIGHT
BEGIN:STANDARD
TZOFFSETFROM:-0700
TZOFFSETTO:-0800
TZNAME:PST
DTSTART:20261101T090000
END:STANDARD
BEGIN:DAYLIGHT
TZOFFSETFROM:-0800
TZOFFSETTO:-0700
TZNAME:PDT
DTSTART:20270314T100000
END:DAYLIGHT
BEGIN:STANDARD
TZOFFSETFROM:-0700
TZOFFSETTO:-0800
TZNAME:PST
DTSTART:20271107T090000
END:STANDARD
END:VTIMEZONE
BEGIN:VEVENT
DTSTART;TZID=America/Los_Angeles:20260518T000000
DTEND;TZID=America/Los_Angeles:20260524T235959
DTSTAMP:20260423T232444
CREATED:20260317T185437Z
LAST-MODIFIED:20260317T185440Z
UID:10002117-1779062400-1779667199@rachelcribbs.com
SUMMARY:RTC
DESCRIPTION:RTC\n\n\n\nDates and Second semester rehearsal schedule is available here and on the table in LT.\n\n\n\nCheck the landing page on the website for updated details.\n\n\n\nJoin RTC Remind for Company Updates: Text @7ekaf4h to 81010\n\n\n\nRTC instagram: @rhsplayers\n\n\n\n2025 2026 Rtc datesDownload \n\n\n\nS2 2025-2026 scheduleDownload \n\n\n\n \n\n\n\nSenior One Acts\n\n\n\nMonday- Tech SWN\, LT\, 4-7\n\n\n\nTuesday- Tech BD/NC\, LT\, 4-7\n\n\n\nWednesday- Tech Sonder\, LT\, 4-7\n\n\n\nThursday- DARK\n\n\n\nFriday- Performances: S/BD\, call 5 PM\, curtain 7 PM\n\n\n\nSaturday- Performances: S/BD\, call 12\, curtain 2 PM\n\n\n\nPerformances: NC/SWN\, call 5 PM\, curtain 7 PM\n\n\n\nSenior Cabaret\n\n\n\nSunday- Performances: NC/SWN\, call 12\, curtain 2 PM\n\n\n\n \n\n\n\nJoin One Acts Remind: text @g4beek to 81010\n\n\n\nConflict form: https://forms.gle/6E4hbtNTGrNr3hzF6\n\n\n\n \n\n\n\n \n\n\n\nSenior Cabaret\n\n\n\nSeniors please sign up to perform in our Senior Cabaret on May 23 after the One Acts performances. Only seniors can complete the google form. Seniors are welcome to invite underclassmen to perform with them\n\n\n\nhttps://forms.gle/n5LS4mqgLE29cEhe7
URL:https://rachelcribbs.com/event/rtc-102/
CATEGORIES:RTC
END:VEVENT
BEGIN:VEVENT
DTSTART;TZID=America/Los_Angeles:20260525T000000
DTEND;TZID=America/Los_Angeles:20260529T235959
DTSTAMP:20260423T232444
CREATED:20260317T185243Z
LAST-MODIFIED:20260408T192133Z
UID:10002118-1779667200-1780099199@rachelcribbs.com
SUMMARY:RTC
DESCRIPTION:RTC\n\n\n\nDates and Second semester rehearsal schedule is available here and on the table in LT.\n\n\n\nCheck the landing page on the website for updated details.\n\n\n\nJoin RTC Remind for Company Updates: Text @7ekaf4h to 81010\n\n\n\nRTC instagram: @rhsplayers\n\n\n\n2025 2026 Rtc datesDownload \n\n\n\nS2 2025-2026 scheduleDownload \n\n\n\n \n\n\n\nSenior One Acts\n\n\n\nMonday- DARK\n\n\n\nTuesday- Strike\, 4-7\, LT\n\n\n\nWednesday- DARK\n\n\n\nThursday- DARK\n\n\n\nFriday- DARK\n\n\n\nJoin One Acts Remind: text @g4beek to 81010
URL:https://rachelcribbs.com/event/rtc-101/
CATEGORIES:RTC
END:VEVENT
BEGIN:VEVENT
DTSTART;TZID=America/Los_Angeles:20260601T000000
DTEND;TZID=America/Los_Angeles:20260605T235959
DTSTAMP:20260423T232444
CREATED:20260408T192225Z
LAST-MODIFIED:20260408T192230Z
UID:10002133-1780272000-1780703999@rachelcribbs.com
SUMMARY:RTC
DESCRIPTION:RTC\n\n\n\nDates and Second semester rehearsal schedule is available here and on the table in LT.\n\n\n\nCheck the landing page on the website for updated details.\n\n\n\nJoin RTC Remind for Company Updates: Text @7ekaf4h to 81010\n\n\n\nRTC instagram: @rhsplayers\n\n\n\n2025 2026 Rtc dates Download \n\n\n\nS2 2025-2026 scheduleDownload \n\n\n\n\n\n\n\nMonday- DARK\n\n\n\nTuesday- DARK\n\n\n\nWednesday- DARK\n\n\n\nThursday- Teddys Tech 4-7\n\n\n\nFriday- Teddys\, 7-9
URL:https://rachelcribbs.com/event/rtc-103/
CATEGORIES:RTC
END:VEVENT
BEGIN:VEVENT
DTSTART;TZID=America/Los_Angeles:20260605T000000
DTEND;TZID=America/Los_Angeles:20260605T235959
DTSTAMP:20260423T232444
CREATED:20260408T192047Z
LAST-MODIFIED:20260408T192050Z
UID:10002132-1780617600-1780703999@rachelcribbs.com
SUMMARY:Teddy Awards
DESCRIPTION:Teddy Awards presented by the RTC Junior Class. 7-9 PM in Little Theater\, evening attire encouraged
URL:https://rachelcribbs.com/event/teddy-awards-4/
CATEGORIES:RTC
END:VEVENT
END:VCALENDAR