BEGIN:VCALENDAR
VERSION:2.0
PRODID:-//Rachel Cribbs-Hibler - ECPv6.15.20//NONSGML v1.0//EN
CALSCALE:GREGORIAN
METHOD:PUBLISH
X-WR-CALNAME:Rachel Cribbs-Hibler
X-ORIGINAL-URL:https://rachelcribbs.com
X-WR-CALDESC:Events for Rachel Cribbs-Hibler
REFRESH-INTERVAL;VALUE=DURATION:PT1H
X-Robots-Tag:noindex
X-PUBLISHED-TTL:PT1H
BEGIN:VTIMEZONE
TZID:America/Los_Angeles
BEGIN:DAYLIGHT
TZOFFSETFROM:-0800
TZOFFSETTO:-0700
TZNAME:PDT
DTSTART:20250309T100000
END:DAYLIGHT
BEGIN:STANDARD
TZOFFSETFROM:-0700
TZOFFSETTO:-0800
TZNAME:PST
DTSTART:20251102T090000
END:STANDARD
BEGIN:DAYLIGHT
TZOFFSETFROM:-0800
TZOFFSETTO:-0700
TZNAME:PDT
DTSTART:20260308T100000
END:DAYLIGHT
BEGIN:STANDARD
TZOFFSETFROM:-0700
TZOFFSETTO:-0800
TZNAME:PST
DTSTART:20261101T090000
END:STANDARD
BEGIN:DAYLIGHT
TZOFFSETFROM:-0800
TZOFFSETTO:-0700
TZNAME:PDT
DTSTART:20270314T100000
END:DAYLIGHT
BEGIN:STANDARD
TZOFFSETFROM:-0700
TZOFFSETTO:-0800
TZNAME:PST
DTSTART:20271107T090000
END:STANDARD
END:VTIMEZONE
BEGIN:VEVENT
DTSTART;TZID=America/Los_Angeles:20260223T000000
DTEND;TZID=America/Los_Angeles:20260228T235959
DTSTAMP:20260423T200400
CREATED:20260114T011951Z
LAST-MODIFIED:20260223T164649Z
UID:10002044-1771804800-1772323199@rachelcribbs.com
SUMMARY:RTC
DESCRIPTION:RTC\n\n\n\nDates and Second semester rehearsal schedule is available here and on the table in LT.\n\n\n\nCheck the landing page on the website for updated details.\n\n\n\nJoin RTC Remind for Company Updates: Text @7ekaf4h to 81010\n\n\n\nRTC instagram: @rhsplayers\n\n\n\n2025 2026 Rtc datesDownload \n\n\n\nS2 2025-2026 scheduleDownload \n\n\n\n\n\n\n\nPuffs directed by K. Kirby\n\n\n\nMonday- Rehearsal\, Stage/SB\, 4-8:15\n\n\n\nTuesday-Rehearsal\, dance room\, 4-8:15\n\n\n\nWednesday- Rehearsal\, dance room\, 4-8:15\n\n\n\nThursday- Rehearsal\, dance room\, 4-8:15\n\n\n\nFriday- DARK\n\n\n\nSaturday- Crew Call\, LT/scene shop\, 10-3\n\n\n\n \n\n\n\n \n\n\n\nJoin the Puffs Remind\n\n\n\nSend a text to 81010 write @cd9dbb\n\n\n\n \n\n\n\n \n\n\n\nSenior One Acts\n\n\n\nMonday- Auditions\, LT\, 4-7\n\n\n\nTuesday- Callbacks\, LT\, 4-7- SWN\, Sonder\n\n\n\nWednesday- Callbacks\, LT\, 4-7\, Blind Date\, Nightman\n\n\n\nThursday- DARK\n\n\n\nFriday- DARK\n\n\n\nAuditions are a monologue\, Callbacks are cold reads\n\n\n\n \n\n\n\n \n\n\n\nCabaret\n\n\n\nMonday- DARK\n\n\n\nTuesday- DARK\n\n\n\nWednesday- DARK\n\n\n\nThursday- Tech rehearsal\, LT\, 4-7\n\n\n\nFriday- Cabaret\, LT\, 5-9
URL:https://rachelcribbs.com/event/rtc-91/
CATEGORIES:RTC
END:VEVENT
BEGIN:VEVENT
DTSTART;TZID=America/Los_Angeles:20260224T000000
DTEND;TZID=America/Los_Angeles:20260225T235959
DTSTAMP:20260423T200400
CREATED:20260224T042602Z
LAST-MODIFIED:20260224T042605Z
UID:10002084-1771891200-1772063999@rachelcribbs.com
SUMMARY:SOA Callbacks
DESCRIPTION:Tuesday 4-6 PM\n\n\n\nSonder\n\n\n\nWillow Murphy: \n\n\n\nElsie Brittsan \n\n\n\nEmma Withee-Williams \n\n\n\nKamilla Albarran\n\n\n\nGenevieve Jamison\n\n\n\n \n\n\n\nJasper Hansen:\n\n\n\nJynx Chamosa\n\n\n\nNathan Pacini \n\n\n\nAzule T. Junior Lancaster:\n\n\n\nZack Mosley\n\n\n\nJynx Chamosa \n\n\n\nNathan Pacini \n\n\n\n \n\n\n\nCiel Auclair:\n\n\n\nA’rynn Davis \n\n\n\nEowyn Bonilla \n\n\n\nNoah Coleman \n\n\n\n \n\n\n\nGrayson / Gracie Barrett:\n\n\n\nZack Mosley \n\n\n\nChyna Barker \n\n\n\nA’rynn Davis\n\n\n\nNoah Coleman \n\n\n\nWhatever character you are called back for\, you are automatically set to do the sides that character is in. \n\n\n\nSide #1: Jasper\n\n\n\nSide #2: Willow\, Jasper\, Grayson\, Azule\, Ciel\n\n\n\nSide #3: Azule\, Ciel\n\n\n\nSide #4: Willow\, Grayson\n\n\n\nSide #5: Willow\, Jasper\n\n\n\n \n\n\n\nSorry\, Wrong Number\n\n\n\nAll actors are also being considered for Lunch Attendant\, George\, Nurse\, Man 1\, and Western Union Operator based on performances in sides 1\, 2\, and 3. \n\n\n\nMrs. Stevenson\n\n\n\nA’rynn\, Chyna\, Emma\, Genny\, Kamilla\, Noah\n\n\n\nDuffy\n\n\n\nAlejandro\, Aylline\, Jazlyn\, Jynx\, Nathan\, Noah\, Salem\, Tyler\, Zack\n\n\n\nOperators\n\n\n\nAnalia\, Aylline\, A’rynn\, Chyna\, Elsie\, Emma\, Genny\, Jazlyn\, Jynx\, Kamilla\, Lizzie\, Marcus\, Noah\, Salem\, Sasha\, Tyler\, Zack\n\n\n\nAll Mrs. Stevensons will read sides 1\, 2\, and 3\n\n\n\nAll Duffys will read side 3\n\n\n\nAll Operators will read side 1\n\n\n\nSome Operators will read side 2 (by volunteer)\n\n\n\n \n\n\n\nWednesday 4-6\n\n\n\nNightman Cometh\n\n\n\nCharlie- Sides 1 and 3 \n\n\n\n\nJynx\n\n\n\nTyler\n\n\n\n\nDennis- Side 1 and side 2 \n\n\n\n\nTyler\n\n\n\nA’rynn\n\n\n\n\nMac- Side 1 and 2 \n\n\n\n\nTyler\n\n\n\nA’rynn\n\n\n\nBennet\n\n\n\n\nFrank- Side 2 \n\n\n\n\nSalem\n\n\n\nBennet\n\n\n\n\nDee- Side 1  \n\n\n\n\nGenevieve\n\n\n\nJazlyn\n\n\n\nEmma\n\n\n\n\nThe Waitress- Side 3 \n\n\n\n\nSalem\n\n\n\nJazlyn\n\n\n\nChyna\n\n\n\nLizzie\n\n\n\nSasha\n\n\n\nEmma\n\n\n\n\n \n\n\n\nBlind Date\n\n\n\nTed- Marcus Archuleta\n\n\n\n        Nathan Pacini\n\n\n\n        Zack Mosley\n\n\n\n        Alejandro Morales\n\n\n\nMarcia- Arynn Davis\n\n\n\n    Salem Lazalde\n\n\n\n    Kamilla Albarran\n\n\n\n    Noah Coleman\n\n\n\n    Emma Withee Williams\n\n\n\n    Sasha Sanchez\n\n\n\n    Genny Jamison\n\n\n\n    Elsie Brittsan\n\n\n\nSide 1- Arynn\, Zack\n\n\n\nSalem\, Nathan\n\n\n\nKamilla\, Alejandro\n\n\n\nEmma\, Marcus\n\n\n\nSasha\, Zack\n\n\n\nNoah\, Nathan\n\n\n\nGenny\, Alejandro\n\n\n\nElsie\, Marcus\n\n\n\nSide 2- Marcus\, Sasha\n\n\n\nNathan\, Kamilla\n\n\n\nZack\, Emma\n\n\n\nAlejandro\, Noah
URL:https://rachelcribbs.com/event/soa-callbacks/
CATEGORIES:RTC
END:VEVENT
END:VCALENDAR