BEGIN:VCALENDAR
VERSION:2.0
PRODID:-//Rachel Cribbs-Hibler - ECPv6.15.20//NONSGML v1.0//EN
CALSCALE:GREGORIAN
METHOD:PUBLISH
X-ORIGINAL-URL:https://rachelcribbs.com
X-WR-CALDESC:Events for Rachel Cribbs-Hibler
REFRESH-INTERVAL;VALUE=DURATION:PT1H
X-Robots-Tag:noindex
X-PUBLISHED-TTL:PT1H
BEGIN:VTIMEZONE
TZID:America/Los_Angeles
BEGIN:DAYLIGHT
TZOFFSETFROM:-0800
TZOFFSETTO:-0700
TZNAME:PDT
DTSTART:20240310T100000
END:DAYLIGHT
BEGIN:STANDARD
TZOFFSETFROM:-0700
TZOFFSETTO:-0800
TZNAME:PST
DTSTART:20241103T090000
END:STANDARD
BEGIN:DAYLIGHT
TZOFFSETFROM:-0800
TZOFFSETTO:-0700
TZNAME:PDT
DTSTART:20250309T100000
END:DAYLIGHT
BEGIN:STANDARD
TZOFFSETFROM:-0700
TZOFFSETTO:-0800
TZNAME:PST
DTSTART:20251102T090000
END:STANDARD
BEGIN:DAYLIGHT
TZOFFSETFROM:-0800
TZOFFSETTO:-0700
TZNAME:PDT
DTSTART:20260308T100000
END:DAYLIGHT
BEGIN:STANDARD
TZOFFSETFROM:-0700
TZOFFSETTO:-0800
TZNAME:PST
DTSTART:20261101T090000
END:STANDARD
END:VTIMEZONE
BEGIN:VEVENT
DTSTART;TZID=America/Los_Angeles:20250915T000000
DTEND;TZID=America/Los_Angeles:20250919T235959
DTSTAMP:20260424T053944
CREATED:20250812T204243Z
LAST-MODIFIED:20250917T141139Z
UID:10001925-1757894400-1758326399@rachelcribbs.com
SUMMARY:RTC
DESCRIPTION:RTC\n\n\n\nDates and First semester rehearsal schedule is available here and on the table in LT.\n\n\n\nCheck the landing page on the website for updated details.\n\n\n\nJoin RTC Remind for Company Updates: Text @7ekaf4h to 81010\n\n\n\nRTC instagram: @rhsplayers\n\n\n\n2025 2026 Rtc datesDownload \n\n\n\nS1 2025-2026 scheduleDownload\n\n\n\nS2 2025-2026 schedule Download \n\n\n\nFall Workshop\n\n\n\nTuesday- Scene Shop Organization Workshop with Crossman\, Scene Shop\, 4-6\n\n\n\nSkills Workshops Download \n\n\n\n\n\n\n\n \n\n\n\nPuffs directed by K. Kirby\n\n\n\nMonday- Rehearsal\, LT\, 4-7\n\n\n\nTuesday- DARK\n\n\n\nWednesday- Rehearsal\, LT\, 4-7\n\n\n\nThursday- DARK\n\n\n\nFriday- DARK\n\n\n\nJoin Puffs Remind: Text @cd9dbb to 81010\n\n\n\nConflicts\n\n\n\nAll student artists are expected to complete a conflicts list by the due date. If no conflicts list is completed\, we are not obligated to honor any conflicts.\n\n\n\nhttps://forms.gle/iMDHqpU6Hos1JG9K8\n\n\n\nContracts\n\n\n\nAll student artists and parents must read\, agree and sign prior to being allowed to work on the production\n\n\n\nPuffs contract\n\n\n\nPuffs student production team contract\n\n\n\n \n\n\n\n \n\n\n\nWant to work Puffs crew?\n\n\n\nUse the QR code in LT to get to the application. Or click the link\n\n\n\nhttps://docs.google.com/forms/d/e/1FAIpQLSeMcQQfdiVyGn9u_WNyeJz47gg24G0CilzOspjWAJPngE4VuQ/viewform\n\n\n\n \n\n\n\nBoise\, Idaho directed by Sayuri Soto\n\n\n\nMonday- Rehearsal\, Studio B\, 4-6\n\n\n\nTuesday-Rehearsal\, LT\, 4-6\n\n\n\nWednesday-DARK\n\n\n\nThursday-Rehearsal\, LT\, 4:30-7\n\n\n\nFriday- DARK\n\n\n\nJoin One Act Remind: Text @g4beek to 81010\n\n\n\nConflicts\n\n\n\nAll student artists are expected to complete a conflicts list by the due date. If no conflicts list is completed\, we are not obligated to honor any conflicts.\n\n\n\nhttps://forms.gle/xnB1sz3rmxsXk8ba9\n\n\n\nContracts\n\n\n\nAll student artists and parents must read\, agree and sign prior to being allowed to work on the production\n\n\n\nOA contract Download\n\n\n\nOA prod contract Download\n\n\n\n \n\n\n\nWant to work Boise\, Idaho crew?\n\n\n\nUse the QR code in LT to get to the application. Or click the link\n\n\n\nhttps://docs.google.com/forms/d/e/1FAIpQLSet2-U2POYMXwWJZiOVpLVblzkaX-44h56kZqxsg08hRcEHag/viewform\n\n\n\n \n\n\n\nCabaret\n\n\n\nOur first Cabaret of the year is Sept 26. Tech rehearsal is Sept 25\, mandatory for all performances. Sign up using the google form link.\n\n\n\nThis is the last week you can sign up for the Cabaret\n\n\n\nhttps://forms.gle/UtYN6dL41Hms6V6y6
URL:https://rachelcribbs.com/event/rtc-72/
CATEGORIES:RTC
END:VEVENT
END:VCALENDAR