BEGIN:VCALENDAR
VERSION:2.0
PRODID:-//Rachel Cribbs-Hibler - ECPv6.15.20//NONSGML v1.0//EN
CALSCALE:GREGORIAN
METHOD:PUBLISH
X-WR-CALNAME:Rachel Cribbs-Hibler
X-ORIGINAL-URL:https://rachelcribbs.com
X-WR-CALDESC:Events for Rachel Cribbs-Hibler
REFRESH-INTERVAL;VALUE=DURATION:PT1H
X-Robots-Tag:noindex
X-PUBLISHED-TTL:PT1H
BEGIN:VTIMEZONE
TZID:America/Los_Angeles
BEGIN:DAYLIGHT
TZOFFSETFROM:-0800
TZOFFSETTO:-0700
TZNAME:PDT
DTSTART:20240310T100000
END:DAYLIGHT
BEGIN:STANDARD
TZOFFSETFROM:-0700
TZOFFSETTO:-0800
TZNAME:PST
DTSTART:20241103T090000
END:STANDARD
BEGIN:DAYLIGHT
TZOFFSETFROM:-0800
TZOFFSETTO:-0700
TZNAME:PDT
DTSTART:20250309T100000
END:DAYLIGHT
BEGIN:STANDARD
TZOFFSETFROM:-0700
TZOFFSETTO:-0800
TZNAME:PST
DTSTART:20251102T090000
END:STANDARD
BEGIN:DAYLIGHT
TZOFFSETFROM:-0800
TZOFFSETTO:-0700
TZNAME:PDT
DTSTART:20260308T100000
END:DAYLIGHT
BEGIN:STANDARD
TZOFFSETFROM:-0700
TZOFFSETTO:-0800
TZNAME:PST
DTSTART:20261101T090000
END:STANDARD
END:VTIMEZONE
BEGIN:VEVENT
DTSTART;TZID=America/Los_Angeles:20250902T000000
DTEND;TZID=America/Los_Angeles:20250905T235959
DTSTAMP:20260424T074736
CREATED:20250812T202824Z
LAST-MODIFIED:20250828T143902Z
UID:10001922-1756771200-1757116799@rachelcribbs.com
SUMMARY:RTC
DESCRIPTION:RTC\n\n\n\nDates and First semester rehearsal schedule is available here and on the table in LT.\n\n\n\nCheck the landing page on the website for updated details.\n\n\n\nJoin RTC Remind for Company Updates: Text @7ekaf4h to 81010\n\n\n\nRTC instagram: @rhsplayers\n\n\n\n2025 2026 Rtc datesDownload\n\n\n\nS1 2025-2026 scheduleDownload\n\n\n\nS2 2025-2026 scheduleDownload\n\n\n\n \n\n\n\nFall Workshop\n\n\n\nTuesday- Audition Workshop with Hibler\, LT\, 4-6\n\n\n\nSkills WorkshopsDownload\n\n\n\naudition workshop flyerDownload\n\n\n\n \n\n\n\nPuffs directed by K. Kirby\n\n\n\nMonday- DARK\n\n\n\nTuesday-DARK\n\n\n\nWednesday- DARK\n\n\n\nThursday- Auditions\, LT\, 4:30-7\n\n\n\nFriday- Callbacks\, LT\, 4:30-7\n\n\n\nWe reserve the right to post Saturday\n\n\n\nJoin the Puffs Remind\n\n\n\nSend a text to 81010 write @cd9dbb\n\n\n\nContracts\n\n\n\nAll student artists and parents must read\, agree and sign prior to being allowed to work on the production\n\n\n\nPuffs contract\n\n\n\nPuffs student production team contract\n\n\n\n \n\n\n\nBoise\, Idaho directed by Sayuri Soto\n\n\n\nAll actors work on research and memorizing lines\, character work\n\n\n\nMonday-DARK\n\n\n\nTuesday-DARK\n\n\n\nWednesday-DARK\n\n\n\nThursday-DARK\n\n\n\nFriday-DARK\n\n\n\nJoin One Act Remind: Text @g4beek to 81010\n\n\n\n \n\n\n\nCabaret\n\n\n\nOur first Cabaret of the year is Sept 26. Tech rehearsal is Sept 25\, mandatory for all performances. Sign up using the google form link.\n\n\n\nhttps://forms.gle/UtYN6dL41Hms6V6y6
URL:https://rachelcribbs.com/event/rtc-70/
CATEGORIES:RTC
END:VEVENT
END:VCALENDAR