BEGIN:VCALENDAR
VERSION:2.0
PRODID:-//Rachel Cribbs-Hibler - ECPv6.15.20//NONSGML v1.0//EN
CALSCALE:GREGORIAN
METHOD:PUBLISH
X-WR-CALNAME:Rachel Cribbs-Hibler
X-ORIGINAL-URL:https://rachelcribbs.com
X-WR-CALDESC:Events for Rachel Cribbs-Hibler
REFRESH-INTERVAL;VALUE=DURATION:PT1H
X-Robots-Tag:noindex
X-PUBLISHED-TTL:PT1H
BEGIN:VTIMEZONE
TZID:America/Los_Angeles
BEGIN:DAYLIGHT
TZOFFSETFROM:-0800
TZOFFSETTO:-0700
TZNAME:PDT
DTSTART:20250309T100000
END:DAYLIGHT
BEGIN:STANDARD
TZOFFSETFROM:-0700
TZOFFSETTO:-0800
TZNAME:PST
DTSTART:20251102T090000
END:STANDARD
BEGIN:DAYLIGHT
TZOFFSETFROM:-0800
TZOFFSETTO:-0700
TZNAME:PDT
DTSTART:20260308T100000
END:DAYLIGHT
BEGIN:STANDARD
TZOFFSETFROM:-0700
TZOFFSETTO:-0800
TZNAME:PST
DTSTART:20261101T090000
END:STANDARD
BEGIN:DAYLIGHT
TZOFFSETFROM:-0800
TZOFFSETTO:-0700
TZNAME:PDT
DTSTART:20270314T100000
END:DAYLIGHT
BEGIN:STANDARD
TZOFFSETFROM:-0700
TZOFFSETTO:-0800
TZNAME:PST
DTSTART:20271107T090000
END:STANDARD
END:VTIMEZONE
BEGIN:VEVENT
DTSTART;TZID=America/Los_Angeles:20260301T000000
DTEND;TZID=America/Los_Angeles:20260307T235959
DTSTAMP:20260423T165113
CREATED:20260114T012311Z
LAST-MODIFIED:20260223T164755Z
UID:10002045-1772323200-1772927999@rachelcribbs.com
SUMMARY:RTC
DESCRIPTION:RTC\n\n\n\nDates and Second semester rehearsal schedule is available here and on the table in LT.\n\n\n\nCheck the landing page on the website for updated details.\n\n\n\nJoin RTC Remind for Company Updates: Text @7ekaf4h to 81010\n\n\n\nRTC instagram: @rhsplayers\n\n\n\n2025 2026 Rtc datesDownload \n\n\n\nS2 2025-2026 scheduleDownload \n\n\n\n\n\n\n\nPuffs directed by K. Kirby\n\n\n\nSunday- Crew Call\, LT/scene shop\, 10-3 \n\n\n\nMonday- LOAD IN\, Stage\, 4-9\n\n\n\nTuesday-LOAD IN\, Stage\, 4-9\n\n\n\nWednesday- Tech\, Stage\, 4-9\n\n\n\nThursday- Tech\, Stage\, 4-9\n\n\n\nFriday- Rhinestone Day\, LT/Stage\, 8:30-3:30\n\n\n\nSaturday- Crew Call\, LT/scene shop\, 10-3\n\n\n\n \n\n\n\nJoin the Puffs Remind\n\n\n\nSend a text to 81010 write @cd9dbb\n\n\n\n \n\n\n\n \n\n\n\nSenior One Acts\n\n\n\nMemorize your lines\n\n\n\nMonday- DARK\n\n\n\nTuesday- DARK\n\n\n\nWednesday- DARK\n\n\n\nThursday- DARK\n\n\n\nFriday- DARK
URL:https://rachelcribbs.com/event/rtc-92/
CATEGORIES:RTC
END:VEVENT
BEGIN:VEVENT
DTSTART;TZID=America/Los_Angeles:20260309T000000
DTEND;TZID=America/Los_Angeles:20260313T235959
DTSTAMP:20260423T165113
CREATED:20260114T015812Z
LAST-MODIFIED:20260114T015813Z
UID:10002046-1773014400-1773446399@rachelcribbs.com
SUMMARY:RTC
DESCRIPTION:RTC\n\n\n\nDates and Second semester rehearsal schedule is available here and on the table in LT.\n\n\n\nCheck the landing page on the website for updated details.\n\n\n\nJoin RTC Remind for Company Updates: Text @7ekaf4h to 81010\n\n\n\nRTC instagram: @rhsplayers\n\n\n\n2025 2026 Rtc datesDownload \n\n\n\nS2 2025-2026 scheduleDownload \n\n\n\n\n\n\n\nPuffs directed by K. Kirby\n\n\n\nMonday- Tech\, Stage\, 4-9\n\n\n\nTuesday-Tech\, Stage\, 4-9\n\n\n\nWednesday- Tech\, Stage\, 4-9\n\n\n\nThursday- School Show/Rehearsal\, Stage\, 7 AM- 3 PM\n\n\n\nFriday- Opening\, Stage\, 5-10\n\n\n\nSaturday- Double Header\, Stage\, 12- 10 PM\n\n\n\nSunday- Matinee\, Stage\, 12-4\n\n\n\n \n\n\n\n \n\n\n\nJoin the Puffs Remind\n\n\n\nSend a text to 81010 write @cd9dbb\n\n\n\n \n\n\n\n \n\n\n\nSenior One Acts\n\n\n\nMemorize your lines\n\n\n\nMonday- DARK\n\n\n\nTuesday- DARK\n\n\n\nWednesday- DARK\n\n\n\nThursday- DARK\n\n\n\nFriday- DARK
URL:https://rachelcribbs.com/event/rtc-93/
CATEGORIES:RTC
END:VEVENT
BEGIN:VEVENT
DTSTART;TZID=America/Los_Angeles:20260312T000000
DTEND;TZID=America/Los_Angeles:20260322T235959
DTSTAMP:20260423T165113
CREATED:20250512T171518Z
LAST-MODIFIED:20250826T002238Z
UID:10001888-1773273600-1774223999@rachelcribbs.com
SUMMARY:Puffs
DESCRIPTION:Week 1\n\n\n\nThursday- 9:30 school show\n\n\n\nFriday- 7 PM opening\n\n\n\nSaturday- 2 PM matinee\, 7 PM evening\n\n\n\nSunday- 2 PM matinee\n\n\n\n \n\n\n\nWeek 2\n\n\n\nWednesday- 9:30 school show\n\n\n\nFriday- 7 PM opening\n\n\n\nSaturday- 2 PM matinee\, 7 PM evening\n\n\n\nSunday- 2 PM matinee/ Senior Celebration
URL:https://rachelcribbs.com/event/puffs/
CATEGORIES:RTC
END:VEVENT
BEGIN:VEVENT
DTSTART;TZID=America/Los_Angeles:20260323T000000
DTEND;TZID=America/Los_Angeles:20260327T235959
DTSTAMP:20260423T165113
CREATED:20260317T144619Z
LAST-MODIFIED:20260320T183116Z
UID:10002107-1774224000-1774655999@rachelcribbs.com
SUMMARY:RTC
DESCRIPTION:RTC\n\n\n\nDates and Second semester rehearsal schedule is available here and on the table in LT.\n\n\n\nCheck the landing page on the website for updated details.\n\n\n\nJoin RTC Remind for Company Updates: Text @7ekaf4h to 81010\n\n\n\nRTC instagram: @rhsplayers\n\n\n\n2025 2026 Rtc datesDownload \n\n\n\nS2 2025-2026 scheduleDownload\n\n\n\n\n\n\n\nPuffs directed by K. Kirby\n\n\n\nMonday- Strike\, ALL CALLED 4-7\n\n\n\nTuesday- DARK\n\n\n\nWednesday- DARK\n\n\n\nThursday- DARK\n\n\n\nFriday- Cast and Crew party! LT\, 4-6\n\n\n\n\n\n\n\n \n\n\n\nSenior One Acts\n\n\n\nMemorize your lines\n\n\n\nMonday- DARK\n\n\n\nTuesday- Sonder- LT\, SWN- SB\, 4-7\n\n\n\nWednesday- NC-LT\, BD-SB\, 4-7\n\n\n\nThursday- Sonder- SB\, SWN- LT\, 4-7\n\n\n\nFriday- DARK\n\n\n\nJoin One Acts Remind: text @g4beek to 81010\n\n\n\nConflict form: https://forms.gle/6E4hbtNTGrNr3hzF6
URL:https://rachelcribbs.com/event/rtc-94/
CATEGORIES:RTC
END:VEVENT
BEGIN:VEVENT
DTSTART;TZID=America/Los_Angeles:20260328T000000
DTEND;TZID=America/Los_Angeles:20260328T235959
DTSTAMP:20260423T165113
CREATED:20250812T203758Z
LAST-MODIFIED:20260120T201444Z
UID:10001924-1774656000-1774742399@rachelcribbs.com
SUMMARY:Disneyland Trip!
DESCRIPTION:Disney Trip! \n\n\n\nWe will be going to California Adventure Park\n\n\n\nEvery year our Company travels to Disneyland for a theatre or leadership based workshop. \n\n\n\nThis year we are going on March 28\, 2026.\n\n\n\nCost is $250\, paid to Ms. Cribbs-Hibler\n\n\n\nWorkshop: Teamwork the Disney way\n\n\n\ndisney info page\n\n\n\nhttps://www.disneycampus.com/programs/leadership-innovation/teamwork-the-disney-way/
URL:https://rachelcribbs.com/event/disneyland-trip-2/
CATEGORIES:RTC
END:VEVENT
END:VCALENDAR