BEGIN:VCALENDAR
VERSION:2.0
PRODID:-//Rachel Cribbs-Hibler - ECPv6.15.20//NONSGML v1.0//EN
CALSCALE:GREGORIAN
METHOD:PUBLISH
X-WR-CALNAME:Rachel Cribbs-Hibler
X-ORIGINAL-URL:https://rachelcribbs.com
X-WR-CALDESC:Events for Rachel Cribbs-Hibler
REFRESH-INTERVAL;VALUE=DURATION:PT1H
X-Robots-Tag:noindex
X-PUBLISHED-TTL:PT1H
BEGIN:VTIMEZONE
TZID:America/Los_Angeles
BEGIN:DAYLIGHT
TZOFFSETFROM:-0800
TZOFFSETTO:-0700
TZNAME:PDT
DTSTART:20240310T100000
END:DAYLIGHT
BEGIN:STANDARD
TZOFFSETFROM:-0700
TZOFFSETTO:-0800
TZNAME:PST
DTSTART:20241103T090000
END:STANDARD
BEGIN:DAYLIGHT
TZOFFSETFROM:-0800
TZOFFSETTO:-0700
TZNAME:PDT
DTSTART:20250309T100000
END:DAYLIGHT
BEGIN:STANDARD
TZOFFSETFROM:-0700
TZOFFSETTO:-0800
TZNAME:PST
DTSTART:20251102T090000
END:STANDARD
BEGIN:DAYLIGHT
TZOFFSETFROM:-0800
TZOFFSETTO:-0700
TZNAME:PDT
DTSTART:20260308T100000
END:DAYLIGHT
BEGIN:STANDARD
TZOFFSETFROM:-0700
TZOFFSETTO:-0800
TZNAME:PST
DTSTART:20261101T090000
END:STANDARD
END:VTIMEZONE
BEGIN:VEVENT
DTSTART;TZID=America/Los_Angeles:20250818T000000
DTEND;TZID=America/Los_Angeles:20250822T235959
DTSTAMP:20260424T120301
CREATED:20250812T202108Z
LAST-MODIFIED:20250815T202615Z
UID:10001920-1755475200-1755907199@rachelcribbs.com
SUMMARY:RTC
DESCRIPTION:RTC\n\n\n\nDates and First semester rehearsal schedule is available here and on the table in LT.\n\n\n\nCheck the landing page on the website for updated details.\n\n\n\n \n\n\n\nPuffs directed by K. Kirby\n\n\n\nAuditions for Puffs are Sept 2-4: Tuesday and Wednesday with callbacks on Thursday.\n\n\n\nAll materials are on the RTC landing page on the website. Scripts and information pages are available in LT on the table near the front door.\n\n\n\nJoin Puffs Remind: Text @cd9dbb to 81010\n\n\n\nContracts\n\n\n\nAll student artists and parents must read\, agree and sign prior to being allowed to work on the production\n\n\n\nPuffs contract\n\n\n\nPuffs student production team contract\n\n\n\n \n\n\n\nOne Act directed by Sayuri Soto\n\n\n\nAuditions for the Fall One Act are next week: Wednesday\, with callbacks on Thursday.\n\n\n\nAll materials are available in LT on the table near the front.\n\n\n\nJoin One Act Remind: Text @g4beek to 81010\n\n\n\n \n\n\n\n \n\n\n\nCabaret\n\n\n\nOur first Cabaret of the year is Sept 26. Tech rehearsal is Sept 25\, mandatory for all performances. Sign up using the google form link.\n\n\n\nhttps://forms.gle/UtYN6dL41Hms6V6y6
URL:https://rachelcribbs.com/event/rtc-68/
CATEGORIES:RTC
END:VEVENT
BEGIN:VEVENT
DTSTART;TZID=America/Los_Angeles:20250825T000000
DTEND;TZID=America/Los_Angeles:20250829T235959
DTSTAMP:20260424T120301
CREATED:20250812T202438Z
LAST-MODIFIED:20250825T224542Z
UID:10001921-1756080000-1756511999@rachelcribbs.com
SUMMARY:RTC
DESCRIPTION:RTC\n\n\n\nDates and First semester rehearsal schedule is available here and on the table in LT.\n\n\n\nCheck the landing page on the website for updated details.\n\n\n\n \n\n\n\n \n\n\n\n \n\n\n\nPuffs directed by K. Kirby\n\n\n\nMonday- DARK\n\n\n\nTuesday-Meeting\, LT\, 4-7\n\n\n\nWednesday- DARK\n\n\n\nThursday- DARK\n\n\n\nFriday- DARK\n\n\n\nJoin the Puffs Remind\n\n\n\nSend a text to 81010 write @cd9dbb\n\n\n\nContracts\n\n\n\nAll student artists and parents must read\, agree and sign prior to being allowed to work on the production\n\n\n\nPuffs contract\n\n\n\nPuffs student production team contract\n\n\n\n \n\n\n\nBoise\, Idaho directed by Sayuri Soto\n\n\n\nMonday-DARK\n\n\n\nTuesday-DARK\n\n\n\nWednesday-Auditions\, 4-7\, LT\n\n\n\nThursday-Callbacks\, 4:30-7\, LT\n\n\n\nFriday-cast and crew list posted on the website.\n\n\n\nWe reserve the right to post list on Saturday\n\n\n\nJoin One Act Remind: Text @g4beek to 81010\n\n\n\n \n\n\n\nAudition Sign up link\n\n\n\nhttps://docs.google.com/forms/d/e/1FAIpQLSccbs8kQbkNsIo0epZ7lFRcQ9pSYutrPcdAMOnjeeJzMoFYmQ/viewform?usp=sharing&ouid=100588660183985920612\n\n\n\n \n\n\n\nCabaret\n\n\n\nOur first Cabaret of the year is Sept 26. Tech rehearsal is Sept 25\, mandatory for all performances. Sign up using the google form link.\n\n\n\nhttps://forms.gle/UtYN6dL41Hms6V6y6
URL:https://rachelcribbs.com/event/rtc-69/
CATEGORIES:RTC
END:VEVENT
BEGIN:VEVENT
DTSTART;TZID=America/Los_Angeles:20250828T000000
DTEND;TZID=America/Los_Angeles:20250828T235959
DTSTAMP:20260424T120301
CREATED:20250828T003822Z
LAST-MODIFIED:20250828T003917Z
UID:10001936-1756339200-1756425599@rachelcribbs.com
SUMMARY:Boise Callbacks
DESCRIPTION:Please review Sayuri’s director notes and character descriptions. Come ready to make different choices and receive notes. \n\n\n\nChastity– side 3\n\n\n\nNoah\n\n\n\nBri\n\n\n\nSyd\n\n\n\nSasha\n\n\n\n \n\n\n\n \n\n\n\nOlston– side 3\n\n\n\nBennett\n\n\n\nMarcus\n\n\n\n \n\n\n\n \n\n\n\nNarrator– sides 1 and 3\n\n\n\nBri\n\n\n\nSyd\n\n\n\nNoah\n\n\n\nAylline \n\n\n\nJax\n\n\n\nMoriah
URL:https://rachelcribbs.com/event/boise-callbacks/
CATEGORIES:RTC
END:VEVENT
BEGIN:VEVENT
DTSTART;TZID=America/Los_Angeles:20250829T000000
DTEND;TZID=America/Los_Angeles:20250829T235959
DTSTAMP:20260424T120301
CREATED:20250829T223648Z
LAST-MODIFIED:20250829T223649Z
UID:10001937-1756425600-1756511999@rachelcribbs.com
SUMMARY:Boise Cast and Crew
DESCRIPTION:First call Monday\, Sept 8 in Studio B. Please get a script in LT and begin memorizing your lines.\n\n\n\nBoise cast and crewDownload
URL:https://rachelcribbs.com/event/boise-cast-and-crew/
CATEGORIES:RTC
END:VEVENT
END:VCALENDAR