BEGIN:VCALENDAR
VERSION:2.0
PRODID:-//Rachel Cribbs-Hibler - ECPv6.15.20//NONSGML v1.0//EN
CALSCALE:GREGORIAN
METHOD:PUBLISH
X-ORIGINAL-URL:https://rachelcribbs.com
X-WR-CALDESC:Events for Rachel Cribbs-Hibler
REFRESH-INTERVAL;VALUE=DURATION:PT1H
X-Robots-Tag:noindex
X-PUBLISHED-TTL:PT1H
BEGIN:VTIMEZONE
TZID:America/Los_Angeles
BEGIN:DAYLIGHT
TZOFFSETFROM:-0800
TZOFFSETTO:-0700
TZNAME:PDT
DTSTART:20250309T100000
END:DAYLIGHT
BEGIN:STANDARD
TZOFFSETFROM:-0700
TZOFFSETTO:-0800
TZNAME:PST
DTSTART:20251102T090000
END:STANDARD
BEGIN:DAYLIGHT
TZOFFSETFROM:-0800
TZOFFSETTO:-0700
TZNAME:PDT
DTSTART:20260308T100000
END:DAYLIGHT
BEGIN:STANDARD
TZOFFSETFROM:-0700
TZOFFSETTO:-0800
TZNAME:PST
DTSTART:20261101T090000
END:STANDARD
BEGIN:DAYLIGHT
TZOFFSETFROM:-0800
TZOFFSETTO:-0700
TZNAME:PDT
DTSTART:20270314T100000
END:DAYLIGHT
BEGIN:STANDARD
TZOFFSETFROM:-0700
TZOFFSETTO:-0800
TZNAME:PST
DTSTART:20271107T090000
END:STANDARD
END:VTIMEZONE
BEGIN:VEVENT
DTSTART;TZID=America/Los_Angeles:20260202T000000
DTEND;TZID=America/Los_Angeles:20260206T235959
DTSTAMP:20260425T185920
CREATED:20260127T020648Z
LAST-MODIFIED:20260127T020650Z
UID:10002062-1769990400-1770422399@rachelcribbs.com
SUMMARY:Basics
DESCRIPTION:Schedule for the week\n\n\n\nMonday- Traditional\n\n\n\nTuesday- Traditional Meeting\n\n\n\nWednesday- Even\n\n\n\nThursday- Odd\n\n\n\nFriday-Traditional\n\n\n\nTony Tuesday\n\n\n\nThe Color Purple\n\n\n\nResponse 2 DUE: May 27 by 11:59 PM\n\n\n\nTony Tuesday response Download \n\n\n\n\n\n\n\n\n\nBasics\n\n\n\n1- Everyman\n\n\n\nStudents will choose a scene or monologue from Everyman to work on in class. Characterization and props\n\n\n\neveryman Download \n\n\n\n2- Monologue\n\n\n\nStudents will block and work on characterization of their monologue\, beats and chunks\n\n\n\n3- OA Auditions\n\n\n\nStudents will prep for auditions- review Character sheets and sides
URL:https://rachelcribbs.com/event/basics-91/
CATEGORIES:Basics
END:VEVENT
BEGIN:VEVENT
DTSTART;TZID=America/Los_Angeles:20260210T000000
DTEND;TZID=America/Los_Angeles:20260213T235959
DTSTAMP:20260425T185920
CREATED:20260203T011749Z
LAST-MODIFIED:20260203T011754Z
UID:10002068-1770681600-1771027199@rachelcribbs.com
SUMMARY:Basics
DESCRIPTION:Schedule for the week\n\n\n\nMonday- NO SCHOOL\n\n\n\nTuesday- Traditional\n\n\n\nWednesday- Even\n\n\n\nThursday- Odd\n\n\n\nFriday-Traditional\n\n\n\nTony Tuesday\n\n\n\nAin’t Too Proud\n\n\n\nResponse 2 DUE: May 27 by 11:59 PM\n\n\n\nTony Tuesday response Download \n\n\n\n\n\n\n\n\n\nBasics\n\n\n\n1- Everyman\n\n\n\nStudents will work on their scenes from Everyman. Characterization and props\n\n\n\neveryman Download \n\n\n\n2- Monologue\n\n\n\nStudents will block and work on characterization of their monologue\, beats and chunks
URL:https://rachelcribbs.com/event/basics-92/
CATEGORIES:Basics
END:VEVENT
BEGIN:VEVENT
DTSTART;TZID=America/Los_Angeles:20260217T000000
DTEND;TZID=America/Los_Angeles:20260220T235959
DTSTAMP:20260425T185920
CREATED:20260203T154348Z
LAST-MODIFIED:20260217T153201Z
UID:10002074-1771286400-1771631999@rachelcribbs.com
SUMMARY:Basics
DESCRIPTION:Schedule for the week \n\n\n\nMonday- NO SCHOOL\n\n\n\nTuesday- Traditional\n\n\n\nWednesday- Even\n\n\n\nThursday- Odd\n\n\n\nFriday-Traditional\n\n\n\nTony Tuesday\n\n\n\nMotown the Musical\n\n\n\nResponse 2 DUE: May 27 by 11:59 PM\n\n\n\nTony Tuesday response Download \n\n\n\n\n\n\n\n\n\nBasics\n\n\n\n1- Everyman\n\n\n\nStudents will work on their scenes from Everyman. Characterization\n\n\n\neveryman Download \n\n\n\n2- Monologue\n\n\n\nStudents will block and work on characterization of their monologue. Add Uta Hagen method\n\n\n\n3- SOA auditions\n\n\n\nStudents will sign up for an audition slot for Monday’s audition\n\n\n\nWe will discuss how to audition\, add slate to monologue\n\n\n\nHow-to-AuditionDownload
URL:https://rachelcribbs.com/event/basics-93/
CATEGORIES:Basics
END:VEVENT
BEGIN:VEVENT
DTSTART;TZID=America/Los_Angeles:20260223T000000
DTEND;TZID=America/Los_Angeles:20260227T235959
DTSTAMP:20260425T185921
CREATED:20260218T191022Z
LAST-MODIFIED:20260223T160954Z
UID:10002080-1771804800-1772236799@rachelcribbs.com
SUMMARY:Basics
DESCRIPTION:Schedule for the week\n\n\n\nMonday- Traditional\n\n\n\nTuesday- Traditional Meeting\n\n\n\nWednesday- Even\n\n\n\nThursday- Odd\n\n\n\nFriday-Traditional\n\n\n\nTony Tuesday\n\n\n\nChoir Boys\n\n\n\nResponse 2 DUE: May 27 by 11:59 PM\n\n\n\nTony Tuesday response Download \n\n\n\n\n\n\n\n\n\n \n\n\n\nBasics\n\n\n\n1- Everyman\n\n\n\nStudents will work on their scenes from Everyman. Characterization\n\n\n\neveryman Download \n\n\n\n2- Everyman performance\n\n\n\nStudents will perform Everyman scene on Tuesday. Script and Medieval Theatre google doc due\n\n\n\n3- Monologue performance\n\n\n\nStudents will perform their monologue in class on Friday. script and research due\n\n\n\n4- Watch film\n\n\n\nWe will watch two performances of Everyman
URL:https://rachelcribbs.com/event/basics-94/
CATEGORIES:Basics
END:VEVENT
END:VCALENDAR