BEGIN:VCALENDAR
VERSION:2.0
PRODID:-//Rachel Cribbs-Hibler - ECPv6.15.20//NONSGML v1.0//EN
CALSCALE:GREGORIAN
METHOD:PUBLISH
X-ORIGINAL-URL:https://rachelcribbs.com
X-WR-CALDESC:Events for Rachel Cribbs-Hibler
REFRESH-INTERVAL;VALUE=DURATION:PT1H
X-Robots-Tag:noindex
X-PUBLISHED-TTL:PT1H
BEGIN:VTIMEZONE
TZID:America/Los_Angeles
BEGIN:DAYLIGHT
TZOFFSETFROM:-0800
TZOFFSETTO:-0700
TZNAME:PDT
DTSTART:20250309T100000
END:DAYLIGHT
BEGIN:STANDARD
TZOFFSETFROM:-0700
TZOFFSETTO:-0800
TZNAME:PST
DTSTART:20251102T090000
END:STANDARD
BEGIN:DAYLIGHT
TZOFFSETFROM:-0800
TZOFFSETTO:-0700
TZNAME:PDT
DTSTART:20260308T100000
END:DAYLIGHT
BEGIN:STANDARD
TZOFFSETFROM:-0700
TZOFFSETTO:-0800
TZNAME:PST
DTSTART:20261101T090000
END:STANDARD
BEGIN:DAYLIGHT
TZOFFSETFROM:-0800
TZOFFSETTO:-0700
TZNAME:PDT
DTSTART:20270314T100000
END:DAYLIGHT
BEGIN:STANDARD
TZOFFSETFROM:-0700
TZOFFSETTO:-0800
TZNAME:PST
DTSTART:20271107T090000
END:STANDARD
END:VTIMEZONE
BEGIN:VEVENT
DTSTART;TZID=America/Los_Angeles:20260112T000000
DTEND;TZID=America/Los_Angeles:20260116T235959
DTSTAMP:20260425T193730
CREATED:20251218T152835Z
LAST-MODIFIED:20251218T153504Z
UID:10002033-1768176000-1768607999@rachelcribbs.com
SUMMARY:Basics
DESCRIPTION:Schedule for the week\n\n\n\nMonday- Traditional\n\n\n\nTuesday- Traditional Meeting\n\n\n\nWednesday- Even\n\n\n\nThursday- Odd\n\n\n\nFriday-Traditional\n\n\n\nTony Tuesday\n\n\n\nMatilda\n\n\n\nResponse 2 DUE: May 27 by 11:59 PM\n\n\n\nTony Tuesday response Download \n\n\n\n\n\n\n\n\n\nBasics\n\n\n\n1- Medieval Theatre\n\n\n\nStudents will begin the Medieval Theatre unit. We will read the article about the types of plays and the history of how drama evolved in the Medieval period.\n\n\n\n2- Everyman\n\n\n\nStudents will start reading and analyzing the first ever written play: Everyman\n\n\n\nMedieval-drama-and-the-mystery-plays-articleDownload\n\n\n\neverymanDownload
URL:https://rachelcribbs.com/event/basics-88/
CATEGORIES:Basics
END:VEVENT
BEGIN:VEVENT
DTSTART;TZID=America/Los_Angeles:20260120T000000
DTEND;TZID=America/Los_Angeles:20260123T235959
DTSTAMP:20260425T193731
CREATED:20260115T152605Z
LAST-MODIFIED:20260115T152607Z
UID:10002048-1768867200-1769212799@rachelcribbs.com
SUMMARY:Basics
DESCRIPTION:Schedule for the week\n\n\n\nMonday- NO SCHOOL!\n\n\n\nTuesday- Traditional\n\n\n\nWednesday- Even\n\n\n\nThursday- Odd\n\n\n\nFriday-Traditional\n\n\n\nTony Tuesday\n\n\n\nWaitress\n\n\n\nResponse 2 DUE: May 27 by 11:59 PM\n\n\n\nTony Tuesday response Download \n\n\n\n\n\n\n\n\n\nBasics\n\n\n\n1- Everyman\n\n\n\nStudents will read and analyze the first ever written play: Everyman\n\n\n\neveryman Download \n\n\n\n2- Monologue\n\n\n\nStudents will begin searching for a contemporary monologue to audition for One Acts. One minute in length\, must be published work from a play. Give to Hibler for approval and begin memorizing. DUE Friday
URL:https://rachelcribbs.com/event/basics-89/
CATEGORIES:Basics
END:VEVENT
BEGIN:VEVENT
DTSTART;TZID=America/Los_Angeles:20260126T000000
DTEND;TZID=America/Los_Angeles:20260130T235959
DTSTAMP:20260425T193731
CREATED:20260121T153905Z
LAST-MODIFIED:20260121T154045Z
UID:10002056-1769385600-1769817599@rachelcribbs.com
SUMMARY:Basics
DESCRIPTION:Schedule for the week\n\n\n\nMonday- Traditional\n\n\n\nTuesday- Traditional Meeting\n\n\n\nWednesday- Even\n\n\n\nThursday- Odd\n\n\n\nFriday-Traditional\n\n\n\nTony Tuesday\n\n\n\nFun Home\n\n\n\nResponse 2 DUE: May 27 by 11:59 PM\n\n\n\nTony Tuesday response Download \n\n\n\n\n\n\n\n\n\nBasics\n\n\n\n1- Everyman\n\n\n\nStudents will read and analyze the first ever written play: Everyman\n\n\n\neveryman Download \n\n\n\n2- Monologue\n\n\n\nStudents will memorize their monologue\n\n\n\n3- OA Auditions\n\n\n\nStudents will read and discuss the Director Statements from each show and decide which shows they want to be considered for
URL:https://rachelcribbs.com/event/basics-90/
CATEGORIES:Basics
END:VEVENT
END:VCALENDAR