BEGIN:VCALENDAR
VERSION:2.0
PRODID:-//Rachel Cribbs-Hibler - ECPv6.15.20//NONSGML v1.0//EN
CALSCALE:GREGORIAN
METHOD:PUBLISH
X-WR-CALNAME:Rachel Cribbs-Hibler
X-ORIGINAL-URL:https://rachelcribbs.com
X-WR-CALDESC:Events for Rachel Cribbs-Hibler
REFRESH-INTERVAL;VALUE=DURATION:PT1H
X-Robots-Tag:noindex
X-PUBLISHED-TTL:PT1H
BEGIN:VTIMEZONE
TZID:America/Los_Angeles
BEGIN:DAYLIGHT
TZOFFSETFROM:-0800
TZOFFSETTO:-0700
TZNAME:PDT
DTSTART:20240310T100000
END:DAYLIGHT
BEGIN:STANDARD
TZOFFSETFROM:-0700
TZOFFSETTO:-0800
TZNAME:PST
DTSTART:20241103T090000
END:STANDARD
BEGIN:DAYLIGHT
TZOFFSETFROM:-0800
TZOFFSETTO:-0700
TZNAME:PDT
DTSTART:20250309T100000
END:DAYLIGHT
BEGIN:STANDARD
TZOFFSETFROM:-0700
TZOFFSETTO:-0800
TZNAME:PST
DTSTART:20251102T090000
END:STANDARD
BEGIN:DAYLIGHT
TZOFFSETFROM:-0800
TZOFFSETTO:-0700
TZNAME:PDT
DTSTART:20260308T100000
END:DAYLIGHT
BEGIN:STANDARD
TZOFFSETFROM:-0700
TZOFFSETTO:-0800
TZNAME:PST
DTSTART:20261101T090000
END:STANDARD
END:VTIMEZONE
BEGIN:VEVENT
DTSTART;TZID=America/Los_Angeles:20251201T000000
DTEND;TZID=America/Los_Angeles:20251205T235959
DTSTAMP:20260425T210753
CREATED:20251111T020451Z
LAST-MODIFIED:20251111T020453Z
UID:10002014-1764547200-1764979199@rachelcribbs.com
SUMMARY:Basics
DESCRIPTION:Schedule for the week\n\n\n\nMonday- Traditional\n\n\n\nTuesday- Traditional Meeting\n\n\n\nWednesday- Even\n\n\n\nThursday- Odd\n\n\n\nFriday-Traditional\n\n\n\nTony Tuesday\n\n\n\nAnything Goes\n\n\n\nResponse 1 DUE: Dec 10 by 11:59 PM\n\n\n\nResponse 2 DUE: May 27 by 11:59 PM\n\n\n\nTony Tuesday response Download \n\n\n\n\n\n\n\n\n\nBasics\n\n\n\n1- New York accent\n\n\n\nStudents will learn how to do a New York accent.\n\n\n\n2- NY tongue twister\n\n\n\nStudents will work on their tongue twister using the NY accent. Phonetically write out lines\, create a character
URL:https://rachelcribbs.com/event/basics-85/
CATEGORIES:Basics
END:VEVENT
BEGIN:VEVENT
DTSTART;TZID=America/Los_Angeles:20251208T000000
DTEND;TZID=America/Los_Angeles:20251212T235959
DTSTAMP:20260425T210754
CREATED:20251118T012550Z
LAST-MODIFIED:20251118T012551Z
UID:10002023-1765152000-1765583999@rachelcribbs.com
SUMMARY:Basics
DESCRIPTION:Schedule for the week\n\n\n\nMonday- Traditional\n\n\n\nTuesday- Traditional Meeting\n\n\n\nWednesday- Even\n\n\n\nThursday- Odd\n\n\n\nFriday-Traditional\n\n\n\nTony Tuesday\n\n\n\nIn the Heights\n\n\n\nResponse 1 DUE: Dec 10 by 11:59 PM\n\n\n\nResponse 2 DUE: May 27 by 11:59 PM\n\n\n\nTony Tuesday response Download \n\n\n\n\n\n\n\n\n\nBasics\n\n\n\n1- NY tongue twister- perform\n\n\n\nStudents will perform their tongue twister in the NY accent.\n\n\n\n2- NY Scene work\n\n\n\nStudents will choose a scene to work on in the NY accent. Table work\, Hagen technique\, research\, blocking
URL:https://rachelcribbs.com/event/basics-86/
CATEGORIES:Basics
END:VEVENT
BEGIN:VEVENT
DTSTART;TZID=America/Los_Angeles:20251215T000000
DTEND;TZID=America/Los_Angeles:20251219T235959
DTSTAMP:20260425T210754
CREATED:20251118T012735Z
LAST-MODIFIED:20251215T154448Z
UID:10002024-1765756800-1766188799@rachelcribbs.com
SUMMARY:Basics
DESCRIPTION:Schedule for the week\n\n\n\nMonday- Traditional\n\n\n\nTuesday- Traditional Meeting\n\n\n\nWednesday- Even\n\n\n\nThursday- Odd\n\n\n\nFriday-Minimum Day\n\n\n\nTony Tuesday\n\n\n\nCinderella\n\n\n\nResponse 1 DUE: Dec 10 by 11:59 PM\n\n\n\nResponse 2 DUE: May 27 by 11:59 PM\n\n\n\nTony Tuesday response Download \n\n\n\n\n\n\n\n\n\nBasics\n\n\n\n1- NY Scene rehearsal\n\n\n\nStudents will run rehearsal for their NY scenes\n\n\n\n2- NY Scene performance\n\n\n\nStudents will perform their NY scenes on block day. Scripts and google doc due
URL:https://rachelcribbs.com/event/basics-87/
CATEGORIES:Basics
END:VEVENT
END:VCALENDAR