BEGIN:VCALENDAR
VERSION:2.0
PRODID:-//Rachel Cribbs-Hibler - ECPv6.15.20//NONSGML v1.0//EN
CALSCALE:GREGORIAN
METHOD:PUBLISH
X-ORIGINAL-URL:https://rachelcribbs.com
X-WR-CALDESC:Events for Rachel Cribbs-Hibler
REFRESH-INTERVAL;VALUE=DURATION:PT1H
X-Robots-Tag:noindex
X-PUBLISHED-TTL:PT1H
BEGIN:VTIMEZONE
TZID:America/Los_Angeles
BEGIN:DAYLIGHT
TZOFFSETFROM:-0800
TZOFFSETTO:-0700
TZNAME:PDT
DTSTART:20250309T100000
END:DAYLIGHT
BEGIN:STANDARD
TZOFFSETFROM:-0700
TZOFFSETTO:-0800
TZNAME:PST
DTSTART:20251102T090000
END:STANDARD
BEGIN:DAYLIGHT
TZOFFSETFROM:-0800
TZOFFSETTO:-0700
TZNAME:PDT
DTSTART:20260308T100000
END:DAYLIGHT
BEGIN:STANDARD
TZOFFSETFROM:-0700
TZOFFSETTO:-0800
TZNAME:PST
DTSTART:20261101T090000
END:STANDARD
BEGIN:DAYLIGHT
TZOFFSETFROM:-0800
TZOFFSETTO:-0700
TZNAME:PDT
DTSTART:20270314T100000
END:DAYLIGHT
BEGIN:STANDARD
TZOFFSETFROM:-0700
TZOFFSETTO:-0800
TZNAME:PST
DTSTART:20271107T090000
END:STANDARD
END:VTIMEZONE
BEGIN:VEVENT
DTSTART;TZID=America/Los_Angeles:20260312T000000
DTEND;TZID=America/Los_Angeles:20260322T235959
DTSTAMP:20260425T093823
CREATED:20250512T171518Z
LAST-MODIFIED:20250826T002238Z
UID:10001888-1773273600-1774223999@rachelcribbs.com
SUMMARY:Puffs
DESCRIPTION:Week 1\n\n\n\nThursday- 9:30 school show\n\n\n\nFriday- 7 PM opening\n\n\n\nSaturday- 2 PM matinee\, 7 PM evening\n\n\n\nSunday- 2 PM matinee\n\n\n\n \n\n\n\nWeek 2\n\n\n\nWednesday- 9:30 school show\n\n\n\nFriday- 7 PM opening\n\n\n\nSaturday- 2 PM matinee\, 7 PM evening\n\n\n\nSunday- 2 PM matinee/ Senior Celebration
URL:https://rachelcribbs.com/event/puffs/
CATEGORIES:RTC
END:VEVENT
BEGIN:VEVENT
DTSTART;TZID=America/Los_Angeles:20260316T000000
DTEND;TZID=America/Los_Angeles:20260320T235959
DTSTAMP:20260425T093823
CREATED:20260308T213031Z
LAST-MODIFIED:20260317T141442Z
UID:10002098-1773619200-1774051199@rachelcribbs.com
SUMMARY:Directors
DESCRIPTION:Schedule for the week\n\n\n\nMonday- Traditional\n\n\n\nTuesday- Traditional Meeting\n\n\n\nWednesday- Even\n\n\n\nThursday- Odd\n\n\n\nFriday-Traditional\n\n\n\nTony Tuesday\n\n\n\nRock of Ages\n\n\n\nResponse 2 DUE: May 27 by 11:59 PM\n\n\n\nTony Tuesday response Download \n\n\n\n\n\n\n\n\n\nDirectors\n\n\n\n1- Running Rehearsals\n\n\n\nStudents will learn how to run rehearsals including how to give notes and working with lots of different personalities\n\n\n\n2- Rehearsal schedule by show DUE\n\n\n\nWrite out what you plan to do on each day of rehearsal including who is called for that rehearsal\, include times. Due Friday
URL:https://rachelcribbs.com/event/directors-94/
CATEGORIES:Directors
END:VEVENT
BEGIN:VEVENT
DTSTART;TZID=America/Los_Angeles:20260316T000000
DTEND;TZID=America/Los_Angeles:20260320T235959
DTSTAMP:20260425T093823
CREATED:20260308T213541Z
LAST-MODIFIED:20260308T213547Z
UID:10002099-1773619200-1774051199@rachelcribbs.com
SUMMARY:Styles
DESCRIPTION:Schedule for the week\n\n\n\nMonday- Traditional\n\n\n\nTuesday- Traditional Meeting\n\n\n\nWednesday- Even\n\n\n\nThursday- Odd\n\n\n\nFriday-Traditional\n\n\n\nTony Tuesday\n\n\n\nRock of Ages\n\n\n\nResponse 2 DUE: May 27 by 11:59 PM\n\n\n\nTony Tuesday response Download \n\n\n\n\n\n\n\n\n\nStyles\n\n\n\n1- Shakespeare monologue\n\n\n\nStudents will memorize and work on characterization\n\n\n\n2- Shakespeare performances\n\n\n\nStudents will start watching monologues and scenes from other Shakespeare shows. Romeo and Juliet
URL:https://rachelcribbs.com/event/styles-98/
CATEGORIES:Styles
END:VEVENT
BEGIN:VEVENT
DTSTART;TZID=America/Los_Angeles:20260316T000000
DTEND;TZID=America/Los_Angeles:20260320T235959
DTSTAMP:20260425T093824
CREATED:20260308T213813Z
LAST-MODIFIED:20260308T213820Z
UID:10002100-1773619200-1774051199@rachelcribbs.com
SUMMARY:Basics
DESCRIPTION:Schedule for the week\n\n\n\nMonday- Traditional\n\n\n\nTuesday- Traditional Meeting\n\n\n\nWednesday- Even\n\n\n\nThursday- Odd\n\n\n\nFriday-Traditional\n\n\n\nTony Tuesday\n\n\n\nRock of Ages\n\n\n\nResponse 2 DUE: May 27 by 11:59 PM\n\n\n\nTony Tuesday response Download \n\n\n\n\n\n\n\n\n\nBasics\n\n\n\n1- Commedia Characters project\n\n\n\nEach student will choose 2 Commedia characters to deep dive and share all the characteristics and how to act like the character in class. Be sure to include the animals and the movement for each character\n\n\n\n2- 2 Harlequins\n\n\n\nWe will read and analyze a Commedia play\n\n\n\nTHE TWO HARLEQUINS commedia playDownload
URL:https://rachelcribbs.com/event/basics-97/
CATEGORIES:Basics
END:VEVENT
BEGIN:VEVENT
DTSTART;TZID=America/Los_Angeles:20260316T000000
DTEND;TZID=America/Los_Angeles:20260320T235959
DTSTAMP:20260425T093825
CREATED:20260308T213957Z
LAST-MODIFIED:20260308T214031Z
UID:10002101-1773619200-1774051199@rachelcribbs.com
SUMMARY:Theatre 1
DESCRIPTION:Schedule for the week\n\n\n\nMonday- Traditional\n\n\n\nTuesday- Traditional Meeting\n\n\n\nWednesday- Even\n\n\n\nThursday- Odd\n\n\n\nFriday-Traditional\n\n\n\nTony Tuesday\n\n\n\nRock of Ages\n\n\n\nResponse 2 DUE: May 27 by 11:59 PM\n\n\n\nTony Tuesday response Download \n\n\n\n\n\n\n\n\n\nTheatre 1\n\n\n\n1- Parts of a Theater\n\n\n\nWe will play Find the Senior in the Audra\n\n\n\nParts of a theatre glossary Download \n\n\n\n2- You Can’t Take it With You\n\n\n\nWe will start working on the first act of You Can’t Take it With You. Script analysis and research doc
URL:https://rachelcribbs.com/event/theatre-1-100/
CATEGORIES:Theatre 1
END:VEVENT
BEGIN:VEVENT
DTSTART;TZID=America/Los_Angeles:20260316T000000
DTEND;TZID=America/Los_Angeles:20260320T235959
DTSTAMP:20260425T093825
CREATED:20260308T223740Z
LAST-MODIFIED:20260308T223744Z
UID:10002102-1773619200-1774051199@rachelcribbs.com
SUMMARY:Intro to Theatre
DESCRIPTION:Schedule for the week\n\n\n\nMonday- Traditional\n\n\n\nTuesday- Traditional Meeting\n\n\n\nWednesday- Even\n\n\n\nThursday- Odd\n\n\n\nFriday-Traditional\n\n\n\nTony Tuesday\n\n\n\nRock of Ages\n\n\n\nResponse 2 DUE: May 27 by 11:59 PM\n\n\n\nTony Tuesday response Download \n\n\n\n\n\n\n\n\n\nIntro to Theatre\n\n\n\n1- Parts of a Theater\n\n\n\nWe will play Find the Hibler in the Audra Theater\n\n\n\nParts of a theatre glossary Download \n\n\n\n2- Stage Combat\n\n\n\nWe will continue hand to hand Stage Combat unit. Students will start planning their own scenes and writing a fight scene\n\n\n\nStage-Combat-handout Download
URL:https://rachelcribbs.com/event/intro-to-theatre-101/
CATEGORIES:Intro to Theatre
END:VEVENT
BEGIN:VEVENT
DTSTART;TZID=America/Los_Angeles:20260316T000000
DTEND;TZID=America/Los_Angeles:20260320T235959
DTSTAMP:20260425T093825
CREATED:20260308T223857Z
LAST-MODIFIED:20260308T223900Z
UID:10002103-1773619200-1774051199@rachelcribbs.com
SUMMARY:Costume
DESCRIPTION:Schedule for the week\n\n\n\nMonday- Traditional\n\n\n\nTuesday- Traditional Meeting\n\n\n\nWednesday- Even\n\n\n\nThursday- Odd\n\n\n\nFriday-Traditional\n\n\n\nTony Tuesday\n\n\n\nRock of Ages\n\n\n\nResponse 2 DUE: May 27 by 11:59 PM\n\n\n\nTony Tuesday response Download \n\n\n\n\n\n\n\n\n\nCostume\n\n\n\n1- Puffs\n\n\n\nAny changes/adjustments done\n\n\n\n2- OA Designs- Design meetings\n\n\n\nStudents will meet with their director to pitch their ideas for costume design\n\n\n\n3- OA\n\n\n\nStudents will complete measurements and start pulling for their OA
URL:https://rachelcribbs.com/event/costume-95/
CATEGORIES:Costume
END:VEVENT
END:VCALENDAR