BEGIN:VCALENDAR
VERSION:2.0
PRODID:-//Rachel Cribbs-Hibler - ECPv6.15.20//NONSGML v1.0//EN
CALSCALE:GREGORIAN
METHOD:PUBLISH
X-WR-CALNAME:Rachel Cribbs-Hibler
X-ORIGINAL-URL:https://rachelcribbs.com
X-WR-CALDESC:Events for Rachel Cribbs-Hibler
REFRESH-INTERVAL;VALUE=DURATION:PT1H
X-Robots-Tag:noindex
X-PUBLISHED-TTL:PT1H
BEGIN:VTIMEZONE
TZID:America/Los_Angeles
BEGIN:DAYLIGHT
TZOFFSETFROM:-0800
TZOFFSETTO:-0700
TZNAME:PDT
DTSTART:20240310T100000
END:DAYLIGHT
BEGIN:STANDARD
TZOFFSETFROM:-0700
TZOFFSETTO:-0800
TZNAME:PST
DTSTART:20241103T090000
END:STANDARD
BEGIN:DAYLIGHT
TZOFFSETFROM:-0800
TZOFFSETTO:-0700
TZNAME:PDT
DTSTART:20250309T100000
END:DAYLIGHT
BEGIN:STANDARD
TZOFFSETFROM:-0700
TZOFFSETTO:-0800
TZNAME:PST
DTSTART:20251102T090000
END:STANDARD
BEGIN:DAYLIGHT
TZOFFSETFROM:-0800
TZOFFSETTO:-0700
TZNAME:PDT
DTSTART:20260308T100000
END:DAYLIGHT
BEGIN:STANDARD
TZOFFSETFROM:-0700
TZOFFSETTO:-0800
TZNAME:PST
DTSTART:20261101T090000
END:STANDARD
END:VTIMEZONE
BEGIN:VEVENT
DTSTART;TZID=America/Los_Angeles:20251208T000000
DTEND;TZID=America/Los_Angeles:20251212T235959
DTSTAMP:20260424T094421
CREATED:20251016T144714Z
LAST-MODIFIED:20251118T024638Z
UID:10001986-1765152000-1765583999@rachelcribbs.com
SUMMARY:RTC
DESCRIPTION:RTC\n\n\n\nDates and First semester rehearsal schedule is available here and on the table in LT.\n\n\n\nCheck the landing page on the website for updated details.\n\n\n\nJoin RTC Remind for Company Updates: Text @7ekaf4h to 81010\n\n\n\nRTC instagram: @rhsplayers\n\n\n\n2025 2026 Rtc datesDownload \n\n\n\nS2 2025-2026 scheduleDownload \n\n\n\nFall Workshop\n\n\n\nTuesday- Hand puppets building with Kirby\, LT\, 4-7\n\n\n\nSkills Workshops Download \n\n\n\nPuffs directed by K. Kirby\n\n\n\nMonday- Rehearsal\, LT\, 4-7\n\n\n\nTuesday-DARK\n\n\n\nWednesday- Rehearsal\, LT\, 4-7\n\n\n\nThursday- DARK\n\n\n\nFriday- DARK\n\n\n\nJoin the Puffs Remind\n\n\n\nSend a text to 81010 write @cd9dbb\n\n\n\n\n\n\n\nFUSD Theatre Festival\n\n\n\nWe are hosting the Festival on January 28. Students may compete or work my crew. Please sign up\n\n\n\nhttps://forms.gle/Aubv6KUfpPWAPuJb6
URL:https://rachelcribbs.com/event/rtc-83/
CATEGORIES:RTC
END:VEVENT
BEGIN:VEVENT
DTSTART;TZID=America/Los_Angeles:20251208T000000
DTEND;TZID=America/Los_Angeles:20251212T235959
DTSTAMP:20260424T094421
CREATED:20251118T011254Z
LAST-MODIFIED:20251118T011926Z
UID:10002019-1765152000-1765583999@rachelcribbs.com
SUMMARY:Directors
DESCRIPTION:Schedule for the week\n\n\n\nMonday- Traditional\n\n\n\nTuesday- Traditional Meeting\n\n\n\nWednesday- Even\n\n\n\nThursday- Odd\n\n\n\nFriday-Traditional\n\n\n\nTony Tuesday\n\n\n\nIn the Heights\n\n\n\nResponse 1 DUE: Dec 10 by 11:59 PM\n\n\n\nResponse 2 DUE: May 27 by 11:59 PM\n\n\n\nTony Tuesday response Download \n\n\n\n\n\n\n\n\n\nDirectors\n\n\n\n1- Greek Theatre\n\n\n\nStudents will work with first years on their Greek Theatre scenes\n\n\n\n2- Lighting Design\n\n\n\nStudents will learn how to design lights using mood for the scene changes\n\n\n\nWrite:\n\n\n\nLighting cue sheet\n\n\n\nLighting research\n\n\n\nLighting statement\n\n\n\n3- Sound Design\n\n\n\nStudents will learn how to design sound for shows\n\n\n\nWrite:\n\n\n\nSound cue sheet\n\n\n\nSound research\n\n\n\nSound statement
URL:https://rachelcribbs.com/event/directors-83/
CATEGORIES:Directors
END:VEVENT
BEGIN:VEVENT
DTSTART;TZID=America/Los_Angeles:20251208T000000
DTEND;TZID=America/Los_Angeles:20251212T235959
DTSTAMP:20260424T094422
CREATED:20251118T012142Z
LAST-MODIFIED:20251118T012143Z
UID:10002021-1765152000-1765583999@rachelcribbs.com
SUMMARY:Styles
DESCRIPTION:Schedule for the week\n\n\n\nMonday- Traditional\n\n\n\nTuesday- Traditional Meeting\n\n\n\nWednesday- Even\n\n\n\nThursday- Odd\n\n\n\nFriday-Traditional\n\n\n\nTony Tuesday\n\n\n\nIn the Heights\n\n\n\nResponse 1 DUE: Dec 10 by 11:59 PM\n\n\n\nResponse 2 DUE: May 27 by 11:59 PM\n\n\n\nTony Tuesday response Download \n\n\n\n\n\n\n\n\n\nStyles\n\n\n\n1- Cockney tongue twister- perform\n\n\n\nStudents will perform their tongue twister in the cockney accent\n\n\n\n2- Cockney scene work\n\n\n\nStudents will choose a scene to work on using the cockney accent. Table work\, research\, Meisner/Adler technique and blocking
URL:https://rachelcribbs.com/event/styles-86/
CATEGORIES:Styles
END:VEVENT
BEGIN:VEVENT
DTSTART;TZID=America/Los_Angeles:20251208T000000
DTEND;TZID=America/Los_Angeles:20251212T235959
DTSTAMP:20260424T094422
CREATED:20251118T012550Z
LAST-MODIFIED:20251118T012551Z
UID:10002023-1765152000-1765583999@rachelcribbs.com
SUMMARY:Basics
DESCRIPTION:Schedule for the week\n\n\n\nMonday- Traditional\n\n\n\nTuesday- Traditional Meeting\n\n\n\nWednesday- Even\n\n\n\nThursday- Odd\n\n\n\nFriday-Traditional\n\n\n\nTony Tuesday\n\n\n\nIn the Heights\n\n\n\nResponse 1 DUE: Dec 10 by 11:59 PM\n\n\n\nResponse 2 DUE: May 27 by 11:59 PM\n\n\n\nTony Tuesday response Download \n\n\n\n\n\n\n\n\n\nBasics\n\n\n\n1- NY tongue twister- perform\n\n\n\nStudents will perform their tongue twister in the NY accent.\n\n\n\n2- NY Scene work\n\n\n\nStudents will choose a scene to work on in the NY accent. Table work\, Hagen technique\, research\, blocking
URL:https://rachelcribbs.com/event/basics-86/
CATEGORIES:Basics
END:VEVENT
BEGIN:VEVENT
DTSTART;TZID=America/Los_Angeles:20251208T000000
DTEND;TZID=America/Los_Angeles:20251212T235959
DTSTAMP:20260424T094423
CREATED:20251118T013010Z
LAST-MODIFIED:20251204T151332Z
UID:10002025-1765152000-1765583999@rachelcribbs.com
SUMMARY:Theatre 1
DESCRIPTION:Schedule for the week\n\n\n\nMonday- Traditional\n\n\n\nTuesday- Traditional Meeting\n\n\n\nWednesday- Even\n\n\n\nThursday- Odd\n\n\n\nFriday-Traditional\n\n\n\nTony Tuesday\n\n\n\nIn the Heights\n\n\n\nResponse 1 DUE: Dec 10 by 11:59 PM\n\n\n\nResponse 2 DUE: May 27 by 11:59 PM\n\n\n\nTony Tuesday response Download \n\n\n\n\n\n\n\n\n\nTheatre 1\n\n\n\n1- Vocab week 8\n\n\n\nStudents will learn vocab words for week 8\n\n\n\nVocabulary Download \n\n\n\n2- Greek Theatre Scene rehearsal\n\n\n\nStudents will work on projection\, working with masks and holding big gestures.
URL:https://rachelcribbs.com/event/theatre-1-89/
CATEGORIES:Theatre 1
END:VEVENT
BEGIN:VEVENT
DTSTART;TZID=America/Los_Angeles:20251208T000000
DTEND;TZID=America/Los_Angeles:20251212T235959
DTSTAMP:20260424T094423
CREATED:20251118T013407Z
LAST-MODIFIED:20251201T200316Z
UID:10002027-1765152000-1765583999@rachelcribbs.com
SUMMARY:Intro to Theatre
DESCRIPTION:Schedule for the week\n\n\n\nMonday- Traditional\n\n\n\nTuesday- Traditional Meeting\n\n\n\nWednesday- Even\n\n\n\nThursday- Odd\n\n\n\nFriday-Traditional\n\n\n\nTony Tuesday\n\n\n\nIn the Heights\n\n\n\nResponse 1 DUE: Dec 10 by 11:59 PM\n\n\n\nResponse 2 DUE: May 27 by 11:59 PM\n\n\n\nTony Tuesday response Download \n\n\n\n\n\n\n\n\n\nIntro to Theatre\n\n\n\n1- Vocab week 8\n\n\n\nStudents will learn the vocab words for week 8\n\n\n\nVocabulary Download \n\n\n\n2- Choreography Unit\n\n\n\nPerform Western dance in class on Friday
URL:https://rachelcribbs.com/event/intro-to-theatre-90/
CATEGORIES:Intro to Theatre
END:VEVENT
BEGIN:VEVENT
DTSTART;TZID=America/Los_Angeles:20251208T000000
DTEND;TZID=America/Los_Angeles:20251212T235959
DTSTAMP:20260424T094423
CREATED:20251118T013745Z
LAST-MODIFIED:20251118T013746Z
UID:10002029-1765152000-1765583999@rachelcribbs.com
SUMMARY:Costume
DESCRIPTION:Schedule for the week\n\n\n\nMonday- Traditional\n\n\n\nTuesday- Traditional Meeting\n\n\n\nWednesday- Even\n\n\n\nThursday- Odd\n\n\n\nFriday-Traditional\n\n\n\nTony Tuesday\n\n\n\nIn the Heights\n\n\n\nResponse 1 DUE: Dec 10 by 11:59 PM\n\n\n\nResponse 2 DUE: May 27 by 11:59 PM\n\n\n\nTony Tuesday response Download \n\n\n\n\n\n\n\n\n\nCostume\n\n\n\n1- Alterations\n\n\n\nWe will begin alterations for costumes first using hand sewing. If we can get time in the sewing lab\, we will learn machines\n\n\n\nActors must be ready to run in full costumes in January. We have to prep for all those costume changes\n\n\n\n2- Stock\n\n\n\nStudents will work on our material ctrain and organize it for better use. We will also work on 500 shoes and jewelry
URL:https://rachelcribbs.com/event/costume-84/
CATEGORIES:Costume
END:VEVENT
END:VCALENDAR