BEGIN:VCALENDAR
VERSION:2.0
PRODID:-//Rachel Cribbs-Hibler - ECPv6.15.20//NONSGML v1.0//EN
CALSCALE:GREGORIAN
METHOD:PUBLISH
X-ORIGINAL-URL:https://rachelcribbs.com
X-WR-CALDESC:Events for Rachel Cribbs-Hibler
REFRESH-INTERVAL;VALUE=DURATION:PT1H
X-Robots-Tag:noindex
X-PUBLISHED-TTL:PT1H
BEGIN:VTIMEZONE
TZID:America/Los_Angeles
BEGIN:DAYLIGHT
TZOFFSETFROM:-0800
TZOFFSETTO:-0700
TZNAME:PDT
DTSTART:20240310T100000
END:DAYLIGHT
BEGIN:STANDARD
TZOFFSETFROM:-0700
TZOFFSETTO:-0800
TZNAME:PST
DTSTART:20241103T090000
END:STANDARD
BEGIN:DAYLIGHT
TZOFFSETFROM:-0800
TZOFFSETTO:-0700
TZNAME:PDT
DTSTART:20250309T100000
END:DAYLIGHT
BEGIN:STANDARD
TZOFFSETFROM:-0700
TZOFFSETTO:-0800
TZNAME:PST
DTSTART:20251102T090000
END:STANDARD
BEGIN:DAYLIGHT
TZOFFSETFROM:-0800
TZOFFSETTO:-0700
TZNAME:PDT
DTSTART:20260308T100000
END:DAYLIGHT
BEGIN:STANDARD
TZOFFSETFROM:-0700
TZOFFSETTO:-0800
TZNAME:PST
DTSTART:20261101T090000
END:STANDARD
END:VTIMEZONE
BEGIN:VEVENT
DTSTART;TZID=America/Los_Angeles:20251117T000000
DTEND;TZID=America/Los_Angeles:20251121T235959
DTSTAMP:20260424T072326
CREATED:20251016T144243Z
LAST-MODIFIED:20251028T143116Z
UID:10001984-1763337600-1763769599@rachelcribbs.com
SUMMARY:RTC
DESCRIPTION:RTC\n\n\n\nDates and First semester rehearsal schedule is available here and on the table in LT.\n\n\n\nCheck the landing page on the website for updated details.\n\n\n\nJoin RTC Remind for Company Updates: Text @7ekaf4h to 81010\n\n\n\nRTC instagram: @rhsplayers\n\n\n\n2025 2026 Rtc datesDownload \n\n\n\nS2 2025-2026 scheduleDownload \n\n\n\nFall Workshop\n\n\n\nTuesday- Sword stage combat with Hibler\, LT\, 4-7\n\n\n\nSkills Workshops Download \n\n\n\nPuffs directed by K. Kirby\n\n\n\nMonday- Rehearsal\, LT\, 4-7\n\n\n\nTuesday-DARK\n\n\n\nWednesday- Rehearsal\, LT\, 4-7\n\n\n\nThursday- DARK\n\n\n\nFriday- DARK\n\n\n\nJoin the Puffs Remind\n\n\n\nSend a text to 81010 write @cd9dbb\n\n\n\n\n\n\n\nWant to work Puffs crew?\n\n\n\nUse the QR code in LT to get to the application. Or click the link\n\n\n\nhttps://docs.google.com/forms/d/e/1FAIpQLSeMcQQfdiVyGn9u_WNyeJz47gg24G0CilzOspjWAJPngE4VuQ/viewform\n\n\n\n\n\n\n\nHoliday Cabaret\n\n\n\nThursday- Tech rehearsal\, LT\, 4-6\, ALL CALLED\n\n\n\nFriday- Holiday Cabaret\, LT\, 5:30 Call\n\n\n\n\n\n\n\nDisney Trip! \n\n\n\nEvery year our Company travels to Disneyland for a theatre or leadership based workshop. This year we are going on January 17\, 2026.\n\n\n\nCost is $250\, paid to Ms. Cribbs-Hibler\n\n\n\nWorkshop: Teamwork the Disney way\n\n\n\ndisney info page\n\n\n\nhttps://www.disneycampus.com/programs/leadership-innovation/teamwork-the-disney-way/
URL:https://rachelcribbs.com/event/rtc-81/
CATEGORIES:RTC
END:VEVENT
BEGIN:VEVENT
DTSTART;TZID=America/Los_Angeles:20251117T000000
DTEND;TZID=America/Los_Angeles:20251121T235959
DTSTAMP:20260424T072326
CREATED:20251104T194110Z
LAST-MODIFIED:20251104T194112Z
UID:10002006-1763337600-1763769599@rachelcribbs.com
SUMMARY:Directors
DESCRIPTION:Schedule for the week\n\n\n\nMonday- Traditional\n\n\n\nTuesday- Traditional Meeting\n\n\n\nWednesday- Even\n\n\n\nThursday- Odd\n\n\n\nFriday-Traditional\n\n\n\nTony Tuesday\n\n\n\nThe Outsiders\n\n\n\nResponse 1 DUE: Dec 10 by 11:59 PM\n\n\n\nResponse 2 DUE: May 27 by 11:59 PM\n\n\n\nTony Tuesday response Download \n\n\n\n\n\n\n\n\n\nDirectors\n\n\n\n1- Greek Theatre\n\n\n\nStudents will work with first years on their Greek Theatre scenes\n\n\n\n2- Props Design\n\n\n\nStudents will learn how to research and plan for props design in their shows. Discuss consumable vs regular props\n\n\n\nWrite:\n\n\n\nProps list\n\n\n\nProps research\n\n\n\nProps statement\n\n\n\nProps tracker\n\n\n\ndont-touch-props-articleDownload\n\n\n\nProps-trackerDownload
URL:https://rachelcribbs.com/event/directors-81/
CATEGORIES:Directors
END:VEVENT
BEGIN:VEVENT
DTSTART;TZID=America/Los_Angeles:20251117T000000
DTEND;TZID=America/Los_Angeles:20251121T235959
DTSTAMP:20260424T072327
CREATED:20251104T194312Z
LAST-MODIFIED:20251104T194313Z
UID:10002007-1763337600-1763769599@rachelcribbs.com
SUMMARY:Styles
DESCRIPTION:Schedule for the week\n\n\n\nMonday- Traditional\n\n\n\nTuesday- Traditional Meeting\n\n\n\nWednesday- Even\n\n\n\nThursday- Odd\n\n\n\nFriday-Traditional\n\n\n\nTony Tuesday\n\n\n\nThe Outsiders\n\n\n\nResponse 1 DUE: Dec 10 by 11:59 PM\n\n\n\nResponse 2 DUE: May 27 by 11:59 PM\n\n\n\nTony Tuesday response Download \n\n\n\n\n\n\n\n\n\nStyles\n\n\n\n1- RP scene rehearsal\n\n\n\nStudents will work their RP scene blocking and rehearsal.\n\n\n\n2- RP performances\n\n\n\nStudents will perform their RP scenes in class on Friday\n\n\n\nScripts due on Friday
URL:https://rachelcribbs.com/event/styles-84/
CATEGORIES:Styles
END:VEVENT
BEGIN:VEVENT
DTSTART;TZID=America/Los_Angeles:20251117T000000
DTEND;TZID=America/Los_Angeles:20251121T235959
DTSTAMP:20260424T072327
CREATED:20251104T194452Z
LAST-MODIFIED:20251104T194453Z
UID:10002008-1763337600-1763769599@rachelcribbs.com
SUMMARY:Basics
DESCRIPTION:Schedule for the week\n\n\n\nMonday- Traditional\n\n\n\nTuesday- Traditional Meeting\n\n\n\nWednesday- Even\n\n\n\nThursday- Odd\n\n\n\nFriday-Traditional\n\n\n\nTony Tuesday\n\n\n\nThe Outsiders\n\n\n\nResponse 1 DUE: Dec 10 by 11:59 PM\n\n\n\nResponse 2 DUE: May 27 by 11:59 PM\n\n\n\nTony Tuesday response Download \n\n\n\n\n\n\n\n\n\nBasics\n\n\n\n1- Southern scene rehearsal\n\n\n\nStudents will work their Southern scene blocking and rehearsal.\n\n\n\n2- Southern scene performance\n\n\n\nStudents will perform their Southern scene in class on Friday.Script due Friday
URL:https://rachelcribbs.com/event/basics-84/
CATEGORIES:Basics
END:VEVENT
BEGIN:VEVENT
DTSTART;TZID=America/Los_Angeles:20251117T000000
DTEND;TZID=America/Los_Angeles:20251121T235959
DTSTAMP:20260424T072327
CREATED:20251104T195232Z
LAST-MODIFIED:20251104T195233Z
UID:10002009-1763337600-1763769599@rachelcribbs.com
SUMMARY:Theatre 1
DESCRIPTION:Schedule for the week\n\n\n\nMonday- Traditional\n\n\n\nTuesday- Traditional Meeting\n\n\n\nWednesday- Even\n\n\n\nThursday- Odd\n\n\n\nFriday-Traditional\n\n\n\nTony Tuesday\n\n\n\nThe Outsiders\n\n\n\nResponse 1 DUE: Dec 10 by 11:59 PM\n\n\n\nResponse 2 DUE: May 27 by 11:59 PM\n\n\n\nTony Tuesday response Download \n\n\n\n\n\n\n\n\n\nTheatre 1\n\n\n\n1- Vocab Quiz weeks 5 and 6\n\n\n\nStudents will take a quiz on weeks 5 and 6 vocab on Friday\n\n\n\nVocabulary Download \n\n\n\n2- Greek Theatre Table work\n\n\n\nStudents will learn how to read and code a script for research and character development. We will work on a scene from Medea together in class.
URL:https://rachelcribbs.com/event/theatre-1-87/
CATEGORIES:Theatre 1
END:VEVENT
BEGIN:VEVENT
DTSTART;TZID=America/Los_Angeles:20251117T000000
DTEND;TZID=America/Los_Angeles:20251121T235959
DTSTAMP:20260424T072327
CREATED:20251105T201232Z
LAST-MODIFIED:20251105T201234Z
UID:10002010-1763337600-1763769599@rachelcribbs.com
SUMMARY:Intro to Theatre
DESCRIPTION:Schedule for the week\n\n\n\nMonday- Traditional\n\n\n\nTuesday- Traditional Meeting\n\n\n\nWednesday- Even\n\n\n\nThursday- Odd\n\n\n\nFriday-Traditional\n\n\n\nTony Tuesday\n\n\n\nThe Outsiders\n\n\n\nResponse 1 DUE: Dec 10 by 11:59 PM\n\n\n\nResponse 2 DUE: May 27 by 11:59 PM\n\n\n\nTony Tuesday response Download \n\n\n\n\n\n\n\n\n\nIntro to Theatre\n\n\n\n1- Vocab quiz weeks 5 and 6\n\n\n\nStudents will take a quiz on weeks 5 and 6 words on Friday\n\n\n\nVocabulary Download \n\n\n\n2- Choreography Unit\n\n\n\nStudents will run rehearsals on the 3 basic steps. Work on adding face and performance.\n\n\n\nPerformances on Block day\n\n\n\nAll notes in google doc
URL:https://rachelcribbs.com/event/intro-to-theatre-88/
CATEGORIES:Intro to Theatre
END:VEVENT
BEGIN:VEVENT
DTSTART;TZID=America/Los_Angeles:20251117T000000
DTEND;TZID=America/Los_Angeles:20251121T235959
DTSTAMP:20260424T072327
CREATED:20251105T201430Z
LAST-MODIFIED:20251105T201431Z
UID:10002011-1763337600-1763769599@rachelcribbs.com
SUMMARY:Costume
DESCRIPTION:Schedule for the week\n\n\n\nMonday- Traditional\n\n\n\nTuesday- Traditional Meeting\n\n\n\nWednesday- Even\n\n\n\nThursday- Odd\n\n\n\nFriday-Traditional\n\n\n\nTony Tuesday\n\n\n\nThe Outsiders\n\n\n\nResponse 1 DUE: Dec 10 by 11:59 PM\n\n\n\nResponse 2 DUE: May 27 by 11:59 PM\n\n\n\nTony Tuesday response Download \n\n\n\n\n\n\n\n\n\nCostume\n\n\n\n1- Fittings\n\n\n\nStudents will set up fitting appointments with cast. You can get them to come to 6 period or any other outside of class time that works for you.\n\n\n\nJazlyn\, Nathan and Zack finished to prep for the poster photo shoot\n\n\n\n2- Alterations\n\n\n\nWe will begin alterations for costumes first using hand sewing. If we can get time in the sewing lab\, we will learn machines\n\n\n\n3- Stock\n\n\n\nStudents will work on our material ctrain and organize it for better use. We will also work on 500 shoes and jewelry
URL:https://rachelcribbs.com/event/costume-82/
CATEGORIES:Costume
END:VEVENT
END:VCALENDAR