BEGIN:VCALENDAR
VERSION:2.0
PRODID:-//Rachel Cribbs-Hibler - ECPv6.15.20//NONSGML v1.0//EN
CALSCALE:GREGORIAN
METHOD:PUBLISH
X-WR-CALNAME:Rachel Cribbs-Hibler
X-ORIGINAL-URL:https://rachelcribbs.com
X-WR-CALDESC:Events for Rachel Cribbs-Hibler
REFRESH-INTERVAL;VALUE=DURATION:PT1H
X-Robots-Tag:noindex
X-PUBLISHED-TTL:PT1H
BEGIN:VTIMEZONE
TZID:America/Los_Angeles
BEGIN:DAYLIGHT
TZOFFSETFROM:-0800
TZOFFSETTO:-0700
TZNAME:PDT
DTSTART:20240310T100000
END:DAYLIGHT
BEGIN:STANDARD
TZOFFSETFROM:-0700
TZOFFSETTO:-0800
TZNAME:PST
DTSTART:20241103T090000
END:STANDARD
BEGIN:DAYLIGHT
TZOFFSETFROM:-0800
TZOFFSETTO:-0700
TZNAME:PDT
DTSTART:20250309T100000
END:DAYLIGHT
BEGIN:STANDARD
TZOFFSETFROM:-0700
TZOFFSETTO:-0800
TZNAME:PST
DTSTART:20251102T090000
END:STANDARD
BEGIN:DAYLIGHT
TZOFFSETFROM:-0800
TZOFFSETTO:-0700
TZNAME:PDT
DTSTART:20260308T100000
END:DAYLIGHT
BEGIN:STANDARD
TZOFFSETFROM:-0700
TZOFFSETTO:-0800
TZNAME:PST
DTSTART:20261101T090000
END:STANDARD
END:VTIMEZONE
BEGIN:VEVENT
DTSTART;TZID=America/Los_Angeles:20251103T000000
DTEND;TZID=America/Los_Angeles:20251107T235959
DTSTAMP:20260424T061102
CREATED:20251016T143920Z
LAST-MODIFIED:20251028T142933Z
UID:10001982-1762128000-1762559999@rachelcribbs.com
SUMMARY:RTC
DESCRIPTION:RTC \n\n\n\nDates and First semester rehearsal schedule is available here and on the table in LT.\n\n\n\nCheck the landing page on the website for updated details.\n\n\n\nJoin RTC Remind for Company Updates: Text @7ekaf4h to 81010\n\n\n\nRTC instagram: @rhsplayers\n\n\n\n2025 2026 Rtc datesDownload \n\n\n\nS2 2025-2026 scheduleDownload \n\n\n\nFall Workshop\n\n\n\nThursday\, Nov 6\, Holiday Cabaret music rehearsal with Pulido\, 4-6\, studio B\n\n\n\nSkills Workshops Download \n\n\n\nPuffs directed by K. Kirby\n\n\n\nMonday- Rehearsal\, LT\, 4-7\n\n\n\nTuesday-DARK\n\n\n\nWednesday- Rehearsal\, LT\, 4-7\n\n\n\nThursday- DARK\n\n\n\nFriday- DARK\n\n\n\nJoin the Puffs Remind\n\n\n\nSend a text to 81010 write @cd9dbb\n\n\n\n\n\n\n\nWant to work Puffs crew?\n\n\n\nUse the QR code in LT to get to the application. Or click the link\n\n\n\nhttps://docs.google.com/forms/d/e/1FAIpQLSeMcQQfdiVyGn9u_WNyeJz47gg24G0CilzOspjWAJPngE4VuQ/viewform\n\n\n\n\n\n\n\nHoliday Cabaret\n\n\n\nWe are hosting our first ever Holiday Cabaret on Nov 21. Only holiday themed performances will be accepted. Holiday costume pieces encouraged.\n\n\n\nhttps://forms.gle/14DbLP3x5vLb4LpcA\n\n\n\n \n\n\n\nDisney Trip! \n\n\n\nEvery year our Company travels to Disneyland for a theatre or leadership based workshop. This year we are going on January 17\, 2026.\n\n\n\nCost is $250\, paid to Ms. Cribbs-Hibler\n\n\n\nWorkshop: Teamwork the Disney way\n\n\n\ndisney info page\n\n\n\nhttps://www.disneycampus.com/programs/leadership-innovation/teamwork-the-disney-way/
URL:https://rachelcribbs.com/event/rtc-79/
CATEGORIES:RTC
END:VEVENT
BEGIN:VEVENT
DTSTART;TZID=America/Los_Angeles:20251103T000000
DTEND;TZID=America/Los_Angeles:20251107T235959
DTSTAMP:20260424T061102
CREATED:20251027T185100Z
LAST-MODIFIED:20251027T185103Z
UID:10001994-1762128000-1762559999@rachelcribbs.com
SUMMARY:Directors
DESCRIPTION:Schedule for the week\n\n\n\nMonday- Traditional\n\n\n\nTuesday- Traditional Meeting\n\n\n\nWednesday- Even\n\n\n\nThursday- Odd\n\n\n\nFriday-Traditional\n\n\n\nTony Tuesday\n\n\n\nHair\n\n\n\nResponse 1 DUE: Dec 10 by 11:59 PM\n\n\n\nResponse 2 DUE: May 27 by 11:59 PM\n\n\n\nTony Tuesday response Download \n\n\n\n\n\n\n\n\n\nDirectors\n\n\n\n1- Pantomime rehearsals\n\n\n\nStudents will work with their first year students on pantomime. Run rehearsals\, give notes. Google doc for notes\n\n\n\n2- Pantomime evaluation\n\n\n\nStudents will evaluate pantomime performances\n\n\n\n3- Color Design\n\n\n\nStudents will research the meaning of colors and how they will influence their design process. Write design statement for color design
URL:https://rachelcribbs.com/event/directors-79/
CATEGORIES:Directors
END:VEVENT
BEGIN:VEVENT
DTSTART;TZID=America/Los_Angeles:20251103T000000
DTEND;TZID=America/Los_Angeles:20251107T235959
DTSTAMP:20260424T061103
CREATED:20251027T185349Z
LAST-MODIFIED:20251027T185447Z
UID:10001995-1762128000-1762559999@rachelcribbs.com
SUMMARY:Styles
DESCRIPTION:Schedule for the week\n\n\n\nMonday- Traditional\n\n\n\nTuesday- Traditional Meeting\n\n\n\nWednesday- Even\n\n\n\nThursday- Odd\n\n\n\nFriday-Traditional\n\n\n\nTony Tuesday\n\n\n\nHair\n\n\n\nResponse 1 DUE: Dec 10 by 11:59 PM\n\n\n\nResponse 2 DUE: May 27 by 11:59 PM\n\n\n\nTony Tuesday response Download \n\n\n\n\n\n\n\n\n\nStyles\n\n\n\n1- Accent Unit- British RP rehearsal\n\n\n\nStudents will rehearse an RP accent using their tongue twister. Code the script and phonetically write out words\n\n\n\n2- Perform tongue twister\n\n\n\nStudents will perform their tongue twister with an RP English accent on Friday\n\n\n\n3- RP scene work\n\n\n\nStudents will choose their RP scene and begin table work:\n\n\n\nwatch the scene on film\n\n\n\ncode the script\n\n\n\nphonetically write out lines in RP accent
URL:https://rachelcribbs.com/event/styles-82/
CATEGORIES:Styles
END:VEVENT
BEGIN:VEVENT
DTSTART;TZID=America/Los_Angeles:20251103T000000
DTEND;TZID=America/Los_Angeles:20251107T235959
DTSTAMP:20260424T061104
CREATED:20251027T185755Z
LAST-MODIFIED:20251027T185756Z
UID:10001996-1762128000-1762559999@rachelcribbs.com
SUMMARY:Basics
DESCRIPTION:Schedule for the week\n\n\n\nMonday- Traditional\n\n\n\nTuesday- Traditional Meeting\n\n\n\nWednesday- Even\n\n\n\nThursday- Odd\n\n\n\nFriday-Traditional\n\n\n\nTony Tuesday\n\n\n\nHair\n\n\n\nResponse 1 DUE: Dec 10 by 11:59 PM\n\n\n\nResponse 2 DUE: May 27 by 11:59 PM\n\n\n\nTony Tuesday response Download \n\n\n\n\n\n\n\n\n\nBasics\n\n\n\n1- Accent Unit- Southern Accent rehearsal\n\n\n\nStudents will rehearse a Southern Accent using their tongue twister. Code and phonetically write out the script for the accent\n\n\n\n2- Perform tongue twister\n\n\n\nStudents will perform their tongue twister with a Southern accent on Friday\n\n\n\n3-Southern scene work\n\n\n\nStudents will choose their Southern scene and begin table work:\n\n\n\nwatch the scene on film\n\n\n\ncode the script\n\n\n\nphonetically write out lines in Southern accent
URL:https://rachelcribbs.com/event/basics-82/
CATEGORIES:Basics
END:VEVENT
BEGIN:VEVENT
DTSTART;TZID=America/Los_Angeles:20251103T000000
DTEND;TZID=America/Los_Angeles:20251107T235959
DTSTAMP:20260424T061104
CREATED:20251027T190002Z
LAST-MODIFIED:20251027T190004Z
UID:10001997-1762128000-1762559999@rachelcribbs.com
SUMMARY:Theatre 1
DESCRIPTION:Schedule for the week\n\n\n\nMonday- Traditional\n\n\n\nTuesday- Traditional Meeting\n\n\n\nWednesday- Even\n\n\n\nThursday- Odd\n\n\n\nFriday-Traditional\n\n\n\nTony Tuesday\n\n\n\nHair\n\n\n\nResponse 1 DUE: Dec 10 by 11:59 PM\n\n\n\nResponse 2 DUE: May 27 by 11:59 PM\n\n\n\nTony Tuesday response Download \n\n\n\n\n\n\n\n\n\nTheatre 1\n\n\n\n1- Vocab week 5\n\n\n\nStudents will learn vocab week 5\n\n\n\nVocabulary Download \n\n\n\n2- Pantomime unit- rehearsals\n\n\n\nStudents will rehearse their pantomime scenes with their directors\n\n\n\n3- Pantomime performances\n\n\n\nStudents will perform their pantomimes on Friday\n\n\n\nSophie/Syd\n\n\n\nMarcus\, Chyna\, Genny\n\n\n\nJax/Vyni/Bri\n\n\n\nJynx\, A’rynn\, Emma\n\n\n\nPantomime Assignment Download \n\n\n\npantomime-rubric Download
URL:https://rachelcribbs.com/event/theatre-1-85/
CATEGORIES:Theatre 1
END:VEVENT
BEGIN:VEVENT
DTSTART;TZID=America/Los_Angeles:20251103T000000
DTEND;TZID=America/Los_Angeles:20251107T235959
DTSTAMP:20260424T061104
CREATED:20251027T190242Z
LAST-MODIFIED:20251027T190243Z
UID:10001998-1762128000-1762559999@rachelcribbs.com
SUMMARY:Intro to Theatre
DESCRIPTION:Schedule for the week\n\n\n\nMonday- Traditional\n\n\n\nTuesday- Traditional Meeting\n\n\n\nWednesday- Even\n\n\n\nThursday- Odd\n\n\n\nFriday-Traditional\n\n\n\nTony Tuesday\n\n\n\nHair\n\n\n\nResponse 1 DUE: Dec 10 by 11:59 PM\n\n\n\nResponse 2 DUE: May 27 by 11:59 PM\n\n\n\nTony Tuesday response Download \n\n\n\n\n\n\n\n\n\nIntro to Theatre\n\n\n\n1- Vocab week 5\n\n\n\nStudents will learn week 5 words\n\n\n\nVocabulary Download \n\n\n\n2- Tableau rehearsals\n\n\n\nStudents will run rehearsals and work on not breaking. Notes in google doc\n\n\n\ntableau-rubric Download \n\n\n\ntableau-assignment Download \n\n\n\n3- Tableau performances\n\n\n\nStudents will perform their tableau scenes on Friday\n\n\n\nCasts\n\n\n\nLittle Red Riding Hood\n\n\n\nVirgil\n\n\n\nIsmael\n\n\n\nRiah\n\n\n\nMimi\n\n\n\nRenato\n\n\n\nBrianna\n\n\n\n\n\n\n\n\n\n\n\nRapunzel\n\n\n\nAylline\n\n\n\nLilyanna\n\n\n\nAaron\n\n\n\nMindy\n\n\n\nSusan\n\n\n\nNate
URL:https://rachelcribbs.com/event/intro-to-theatre-86/
CATEGORIES:Intro to Theatre
END:VEVENT
BEGIN:VEVENT
DTSTART;TZID=America/Los_Angeles:20251103T000000
DTEND;TZID=America/Los_Angeles:20251107T235959
DTSTAMP:20260424T061104
CREATED:20251027T190421Z
LAST-MODIFIED:20251027T190423Z
UID:10001999-1762128000-1762559999@rachelcribbs.com
SUMMARY:Costume
DESCRIPTION:Schedule for the week\n\n\n\nMonday- Traditional\n\n\n\nTuesday- Traditional Meeting\n\n\n\nWednesday- Even\n\n\n\nThursday- Odd\n\n\n\nFriday-Traditional\n\n\n\nTony Tuesday\n\n\n\nHair\n\n\n\nResponse 1 DUE: Dec 10 by 11:59 PM\n\n\n\nResponse 2 DUE: May 27 by 11:59 PM\n\n\n\nTony Tuesday response Download \n\n\n\n\n\n\n\n\n\nCostume\n\n\n\n1- Fittings\n\n\n\nStudents will set up fitting appointments with cast. You can get them to come to 6 period or any other outside of class time that works for you.\n\n\n\n2- Stock\n\n\n\nStudents will work on our material ctrain and organize it for better use. We will also work on 500 shoes and jewelry
URL:https://rachelcribbs.com/event/costume-80/
CATEGORIES:Costume
END:VEVENT
END:VCALENDAR