BEGIN:VCALENDAR
VERSION:2.0
PRODID:-//Rachel Cribbs-Hibler - ECPv6.15.20//NONSGML v1.0//EN
CALSCALE:GREGORIAN
METHOD:PUBLISH
X-WR-CALNAME:Rachel Cribbs-Hibler
X-ORIGINAL-URL:https://rachelcribbs.com
X-WR-CALDESC:Events for Rachel Cribbs-Hibler
REFRESH-INTERVAL;VALUE=DURATION:PT1H
X-Robots-Tag:noindex
X-PUBLISHED-TTL:PT1H
BEGIN:VTIMEZONE
TZID:America/Los_Angeles
BEGIN:DAYLIGHT
TZOFFSETFROM:-0800
TZOFFSETTO:-0700
TZNAME:PDT
DTSTART:20240310T100000
END:DAYLIGHT
BEGIN:STANDARD
TZOFFSETFROM:-0700
TZOFFSETTO:-0800
TZNAME:PST
DTSTART:20241103T090000
END:STANDARD
BEGIN:DAYLIGHT
TZOFFSETFROM:-0800
TZOFFSETTO:-0700
TZNAME:PDT
DTSTART:20250309T100000
END:DAYLIGHT
BEGIN:STANDARD
TZOFFSETFROM:-0700
TZOFFSETTO:-0800
TZNAME:PST
DTSTART:20251102T090000
END:STANDARD
BEGIN:DAYLIGHT
TZOFFSETFROM:-0800
TZOFFSETTO:-0700
TZNAME:PDT
DTSTART:20260308T100000
END:DAYLIGHT
BEGIN:STANDARD
TZOFFSETFROM:-0700
TZOFFSETTO:-0800
TZNAME:PST
DTSTART:20261101T090000
END:STANDARD
END:VTIMEZONE
BEGIN:VEVENT
DTSTART;TZID=America/Los_Angeles:20251020T000000
DTEND;TZID=America/Los_Angeles:20251024T235959
DTSTAMP:20260424T092312
CREATED:20251010T191055Z
LAST-MODIFIED:20251010T191730Z
UID:10001975-1760918400-1761350399@rachelcribbs.com
SUMMARY:Directors
DESCRIPTION:Schedule for the week\n\n\n\nMonday- Traditional\n\n\n\nTuesday- Traditional Meeting\n\n\n\nWednesday- Even\n\n\n\nThursday- Odd\n\n\n\nFriday-Traditional\n\n\n\nTony Tuesday\n\n\n\nHadestown\n\n\n\nResponse 1 DUE: Dec 10 by 11:59 PM\n\n\n\nResponse 2 DUE: May 27 by 11:59 PM\n\n\n\nTony Tuesday response Download \n\n\n\n\n\n\n\n\n\nDirectors\n\n\n\n1- Production Team Vocab week 5\n\n\n\nStudents will learn the words for vocab week 5\n\n\n\nProduction-Team-Vocabulary Download \n\n\n\n2- Pantomime rehearsals\n\n\n\nStudents will work with their first year students on pantomime. Run rehearsals\, give notes. Google doc for notes\n\n\n\n3- Costume/Makeup Design- work time\n\n\n\nStudents will use this week to complete all costume and makeup requirements for The Rats and their One Act.\n\n\n\nStudents will create:\n\n\n\nCostume requirements list\n\n\n\nCostume research\n\n\n\nCostume plot\n\n\n\nMakeup requirements list\n\n\n\nMakeup research\n\n\n\nMakeup mockups\n\n\n\nCostume WHIM assignmentDownload \n\n\n\nblank-costume-plotDownload
URL:https://rachelcribbs.com/event/directors-77/
CATEGORIES:Directors
END:VEVENT
BEGIN:VEVENT
DTSTART;TZID=America/Los_Angeles:20251020T000000
DTEND;TZID=America/Los_Angeles:20251024T235959
DTSTAMP:20260424T092312
CREATED:20251010T191633Z
LAST-MODIFIED:20251020T151850Z
UID:10001976-1760918400-1761350399@rachelcribbs.com
SUMMARY:Styles
DESCRIPTION:Schedule for the week\n\n\n\nMonday- Traditional\n\n\n\nTuesday- Traditional Meeting\n\n\n\nWednesday- Even\n\n\n\nThursday- Odd\n\n\n\nFriday-Traditional\n\n\n\nTony Tuesday\n\n\n\nHadestown\n\n\n\nResponse 1 DUE: Dec 10 by 11:59 PM\n\n\n\nResponse 2 DUE: May 27 by 11:59 PM\n\n\n\nTony Tuesday response Download \n\n\n\n\n\n\n\n\n\nStyles\n\n\n\n1- Tongue Twister- enunciation\n\n\n\nMemorize your tongue twister for the Accent unit. Students must create a character and perform their tongue twister with perfect enunciation.\n\n\n\n2- Accent Unit- British intro\n\n\n\nStudents will start the accent unit with an introduction to the two British accents we will study: RP and Cockney\n\n\n\ngoogle doc: 1/your name/accent unit
URL:https://rachelcribbs.com/event/styles-80/
CATEGORIES:Styles
END:VEVENT
BEGIN:VEVENT
DTSTART;TZID=America/Los_Angeles:20251020T000000
DTEND;TZID=America/Los_Angeles:20251024T235959
DTSTAMP:20260424T092313
CREATED:20251010T192216Z
LAST-MODIFIED:20251020T202924Z
UID:10001977-1760918400-1761350399@rachelcribbs.com
SUMMARY:Basics
DESCRIPTION:Schedule for the week\n\n\n\nMonday- Traditional\n\n\n\nTuesday- Traditional Meeting\n\n\n\nWednesday- Even\n\n\n\nThursday- Odd\n\n\n\nFriday-Traditional\n\n\n\nTony Tuesday\n\n\n\nHadestown\n\n\n\nResponse 1 DUE: Dec 10 by 11:59 PM\n\n\n\nResponse 2 DUE: May 27 by 11:59 PM\n\n\n\nTony Tuesday response Download \n\n\n\n\n\n\n\n\n\nBasics\n\n\n\n1- Uta Hagen Vocab quiz\n\n\n\nStudents will take a quiz on weeks 3 and 4\n\n\n\nuta-hagen-vocab Download \n\n\n\n2- Tongue Twister- enunciation\n\n\n\nMemorize your tongue twister for the Accent unit. Students must create a character and perform their tongue twister with perfect enunciation.\n\n\n\n3- Accent Unit- American intro\n\n\n\nStudents will start the accent unit with an introduction to the two American accents we will study: Southern and New York\n\n\n\ngoogle doc: 1/your name/accent unit
URL:https://rachelcribbs.com/event/basics-80/
CATEGORIES:Basics
END:VEVENT
BEGIN:VEVENT
DTSTART;TZID=America/Los_Angeles:20251020T000000
DTEND;TZID=America/Los_Angeles:20251024T235959
DTSTAMP:20260424T092314
CREATED:20251016T141822Z
LAST-MODIFIED:20251016T141825Z
UID:10001978-1760918400-1761350399@rachelcribbs.com
SUMMARY:Intro to Theatre
DESCRIPTION:Schedule for the week\n\n\n\nMonday- Traditional\n\n\n\nTuesday- Traditional Meeting\n\n\n\nWednesday- Even\n\n\n\nThursday- Odd\n\n\n\nFriday-Traditional\n\n\n\nTony Tuesday\n\n\n\nHadestown\n\n\n\nResponse 1 DUE: Dec 10 by 11:59 PM\n\n\n\nResponse 2 DUE: May 27 by 11:59 PM\n\n\n\nTony Tuesday response Download \n\n\n\n\n\n\n\n\n\nIntro to Theatre\n\n\n\n1- Vocab week 4\n\n\n\nStudents will learn vocab week 4\n\n\n\nVocabulary Download \n\n\n\n2- Tableau rehearsal\n\n\n\nStudents will block their 3 scenes using their plot diagrams. Run rehearsals and work on breaking\n\n\n\ntableau-rubric Download \n\n\n\ntableau-assignment Download \n\n\n\nCasts\n\n\n\nLittle Red Riding Hood\n\n\n\nVirgil\n\n\n\nIsmael\n\n\n\nRiah\n\n\n\nMimi\n\n\n\nRenato\n\n\n\nBrianna\n\n\n\n\n\n\n\n\n\n\n\nRapunzel\n\n\n\nAylline\n\n\n\nLilyanna\n\n\n\nAaron\n\n\n\nMindy\n\n\n\nSusan\n\n\n\nNate
URL:https://rachelcribbs.com/event/intro-to-theatre-84/
CATEGORIES:Intro to Theatre
END:VEVENT
BEGIN:VEVENT
DTSTART;TZID=America/Los_Angeles:20251020T000000
DTEND;TZID=America/Los_Angeles:20251024T235959
DTSTAMP:20260424T092315
CREATED:20251016T141951Z
LAST-MODIFIED:20251016T141952Z
UID:10001979-1760918400-1761350399@rachelcribbs.com
SUMMARY:Theatre 1
DESCRIPTION:Schedule for the week\n\n\n\nMonday- Traditional\n\n\n\nTuesday- Traditional Meeting\n\n\n\nWednesday- Even\n\n\n\nThursday- Odd\n\n\n\nFriday-Traditional\n\n\n\nTony Tuesday\n\n\n\nHadestown\n\n\n\nResponse 1 DUE: Dec 10 by 11:59 PM\n\n\n\nResponse 2 DUE: May 27 by 11:59 PM\n\n\n\nTony Tuesday response Download \n\n\n\n\n\n\n\n\n\nTheatre 1\n\n\n\n1- Vocab week 4\n\n\n\nStudents will learn vocab words week 4\n\n\n\nVocabulary Download \n\n\n\n2- Pantomime unit- block\n\n\n\nStudents will block their pantomime scenes and run rehearsals with their directors\n\n\n\nSophie/Syd\n\n\n\nMarcus\, Chyna\, Genny\n\n\n\nJax/Vyni/Bri\n\n\n\nJynx\, A’rynn\, Emma\n\n\n\nPantomime Assignment Download \n\n\n\npantomime-rubric Download
URL:https://rachelcribbs.com/event/theatre-1-83/
CATEGORIES:Theatre 1
END:VEVENT
BEGIN:VEVENT
DTSTART;TZID=America/Los_Angeles:20251020T000000
DTEND;TZID=America/Los_Angeles:20251024T235959
DTSTAMP:20260424T092315
CREATED:20251016T142131Z
LAST-MODIFIED:20251016T142133Z
UID:10001980-1760918400-1761350399@rachelcribbs.com
SUMMARY:Costume
DESCRIPTION:Schedule for the week\n\n\n\nMonday- Traditional\n\n\n\nTuesday- Traditional Meeting\n\n\n\nWednesday- Even\n\n\n\nThursday- Odd\n\n\n\nFriday-Traditional\n\n\n\nTony Tuesday\n\n\n\nHadestown\n\n\n\nResponse 1 DUE: Dec 10 by 11:59 PM\n\n\n\nResponse 2 DUE: May 27 by 11:59 PM\n\n\n\nTony Tuesday response Download \n\n\n\n\n\n\n\n\n\nCostume\n\n\n\n1- Fittings\n\n\n\nStudents will set up fitting appointments with cast. You can get them to come to 6 period or any other outside of class time that works for you.\n\n\n\n2- Stock\n\n\n\nStudents will work on our material ctrain and organize it for better use\n\n\n\n3- Hand sewing\n\n\n\nStudents will learn how to hand sew using the whip stitch. Students will learn how to mend garments by hand by building their own pillow\n\n\n\nBasic-Sewing-by-Hand-article Download \n\n\n\nHow to Sew on a Button article Download
URL:https://rachelcribbs.com/event/costume-78/
CATEGORIES:Costume
END:VEVENT
BEGIN:VEVENT
DTSTART;TZID=America/Los_Angeles:20251020T000000
DTEND;TZID=America/Los_Angeles:20251025T235959
DTSTAMP:20260424T092315
CREATED:20250923T144410Z
LAST-MODIFIED:20250924T193432Z
UID:10001961-1760918400-1761436799@rachelcribbs.com
SUMMARY:RTC
DESCRIPTION:RTC\n\n\n\nDates and First semester rehearsal schedule is available here and on the table in LT.\n\n\n\nCheck the landing page on the website for updated details.\n\n\n\nJoin RTC Remind for Company Updates: Text @7ekaf4h to 81010\n\n\n\nRTC instagram: @rhsplayers\n\n\n\n2025 2026 Rtc datesDownload \n\n\n\nS2 2025-2026 scheduleDownload \n\n\n\nFall Workshop\n\n\n\nTuesday\, Oct 21\, Gore/Blood makeup with Kirby\, LT\, 4-7\n\n\n\nSkills Workshops Download \n\n\n\n \n\n\n\nPuffs directed by K. Kirby\n\n\n\nMonday- DARK\n\n\n\nTuesday-DARK\n\n\n\nWednesday- DARK\n\n\n\nThursday- DARK\n\n\n\nFriday- DARK\n\n\n\nJoin the Puffs Remind\n\n\n\nSend a text to 81010 write @cd9dbb\n\n\n\n\n\n\n\nWant to work Puffs crew?\n\n\n\nUse the QR code in LT to get to the application. Or click the link\n\n\n\nhttps://docs.google.com/forms/d/e/1FAIpQLSeMcQQfdiVyGn9u_WNyeJz47gg24G0CilzOspjWAJPngE4VuQ/viewform\n\n\n\n \n\n\n\n \n\n\n\nBoise\, Idaho directed by Sayuri Soto\n\n\n\nMonday- Tech Rehearsal\, LT\, 4-7\n\n\n\nTuesday-Tech Rehearsal\, LT\, 4-7\n\n\n\nWednesday-Tech Rehearsal\, LT\, 4-7\n\n\n\nThursday- Tech Rehearsal\, LT\, 4-7\n\n\n\nFriday-Opening/Cabaret\, LT\, 4-10\n\n\n\nSaturday- Double Header: 2 PM US run\, 7 PM Closing/Cabaret\n\n\n\nJoin One Act Remind: Text @g4beek to 81010\n\n\n\n \n\n\n\n \n\n\n\nDigital script\n\n\n\nBoise Idaho Script Download
URL:https://rachelcribbs.com/event/rtc-77/
CATEGORIES:RTC
END:VEVENT
END:VCALENDAR