BEGIN:VCALENDAR
VERSION:2.0
PRODID:-//Rachel Cribbs-Hibler - ECPv6.15.20//NONSGML v1.0//EN
CALSCALE:GREGORIAN
METHOD:PUBLISH
X-WR-CALNAME:Rachel Cribbs-Hibler
X-ORIGINAL-URL:https://rachelcribbs.com
X-WR-CALDESC:Events for Rachel Cribbs-Hibler
REFRESH-INTERVAL;VALUE=DURATION:PT1H
X-Robots-Tag:noindex
X-PUBLISHED-TTL:PT1H
BEGIN:VTIMEZONE
TZID:America/Los_Angeles
BEGIN:DAYLIGHT
TZOFFSETFROM:-0800
TZOFFSETTO:-0700
TZNAME:PDT
DTSTART:20240310T100000
END:DAYLIGHT
BEGIN:STANDARD
TZOFFSETFROM:-0700
TZOFFSETTO:-0800
TZNAME:PST
DTSTART:20241103T090000
END:STANDARD
BEGIN:DAYLIGHT
TZOFFSETFROM:-0800
TZOFFSETTO:-0700
TZNAME:PDT
DTSTART:20250309T100000
END:DAYLIGHT
BEGIN:STANDARD
TZOFFSETFROM:-0700
TZOFFSETTO:-0800
TZNAME:PST
DTSTART:20251102T090000
END:STANDARD
BEGIN:DAYLIGHT
TZOFFSETFROM:-0800
TZOFFSETTO:-0700
TZNAME:PDT
DTSTART:20260308T100000
END:DAYLIGHT
BEGIN:STANDARD
TZOFFSETFROM:-0700
TZOFFSETTO:-0800
TZNAME:PST
DTSTART:20261101T090000
END:STANDARD
END:VTIMEZONE
BEGIN:VEVENT
DTSTART;TZID=America/Los_Angeles:20251013T000000
DTEND;TZID=America/Los_Angeles:20251016T235959
DTSTAMP:20260424T073746
CREATED:20251006T223135Z
LAST-MODIFIED:20251013T205102Z
UID:10001969-1760313600-1760659199@rachelcribbs.com
SUMMARY:Directors
DESCRIPTION:Schedule for the week\n\n\n\nMonday- Traditional\n\n\n\nTuesday- Traditional\n\n\n\nWednesday- Even\n\n\n\nThursday- Odd\n\n\n\nFriday-NO SCHOOL\n\n\n\nTony Tuesday\n\n\n\nNext to Normal\n\n\n\nResponse 1 DUE: Dec 10 by 11:59 PM\n\n\n\nResponse 2 DUE: May 27 by 11:59 PM\n\n\n\nTony Tuesday response Download \n\n\n\n\n\n\n\n\n\nDirectors\n\n\n\n1- Production Team Vocab week 4\n\n\n\nStudents will learn the words for vocab week 4\n\n\n\nProduction-Team-Vocabulary Download \n\n\n\n2- Pantomime rehearsals\n\n\n\nStudents will be assigned first year students on pantomime. Run rehearsals\, give notes. Google doc for notes\n\n\n\nSophie/Syd\n\n\n\n     Marcus\, Chyna\, Genny\n\n\n\nJax/Vyni/Bri\n\n\n\n       Jynx\, A’rynn\, Emma\n\n\n\n3- Enunciation performance evaluation\n\n\n\nStudents will use the rubric to evaluate all tongue twister performances\n\n\n\n4- Costume/Makeup Design\n\n\n\nStudents will learn about how to design for their costumes. Students will create:\n\n\n\nCostume requirements list\n\n\n\nCostume research\n\n\n\nCostume plot\n\n\n\nMakeup requirements list\n\n\n\nMakeup research\n\n\n\nMakeup mockups\n\n\n\nCostume WHIM assignmentDownload\n\n\n\nblank-costume-plotDownload
URL:https://rachelcribbs.com/event/directors-76/
CATEGORIES:Directors
END:VEVENT
BEGIN:VEVENT
DTSTART;TZID=America/Los_Angeles:20251013T000000
DTEND;TZID=America/Los_Angeles:20251016T235959
DTSTAMP:20260424T073747
CREATED:20251007T143840Z
LAST-MODIFIED:20251010T190744Z
UID:10001970-1760313600-1760659199@rachelcribbs.com
SUMMARY:Styles
DESCRIPTION:Schedule for the week\n\n\n\nMonday- Traditional\n\n\n\nTuesday- Traditional\n\n\n\nWednesday- Even\n\n\n\nThursday- Odd\n\n\n\nFriday-NO SCHOOL\n\n\n\nTony Tuesday\n\n\n\nNext to Normal\n\n\n\nResponse 1 DUE: Dec 10 by 11:59 PM\n\n\n\nResponse 2 DUE: May 27 by 11:59 PM\n\n\n\nTony Tuesday response Download \n\n\n\n\n\n\n\n\n\nStyles\n\n\n\n1- Meisner/Adler scene performance\n\n\n\nStudents will perform Eurydice scenes on Block day\n\n\n\nAdd slate Monday\n\n\n\nGoogle doc\, Techniques and scripts due\n\n\n\n2- Tongue Twister\n\n\n\nMemorize your tongue twister for the Accent unit\n\n\n\n3- Warm ups\n\n\n\nStudents will create a 5 minute warm up for themselves
URL:https://rachelcribbs.com/event/styles-79/
CATEGORIES:Styles
END:VEVENT
BEGIN:VEVENT
DTSTART;TZID=America/Los_Angeles:20251013T000000
DTEND;TZID=America/Los_Angeles:20251016T235959
DTSTAMP:20260424T073747
CREATED:20251007T144058Z
LAST-MODIFIED:20251007T144059Z
UID:10001971-1760313600-1760659199@rachelcribbs.com
SUMMARY:Basics
DESCRIPTION:Schedule for the week\n\n\n\nMonday- Traditional\n\n\n\nTuesday- Traditional\n\n\n\nWednesday- Even\n\n\n\nThursday- Odd\n\n\n\nFriday-NO SCHOOL\n\n\n\nTony Tuesday\n\n\n\nNext to Normal\n\n\n\nResponse 1 DUE: Dec 10 by 11:59 PM\n\n\n\nResponse 2 DUE: May 27 by 11:59 PM\n\n\n\nTony Tuesday response Download \n\n\n\n\n\n\n\n\n\nBasics\n\n\n\n1- Uta Hagen Vocab week 4\n\n\n\nStudents will study the vocab words for week 4\n\n\n\nuta-hagen-vocab Download \n\n\n\n2- Hagen performances\n\n\n\nStudents will perform Earnest scenes on Block day\n\n\n\nGoogle doc\, techniques\, scripts due\n\n\n\n3- Tongue Twister\n\n\n\nMemorize your tongue twister for the Accent unit
URL:https://rachelcribbs.com/event/basics-79/
CATEGORIES:Basics
END:VEVENT
BEGIN:VEVENT
DTSTART;TZID=America/Los_Angeles:20251013T000000
DTEND;TZID=America/Los_Angeles:20251016T235959
DTSTAMP:20260424T073747
CREATED:20251007T144250Z
LAST-MODIFIED:20251013T205003Z
UID:10001972-1760313600-1760659199@rachelcribbs.com
SUMMARY:Theatre 1
DESCRIPTION:Schedule for the week\n\n\n\nMonday- Traditional\n\n\n\nTuesday- Traditional\n\n\n\nWednesday- Even\n\n\n\nThursday- Odd\n\n\n\nFriday-NO SCHOOL\n\n\n\nTony Tuesday\n\n\n\nNext to Normal\n\n\n\nResponse 1 DUE: Dec 10 by 11:59 PM\n\n\n\nResponse 2 DUE: May 27 by 11:59 PM\n\n\n\nTony Tuesday response Download \n\n\n\n\n\n\n\n\n\nTheatre 1\n\n\n\n1- Vocab week 3\n\n\n\nStudents will learn vocab words week 3\n\n\n\nVocabulary Download \n\n\n\n2- Enunciation Unit- performance\n\n\n\nStudents will perform their tongue twister on block day\n\n\n\nGoogle doc\, scripts due\n\n\n\n3- Pantomime unit- block\n\n\n\nStudents will block their pantomime scenes\n\n\n\nSophie/Syd\n\n\n\n      Marcus\, Chyna\, Genny\n\n\n\nJax/Vyni/Bri\n\n\n\n      Jynx\, A’rynn\, Emma\n\n\n\nPantomime Assignment Download \n\n\n\npantomime-rubric Download
URL:https://rachelcribbs.com/event/theatre-1-82/
CATEGORIES:Theatre 1
END:VEVENT
BEGIN:VEVENT
DTSTART;TZID=America/Los_Angeles:20251013T000000
DTEND;TZID=America/Los_Angeles:20251016T235959
DTSTAMP:20260424T073747
CREATED:20251007T144522Z
LAST-MODIFIED:20251013T205434Z
UID:10001973-1760313600-1760659199@rachelcribbs.com
SUMMARY:Intro to Theatre
DESCRIPTION:Schedule for the week\n\n\n\nMonday- Traditional\n\n\n\nTuesday- Traditional\n\n\n\nWednesday- Even\n\n\n\nThursday- Odd\n\n\n\nFriday-NO SCHOOL\n\n\n\nTony Tuesday\n\n\n\nNext to Normal\n\n\n\nResponse 1 DUE: Dec 10 by 11:59 PM\n\n\n\nResponse 2 DUE: May 27 by 11:59 PM\n\n\n\nTony Tuesday response Download \n\n\n\n\n\n\n\n\n\nIntro to Theatre\n\n\n\n1- Vocab week 3\n\n\n\nStudents will learn vocab week 3\n\n\n\nVocabulary Download \n\n\n\n2- Tableau introduction\n\n\n\nStudents will learn the parts of a story and how to break a story into parts. Students will divide into casts and read a fairy tale. Students will break the fairy tale into 3 parts of a story and block a 3 scene tableau performance from their fairy tale\n\n\n\ntableau-rubricDownload\n\n\n\ntableau-assignmentDownload\n\n\n\nCasts\n\n\n\nLittle Red Riding Hood\n\n\n\nVirgil\n\n\n\nIsmael\n\n\n\nRiah\n\n\n\nMimi\n\n\n\nRenato\n\n\n\nBrianna\n\n\n\n\n\n\n\n\n\n\n\nRapunzel\n\n\n\nAylline\n\n\n\nLilyanna\n\n\n\nAaron\n\n\n\nMindy\n\n\n\nSusan\n\n\n\nNate
URL:https://rachelcribbs.com/event/intro-to-theatre-83/
CATEGORIES:Intro to Theatre
END:VEVENT
BEGIN:VEVENT
DTSTART;TZID=America/Los_Angeles:20251013T000000
DTEND;TZID=America/Los_Angeles:20251016T235959
DTSTAMP:20260424T073747
CREATED:20251007T144716Z
LAST-MODIFIED:20251007T144717Z
UID:10001974-1760313600-1760659199@rachelcribbs.com
SUMMARY:Costume
DESCRIPTION:Schedule for the week\n\n\n\nMonday- Traditional\n\n\n\nTuesday- Traditional\n\n\n\nWednesday- Even\n\n\n\nThursday- Odd\n\n\n\nFriday-NO SCHOOL\n\n\n\nTony Tuesday\n\n\n\nNext to Normal\n\n\n\nResponse 1 DUE: Dec 10 by 11:59 PM\n\n\n\nResponse 2 DUE: May 27 by 11:59 PM\n\n\n\nTony Tuesday response Download \n\n\n\n\n\n\n\n\n\nCostume\n\n\n\n1- Fittings\n\n\n\nStudents will set up fitting appointments with cast. You can get them to come to 6 period or any other outside of class time that works for you.\n\n\n\n2- Hand sewing\n\n\n\nStudents will learn how to hand sew using the whip stitch. Students will learn how to mend garments by hand by building their own pillow\n\n\n\nBasic-Sewing-by-Hand-articleDownload\n\n\n\nHow to Sew on a Button articleDownload
URL:https://rachelcribbs.com/event/costume-77/
CATEGORIES:Costume
END:VEVENT
BEGIN:VEVENT
DTSTART;TZID=America/Los_Angeles:20251013T000000
DTEND;TZID=America/Los_Angeles:20251017T235959
DTSTAMP:20260424T073747
CREATED:20250923T144100Z
LAST-MODIFIED:20251007T000403Z
UID:10001960-1760313600-1760745599@rachelcribbs.com
SUMMARY:RTC
DESCRIPTION:RTC\n\n\n\nDates and First semester rehearsal schedule is available here and on the table in LT.\n\n\n\nCheck the landing page on the website for updated details.\n\n\n\nJoin RTC Remind for Company Updates: Text @7ekaf4h to 81010\n\n\n\nRTC instagram: @rhsplayers\n\n\n\n2025 2026 Rtc datesDownload \n\n\n\nS2 2025-2026 scheduleDownload \n\n\n\nFall Workshop\n\n\n\nTuesday\, Oct 14 Fall One Act Show prep with Crossman\, scene shop\, 4-6\n\n\n\nSkills Workshops Download \n\n\n\nVocal Workshop flyer fall 2025Download \n\n\n\nPuffs directed by K. Kirby\n\n\n\nMonday- Rehearsal\, LT\, 4-7\, dance and trick call\n\n\n\nTuesday-DARK\n\n\n\nWednesday- Rehearsal\, LT\, 4-7\n\n\n\nThursday- DARK\n\n\n\nFriday- DARK\n\n\n\nJoin the Puffs Remind\n\n\n\nSend a text to 81010 write @cd9dbb\n\n\n\n\n\n\n\nWant to work Puffs crew?\n\n\n\nUse the QR code in LT to get to the application. Or click the link\n\n\n\nhttps://docs.google.com/forms/d/e/1FAIpQLSeMcQQfdiVyGn9u_WNyeJz47gg24G0CilzOspjWAJPngE4VuQ/viewform\n\n\n\n \n\n\n\n \n\n\n\nBoise\, Idaho directed by Sayuri Soto\n\n\n\nMonday-DARK\n\n\n\nTuesday-Workshop with Crossman\, Scene shop\, 4-6\n\n\n\nWednesday-DARK\n\n\n\nThursday- Rehearsal\, LT\, 4-6\n\n\n\nFriday-DARK\n\n\n\nJoin One Act Remind: Text @g4beek to 81010\n\n\n\n \n\n\n\nDigital script\n\n\n\nBoise Idaho ScriptDownload \n\n\n\n \n\n\n\nWant to work Boise\, Idaho crew?\n\n\n\nUse the QR code in LT to get to the application. Or click the link\n\n\n\nhttps://docs.google.com/forms/d/e/1FAIpQLSet2-U2POYMXwWJZiOVpLVblzkaX-44h56kZqxsg08hRcEHag/viewform\n\n\n\n \n\n\n\n \n\n\n\nCabaret\n\n\n\nEach performance of Boise\, Idaho will have a cabaret following it. Sign up to perform in one or both.\n\n\n\nhttps://forms.gle/5c1kmQJVDevSkuo26
URL:https://rachelcribbs.com/event/rtc-76/
CATEGORIES:RTC
END:VEVENT
END:VCALENDAR