BEGIN:VCALENDAR
VERSION:2.0
PRODID:-//Rachel Cribbs-Hibler - ECPv6.15.20//NONSGML v1.0//EN
CALSCALE:GREGORIAN
METHOD:PUBLISH
X-WR-CALNAME:Rachel Cribbs-Hibler
X-ORIGINAL-URL:https://rachelcribbs.com
X-WR-CALDESC:Events for Rachel Cribbs-Hibler
REFRESH-INTERVAL;VALUE=DURATION:PT1H
X-Robots-Tag:noindex
X-PUBLISHED-TTL:PT1H
BEGIN:VTIMEZONE
TZID:America/Los_Angeles
BEGIN:DAYLIGHT
TZOFFSETFROM:-0800
TZOFFSETTO:-0700
TZNAME:PDT
DTSTART:20240310T100000
END:DAYLIGHT
BEGIN:STANDARD
TZOFFSETFROM:-0700
TZOFFSETTO:-0800
TZNAME:PST
DTSTART:20241103T090000
END:STANDARD
BEGIN:DAYLIGHT
TZOFFSETFROM:-0800
TZOFFSETTO:-0700
TZNAME:PDT
DTSTART:20250309T100000
END:DAYLIGHT
BEGIN:STANDARD
TZOFFSETFROM:-0700
TZOFFSETTO:-0800
TZNAME:PST
DTSTART:20251102T090000
END:STANDARD
BEGIN:DAYLIGHT
TZOFFSETFROM:-0800
TZOFFSETTO:-0700
TZNAME:PDT
DTSTART:20260308T100000
END:DAYLIGHT
BEGIN:STANDARD
TZOFFSETFROM:-0700
TZOFFSETTO:-0800
TZNAME:PST
DTSTART:20261101T090000
END:STANDARD
END:VTIMEZONE
BEGIN:VEVENT
DTSTART;TZID=America/Los_Angeles:20250519T000000
DTEND;TZID=America/Los_Angeles:20250523T235959
DTSTAMP:20260425T122333
CREATED:20250212T172515Z
LAST-MODIFIED:20250505T171417Z
UID:10001803-1747612800-1748044799@rachelcribbs.com
SUMMARY:RTC
DESCRIPTION:Monday- Puffs Auditions\, LT\, 4-7\n\n\n\nTuesday- Puffs Auditions\, LT\, 3:30-7\n\n\n\nWednesday-Puffs Callbacks\, LT\, 4-7\n\n\n\nThursday-DARK\n\n\n\nFriday- Cast and Crew list posted by 7 PM\n\n\n\n \n\n\n\nAudition materials\n\n\n\nTo prepare for PUFFS please bring a comedic monologue\, cold read is fine but memorization preferred. Come ready to move. Please fill out and audition form before your audition\n\n\n\nAudition slot sign up\n\n\n\nhttps://www.signupgenius.com/go/10C0B49A5A82AA4F5C25-56682539-puffs#\n\n\n\nCast Audition form\, please complete prior to audition date\n\n\n\nhttps://forms.gle/vun5PbZ8bVA1t8tp8\n\n\n\n \n\n\n\nConflicts form\n\n\n\nhttps://forms.gle/yybCgTu49Hpry2a46\n\n\n\n \n\n\n\nPuffs Directors Statement V2Download\n\n\n\nPuffs character breakdownDownload\n\n\n\nPuffs sidesDownload
URL:https://rachelcribbs.com/event/rtc-65/
CATEGORIES:RTC
END:VEVENT
BEGIN:VEVENT
DTSTART;TZID=America/Los_Angeles:20250519T000000
DTEND;TZID=America/Los_Angeles:20250523T235959
DTSTAMP:20260425T122333
CREATED:20250505T145426Z
LAST-MODIFIED:20250505T145427Z
UID:10001867-1747612800-1748044799@rachelcribbs.com
SUMMARY:Styles
DESCRIPTION:Schedule for the week\n\n\n\nMonday- Traditional\n\n\n\nTuesday- Traditional Meeting\n\n\n\nWednesday- Even\n\n\n\nThursday- Odd\n\n\n\nFriday- Traditional\n\n\n\nTony Tuesday\n\n\n\nWest Side Story\n\n\n\nResponse 2 DUE: May 28 by 11:59 PM\n\n\n\nTony Tuesday response Download \n\n\n\n\n\n\n\n\n\nStyles\n\n\n\n1- One Acts- Director statement\n\n\n\nStudents will write their Director’s statement for their One Act. Rough draft.\n\n\n\nDescedants-directors-statement Download \n\n\n\nMermaid directors statement Download \n\n\n\n2- Research\n\n\n\nStudents will research all the elements of their show.
URL:https://rachelcribbs.com/event/styles-68/
CATEGORIES:Styles
END:VEVENT
BEGIN:VEVENT
DTSTART;TZID=America/Los_Angeles:20250519T000000
DTEND;TZID=America/Los_Angeles:20250523T235959
DTSTAMP:20260425T122333
CREATED:20250507T161159Z
LAST-MODIFIED:20250507T161658Z
UID:10001868-1747612800-1748044799@rachelcribbs.com
SUMMARY:Basics
DESCRIPTION:Schedule for the week\n\n\n\nMonday- Traditional\n\n\n\nTuesday- Traditional Meeting\n\n\n\nWednesday- Even\n\n\n\nThursday- Odd\n\n\n\nFriday- Traditional\n\n\n\nTony Tuesday\n\n\n\nWest Side Story\n\n\n\nResponse 2 DUE: May 28 by 11:59 PM\n\n\n\nTony Tuesday response Download \n\n\n\n\n\n\n\n\n\nBasics\n\n\n\n1- Commedia scene work\n\n\n\nStudents will work on a scene in class from A Haunted House. Students will improv through the script.\n\n\n\n2- Commedia performance\n\n\n\nStudents will perform A Haunted House on Friday
URL:https://rachelcribbs.com/event/basics-68/
CATEGORIES:Basics
END:VEVENT
BEGIN:VEVENT
DTSTART;TZID=America/Los_Angeles:20250519T000000
DTEND;TZID=America/Los_Angeles:20250523T235959
DTSTAMP:20260425T122334
CREATED:20250507T161557Z
LAST-MODIFIED:20250507T161558Z
UID:10001869-1747612800-1748044799@rachelcribbs.com
SUMMARY:Directors
DESCRIPTION:Schedule for the week\n\n\n\nMonday- Traditional\n\n\n\nTuesday- Traditional Meeting\n\n\n\nWednesday- Even\n\n\n\nThursday- Odd\n\n\n\nFriday- Traditional\n\n\n\nTony Tuesday\n\n\n\nWest Side Story\n\n\n\nResponse 2 DUE: May 28 by 11:59 PM\n\n\n\nTony Tuesday response Download \n\n\n\n\n\n\n\n\n\nDirectors\n\n\n\n1- Acting Technique\n\n\n\nStudents will work on a scene using the Alexander acting technique\n\n\n\nThe Alexander Technique Download \n\n\n\n2- Sword combat\n\n\n\nStudents will work with a partner to create a scene using sword combat.
URL:https://rachelcribbs.com/event/directors-66/
CATEGORIES:Directors
END:VEVENT
BEGIN:VEVENT
DTSTART;TZID=America/Los_Angeles:20250519T000000
DTEND;TZID=America/Los_Angeles:20250523T235959
DTSTAMP:20260425T122334
CREATED:20250507T161843Z
LAST-MODIFIED:20250507T161844Z
UID:10001870-1747612800-1748044799@rachelcribbs.com
SUMMARY:Costume
DESCRIPTION:Schedule for the week\n\n\n\nMonday- Traditional\n\n\n\nTuesday- Traditional Meeting\n\n\n\nWednesday- Even\n\n\n\nThursday- Odd\n\n\n\nFriday- Traditional\n\n\n\nTony Tuesday\n\n\n\nWest Side Story\n\n\n\nResponse 2 DUE: May 28 by 11:59 PM\n\n\n\nTony Tuesday response Download \n\n\n\n\n\n\n\n\n\nCostume\n\n\n\n1- Stock\n\n\n\nStudents will work on stock in C-train\n\n\n\n2- Makeup- blood\n\n\n\nStudents will learn how to design and apply blood makeup
URL:https://rachelcribbs.com/event/costume-66/
CATEGORIES:Costume
END:VEVENT
BEGIN:VEVENT
DTSTART;TZID=America/Los_Angeles:20250519T000000
DTEND;TZID=America/Los_Angeles:20250523T235959
DTSTAMP:20260425T122334
CREATED:20250507T204039Z
LAST-MODIFIED:20250507T204041Z
UID:10001871-1747612800-1748044799@rachelcribbs.com
SUMMARY:Theatre 1
DESCRIPTION:Schedule for the week\n\n\n\nMonday- Traditional\n\n\n\nTuesday- Traditional Meeting\n\n\n\nWednesday- Even\n\n\n\nThursday- Odd\n\n\n\nFriday- Traditional\n\n\n\nTony Tuesday\n\n\n\nWest Side Story\n\n\n\nResponse 2 DUE: May 28 by 11:59 PM\n\n\n\nTony Tuesday response Download \n\n\n\n\n\n\n\n\n\nTheatre 1\n\n\n\n1- Monday● Song #13● “Defying Gravity” Performances● New Song Selection Check In● Group Choreo Time2- Tuesday● Tony Tuesday● Song #14● I Want Song Rehearsal3- Thursday (BLOCK)● Song #15● I Want Song Rehearsal● Group Choreo Time4- Friday● Song #16● I Want Song Rehearsal● Choreo if time allows
URL:https://rachelcribbs.com/event/theatre-1-71/
CATEGORIES:Theatre 1
END:VEVENT
BEGIN:VEVENT
DTSTART;TZID=America/Los_Angeles:20250519T000000
DTEND;TZID=America/Los_Angeles:20250523T235959
DTSTAMP:20260425T122334
CREATED:20250507T204303Z
LAST-MODIFIED:20250507T204337Z
UID:10001872-1747612800-1748044799@rachelcribbs.com
SUMMARY:Intro to Theatre
DESCRIPTION:Schedule for the week\n\n\n\nMonday- Traditional\n\n\n\nTuesday- Traditional Meeting\n\n\n\nWednesday- Even\n\n\n\nThursday- Odd\n\n\n\nFriday- Traditional\n\n\n\nTony Tuesday\n\n\n\nWest Side Story\n\n\n\nResponse 2 DUE: May 28 by 11:59 PM\n\n\n\nTony Tuesday response Download \n\n\n\n\n\n\n\n\n\nIntro to Theatre
URL:https://rachelcribbs.com/event/intro-to-theatre-72/
CATEGORIES:Intro to Theatre
END:VEVENT
END:VCALENDAR