BEGIN:VCALENDAR
VERSION:2.0
PRODID:-//Rachel Cribbs-Hibler - ECPv6.15.20//NONSGML v1.0//EN
CALSCALE:GREGORIAN
METHOD:PUBLISH
X-ORIGINAL-URL:https://rachelcribbs.com
X-WR-CALDESC:Events for Rachel Cribbs-Hibler
REFRESH-INTERVAL;VALUE=DURATION:PT1H
X-Robots-Tag:noindex
X-PUBLISHED-TTL:PT1H
BEGIN:VTIMEZONE
TZID:America/Los_Angeles
BEGIN:DAYLIGHT
TZOFFSETFROM:-0800
TZOFFSETTO:-0700
TZNAME:PDT
DTSTART:20240310T100000
END:DAYLIGHT
BEGIN:STANDARD
TZOFFSETFROM:-0700
TZOFFSETTO:-0800
TZNAME:PST
DTSTART:20241103T090000
END:STANDARD
BEGIN:DAYLIGHT
TZOFFSETFROM:-0800
TZOFFSETTO:-0700
TZNAME:PDT
DTSTART:20250309T100000
END:DAYLIGHT
BEGIN:STANDARD
TZOFFSETFROM:-0700
TZOFFSETTO:-0800
TZNAME:PST
DTSTART:20251102T090000
END:STANDARD
BEGIN:DAYLIGHT
TZOFFSETFROM:-0800
TZOFFSETTO:-0700
TZNAME:PDT
DTSTART:20260308T100000
END:DAYLIGHT
BEGIN:STANDARD
TZOFFSETFROM:-0700
TZOFFSETTO:-0800
TZNAME:PST
DTSTART:20261101T090000
END:STANDARD
END:VTIMEZONE
BEGIN:VEVENT
DTSTART;TZID=America/Los_Angeles:20250312T000000
DTEND;TZID=America/Los_Angeles:20250316T235959
DTSTAMP:20260425T150908
CREATED:20240829T163200Z
LAST-MODIFIED:20250117T161814Z
UID:10001646-1741737600-1742169599@rachelcribbs.com
SUMMARY:She Loves Me
DESCRIPTION:She Loves Me directed by Taylor Lopez\n\n\n\nWednesday- School matinee\, Understudy rehearsal/test\, 7 AM-4 PM\n\n\n\nStudents will be dropped off at MEMO by 7 AM for the 9:30 AM school show. Dress rehearsal/show test with understudies following. Lunch between shows. Students picked up at MEMO\n\n\n\nHibler reserves the right to pull any Understudy from the performance demonstrating they are not prepared for this rehearsal.\n\n\n\nThursday- DARK\n\n\n\nFriday- Evening show\, 4-10 PM\n\n\n\nBus leaves RHS at 5 PM. Students can do preshow prep in LT\, (makeup\, hair). Students will be picked up at MEMO after the show. Once you are finished with your end of show prep\, you can leave. No closing green room.\n\n\n\nSaturday- US Matinee and Evening show\, Noon-10 PM\n\n\n\nStudents will be dropped off at MEMO by noon for the 2 PM matinee. Lunch between shows. Students will be picked up at MEMO after the show. Once you are finished with your end of show prep\, you can leave. No closing green room.\n\n\n\nUS Matinee- no US is guaranteed this performance if Hibler determines they are not prepared.\n\n\n\nSunday- Senior Celebration Matinee and Load Out\, Noon-10 PM\n\n\n\nStudents will be dropped off at MEMO by noon for the 2 PM matinee. Students will be picked up at MEMO after load out. We need parents and students to help load the truck. Once the truck is loaded\, all are dismissed.\n\n\n\n\n\n\n\nMusic is available on Rehearscore. Be sure you download the app. If you don’t have access to the show\, please text Hibler for an invite.\n\n\n\n\n\n\n\nOff book date: Jan 27\n\n\n\nMEMO calls and plan:\n\n\n\nSLM MEMO callsDownload \n\n\n\nBe sure your parents have a copy of the plan\n\n\n\nRemind\n\n\n\ntext @3k74ea to 81010\n\n\n\nGoogle Classroom\n\n\n\nefx344m\n\n\n\nForms\n\n\n\nAll parents and students MUST read and sign the contract and return it BEFORE being allowed to work on the show. Parents and students MUST read the SLM parent meeting and RTC Production Requirements. Parents must contact Hibler at 661-319-0800 confirming their acceptance of our policies\n\n\n\nSLM parent meeting Download \n\n\n\nRTC Production Requirements Download \n\n\n\nS1 2024-2025 schedule Download \n\n\n\nS2 2024-2025 schedule Download
URL:https://rachelcribbs.com/event/she-loves-me-2/
CATEGORIES:RTC
END:VEVENT
END:VCALENDAR