BEGIN:VCALENDAR
VERSION:2.0
PRODID:-//Rachel Cribbs-Hibler - ECPv6.15.20//NONSGML v1.0//EN
CALSCALE:GREGORIAN
METHOD:PUBLISH
X-ORIGINAL-URL:https://rachelcribbs.com
X-WR-CALDESC:Events for Rachel Cribbs-Hibler
REFRESH-INTERVAL;VALUE=DURATION:PT1H
X-Robots-Tag:noindex
X-PUBLISHED-TTL:PT1H
BEGIN:VTIMEZONE
TZID:America/Los_Angeles
BEGIN:DAYLIGHT
TZOFFSETFROM:-0800
TZOFFSETTO:-0700
TZNAME:PDT
DTSTART:20240310T100000
END:DAYLIGHT
BEGIN:STANDARD
TZOFFSETFROM:-0700
TZOFFSETTO:-0800
TZNAME:PST
DTSTART:20241103T090000
END:STANDARD
BEGIN:DAYLIGHT
TZOFFSETFROM:-0800
TZOFFSETTO:-0700
TZNAME:PDT
DTSTART:20250309T100000
END:DAYLIGHT
BEGIN:STANDARD
TZOFFSETFROM:-0700
TZOFFSETTO:-0800
TZNAME:PST
DTSTART:20251102T090000
END:STANDARD
BEGIN:DAYLIGHT
TZOFFSETFROM:-0800
TZOFFSETTO:-0700
TZNAME:PDT
DTSTART:20260308T100000
END:DAYLIGHT
BEGIN:STANDARD
TZOFFSETFROM:-0700
TZOFFSETTO:-0800
TZNAME:PST
DTSTART:20261101T090000
END:STANDARD
END:VTIMEZONE
BEGIN:VEVENT
DTSTART;TZID=America/Los_Angeles:20250310T000000
DTEND;TZID=America/Los_Angeles:20250311T235959
DTSTAMP:20260425T151016
CREATED:20250226T154925Z
LAST-MODIFIED:20250226T155024Z
UID:10001825-1741564800-1741737599@rachelcribbs.com
SUMMARY:RTC
DESCRIPTION:Monday- DARK\n\n\n\nTuesday- DARK
URL:https://rachelcribbs.com/event/rtc-67/
CATEGORIES:RTC
END:VEVENT
BEGIN:VEVENT
DTSTART;TZID=America/Los_Angeles:20250311T000000
DTEND;TZID=America/Los_Angeles:20250314T235959
DTSTAMP:20260425T151016
CREATED:20250213T220154Z
LAST-MODIFIED:20250220T215410Z
UID:10001807-1741651200-1741996799@rachelcribbs.com
SUMMARY:Styles
DESCRIPTION:Schedule for the Week \n\n\n\nMonday- NO SCHOOL\n\n\n\nTuesday- Traditional\n\n\n\nWednesday- Even\n\n\n\nThursday- Odd\n\n\n\nFriday- Traditional\n\n\n\nTony Tuesday\n\n\n\nSix\n\n\n\nResponse 2 DUE: May 28 by 11:59 PM\n\n\n\nTony Tuesday response Download \n\n\n\n\n\n\n\n\n\nStyles\n\n\n\n1- Shakespeare monologue\n\n\n\nStudents will work on their monologue. Rehearsal\n\n\n\n2- Shakespeare scene rehearsal\n\n\n\nStudents will rehearse their scenes\n\n\n\n3- Othello\n\n\n\nWe will watch scenes from Othello
URL:https://rachelcribbs.com/event/styles-59/
CATEGORIES:Styles
END:VEVENT
BEGIN:VEVENT
DTSTART;TZID=America/Los_Angeles:20250311T000000
DTEND;TZID=America/Los_Angeles:20250314T235959
DTSTAMP:20260425T151017
CREATED:20250214T171505Z
LAST-MODIFIED:20250214T171506Z
UID:10001808-1741651200-1741996799@rachelcribbs.com
SUMMARY:Basics
DESCRIPTION:Schedule for the Week\n\n\n\nMonday- NO SCHOOL\n\n\n\nTuesday- Traditional\n\n\n\nWednesday- Even\n\n\n\nThursday- Odd\n\n\n\nFriday- Traditional\n\n\n\nTony Tuesday\n\n\n\nSix\n\n\n\nResponse 2 DUE: May 28 by 11:59 PM\n\n\n\nTony Tuesday response Download \n\n\n\n\n\n\n\n\n\nBasics\n\n\n\n1- Monologue\n\n\n\nStudents will rehearse their monologue. Check in this week\n\n\n\n2- The Two Harlequins\n\n\n\nStudents will read and code a Commedia play\n\n\n\nTHE TWO HARLEQUINS commedia play Download
URL:https://rachelcribbs.com/event/basics-59/
CATEGORIES:Basics
END:VEVENT
BEGIN:VEVENT
DTSTART;TZID=America/Los_Angeles:20250311T000000
DTEND;TZID=America/Los_Angeles:20250314T235959
DTSTAMP:20260425T151017
CREATED:20250214T171749Z
LAST-MODIFIED:20250311T144342Z
UID:10001809-1741651200-1741996799@rachelcribbs.com
SUMMARY:Directors
DESCRIPTION:Schedule for the Week\n\n\n\nMonday- NO SCHOOL\n\n\n\nTuesday- Traditional\n\n\n\nWednesday- Even\n\n\n\nThursday- Odd\n\n\n\nFriday- Traditional\n\n\n\nTony Tuesday\n\n\n\nSix\n\n\n\nResponse 2 DUE: May 28 by 11:59 PM\n\n\n\nTony Tuesday response Download \n\n\n\n\n\n\n\n\n\nDirectors\n\n\n\n1- Set/Props needs\n\n\n\nDirectors will write out what set pieces they need for their show and have an opportunity to talk to Kirby and Carey about what items they need for their show\n\n\n\nSet Appointments- Carey\n\n\n\nThursday 3 period- all meetings\n\n\n\n \n\n\n\n2- Costume needs\n\n\n\nDirectors will write out what costumes they need for their show and have an opportunity to talk to their costume designer about what items they need for their show\n\n\n\nCostume Appointments- Hibler\n\n\n\nTuesday 3 period- Niko/Isela\n\n\n\nZoey/Isela/Izzy\n\n\n\nMilo/Leo\n\n\n\nDaniel/Leo/Elz\n\n\n\nTuesday 6 period- Izzy/Abrina
URL:https://rachelcribbs.com/event/directors-57/
CATEGORIES:Directors
END:VEVENT
BEGIN:VEVENT
DTSTART;TZID=America/Los_Angeles:20250311T000000
DTEND;TZID=America/Los_Angeles:20250314T235959
DTSTAMP:20260425T151017
CREATED:20250214T171929Z
LAST-MODIFIED:20250214T171931Z
UID:10001810-1741651200-1741996799@rachelcribbs.com
SUMMARY:Theatre 1
DESCRIPTION:Schedule for the Week\n\n\n\nMonday- NO SCHOOL\n\n\n\nTuesday- Traditional\n\n\n\nWednesday- Even\n\n\n\nThursday- Odd\n\n\n\nFriday- Traditional\n\n\n\nTony Tuesday\n\n\n\nSix\n\n\n\nResponse 2 DUE: May 28 by 11:59 PM\n\n\n\nTony Tuesday response Download \n\n\n\n\n\n\n\n\n\nTheatre 1\n\n\n\n1- Rehearsal\n\n\n\nStudents will run rehearsal for YCTIWY. All blocking and notes in script and google doc.\n\n\n\n2- Monologue\n\n\n\nStudents will memorize their monologue. Students will do character work for their monologue character. Check in this week
URL:https://rachelcribbs.com/event/theatre-1-62/
CATEGORIES:Theatre 1
END:VEVENT
BEGIN:VEVENT
DTSTART;TZID=America/Los_Angeles:20250311T000000
DTEND;TZID=America/Los_Angeles:20250314T235959
DTSTAMP:20260425T151017
CREATED:20250214T172127Z
LAST-MODIFIED:20250214T172129Z
UID:10001811-1741651200-1741996799@rachelcribbs.com
SUMMARY:Intro to Theatre
DESCRIPTION:Schedule for the Week\n\n\n\nMonday- NO SCHOOL\n\n\n\nTuesday- Traditional\n\n\n\nWednesday- Even\n\n\n\nThursday- Odd\n\n\n\nFriday- Traditional\n\n\n\nTony Tuesday\n\n\n\nSix\n\n\n\nResponse 2 DUE: May 28 by 11:59 PM\n\n\n\nTony Tuesday response Download \n\n\n\n\n\n\n\n\n\nIntro to Theatre\n\n\n\n1- Monologue- beat and chunk\n\n\n\nWe will work on the Vanda monologue together- learn to beat and chunk\n\n\n\nvanda monologue Download
URL:https://rachelcribbs.com/event/intro-to-theatre-63/
CATEGORIES:Intro to Theatre
END:VEVENT
BEGIN:VEVENT
DTSTART;TZID=America/Los_Angeles:20250311T000000
DTEND;TZID=America/Los_Angeles:20250314T235959
DTSTAMP:20260425T151017
CREATED:20250214T174002Z
LAST-MODIFIED:20250307T223132Z
UID:10001812-1741651200-1741996799@rachelcribbs.com
SUMMARY:Costume
DESCRIPTION:Schedule for the Week\n\n\n\nMonday- NO SCHOOL\n\n\n\nTuesday- Traditional\n\n\n\nWednesday- Even\n\n\n\nThursday- Odd\n\n\n\nFriday- Traditional\n\n\n\nTony Tuesday\n\n\n\nSix\n\n\n\nResponse 2 DUE: May 28 by 11:59 PM\n\n\n\nTony Tuesday response Download \n\n\n\n\n\n\n\n\n\nCostume\n\n\n\n1- OA designs\n\n\n\nStudents will work on their OA designs. Mock ups\, discuss with director\, research\n\n\n\nCostume Appointments- Hibler\n\n\n\nTuesday 3 period- Niko/Isela\n\n\n\nZoey/Isela/Izzy\n\n\n\nMilo/Leo\n\n\n\nDaniel/Leo/Elz\n\n\n\nTuesday 6 period- Izzy/Abrina
URL:https://rachelcribbs.com/event/costume-57/
CATEGORIES:Costume
END:VEVENT
END:VCALENDAR